Workbook
Name JR_PAGE_ANCHOR_0_1: [1]orcamento!#REF!
Name JR_PAGE_ANCHOR_0_1: [2]orcamento!#REF!

Sheet BM20
C1: BM20 - Boletim de Medição
B4: ESTADO DA PARAÍBA
B5: PREFEITURA MUNICIPAL DE SOUSA - PB
A6: Objetivo | G6: Agente Promotor | K6: Data de Emissão | L6: Nº BM
A7: REFORMA E AMPLIAÇÃO DA SECRETARIA DE EDUCAÇÃO, NO MUNICÍPIO DE SOUSA/PB. | G7: PREFEITURA MUNICIPAL DE SOUSA - PB | K7: 45379 | L7: 20
A9: Localização | G9: Contratada | K9: Início da Obra | L9: Termino da Obra
A10: RUA DEP. JOSÉ DE PAIVA GADELHA. - BAIRRO GATO PRETO - SOUSA/PB | G10: COMPACTO CONSTRUÇÕES EIRELI - EPP | K10: 44748 | L10: 45266
A12: Modalidade | C12: Nº de Contrato e Data de assinatura | G12: Valor do Contrato / PMS | I12: Valor da medição - R$ | K12: Período de medição
A13: TOMADA DE PREÇOS 06/2022 | C13: Nº 0483/2022 - 06/07/2022 | G13: 1188434.6 | I13: =J284 -> 39633.11 | K13: 26/11/2024 a 03/01/2025
A16: Itens | B16: Discriminação dos serviços do orçamento | C16: Unid. | D16: Custo Unitário | F16: Quantidade | I16: Financeiro | L16: Desvio (%)
E17: Custo Unitário | F17: Prevista | G17: Medida no período | H17: Acumulada incluindo o período | I17: Prevista | J17: Medida no período | K17: Acumulada incluindo o período
A19: =[3]REPROGRAMAÇÃO!A10 -> 1 | B19: =[3]REPROGRAMAÇÃO!B10 -> DEMOLIÇÕES / RETIRADAS / SERVIÇOS PRELIMINARES | I19: =SUM(I20:I30) -> 19471.12 | K19: =SUM(K20:K30) -> 17801.64
A20: =[3]REPROGRAMAÇÃO!A11 -> 1.1 | B20: =[3]REPROGRAMAÇÃO!B11 -> Remoção de árvore, porte médio, com utilização de retro-escavadeira | C20: =[3]REPROGRAMAÇÃO!E11 -> un | E20: =[3]REPROGRAMAÇÃO!J11 -> 110.74 | F20: 3 | H20: 3 | I20: =ROUND(E20*F20,2) -> 332.22 | K20: =ROUND(H20*E20,2) -> 332.22 | L20: =K20/I20 -> 1
A21: =[3]REPROGRAMAÇÃO!A12 -> 1.2 | B21: =[3]REPROGRAMAÇÃO!B12 -> REMOÇÃO DE TELHAS, DE FIBROCIMENTO, METÁLICA E CERÂMICA, DE FORMA MANUAL, SEM REAPROVEITAMENTO. AF_12/2017 | C21: =[3]REPROGRAMAÇÃO!E12 -> M2 | E21: =[3]REPROGRAMAÇÃO!J12 -> 2.9 | F21: 88.39 | H21: 88.39 | I21: =ROUND(E21*F21,2) -> 256.33 | K21: =ROUND(H21*E21,2) -> 256.33 | L21: =K21/I21 -> 1
A22: =[3]REPROGRAMAÇÃO!A13 -> 1.3 | B22: =[3]REPROGRAMAÇÃO!B13 -> REMOÇÃO DE TRAMA DE MADEIRA PARA COBERTURA, DE FORMA MANUAL, SEM REAPROVEITAMENTO. AF_12/2017 | C22: =[3]REPROGRAMAÇÃO!E13 -> M2 | E22: =[3]REPROGRAMAÇÃO!J13 -> 6.23 | F22: 88.39 | H22: 88.39 | I22: =ROUND(E22*F22,2) -> 550.67 | K22: =ROUND(H22*E22,2) -> 550.67 | L22: =K22/I22 -> 1
A23: =[3]REPROGRAMAÇÃO!A14 -> 1.4 | B23: =[3]REPROGRAMAÇÃO!B14 -> REMOÇÃO DE TESOURAS DE MADEIRA, COM VÃO MENOR QUE 8M, DE FORMA MANUAL, SEM REAPROVEITAMENTO. AF_12/2017 | C23: =[3]REPROGRAMAÇÃO!E14 -> UN | E23: =[3]REPROGRAMAÇÃO!J14 -> 69.15 | F23: 3 | H23: 3 | I23: =ROUND(E23*F23,2) -> 207.45 | K23: =ROUND(H23*E23,2) -> 207.45 | L23: =K23/I23 -> 1
A24: =[3]REPROGRAMAÇÃO!A15 -> 1.5 | B24: =[3]REPROGRAMAÇÃO!B15 -> DEMOLIÇÃO DE ALVENARIA PARA QUALQUER TIPO DE BLOCO, DE FORMA MECANIZADA, SEM REAPROVEITAMENTO. AF_12/2017 | C24: =[3]REPROGRAMAÇÃO!E15 -> M3 | E24: =[3]REPROGRAMAÇÃO!J15 -> 52.25 | F24: 16.11 | H24: 16.11 | I24: =ROUND(E24*F24,2) -> 841.75 | K24: =ROUND(H24*E24,2) -> 841.75 | L24: =K24/I24 -> 1
A25: =[3]REPROGRAMAÇÃO!A16 -> 1.6 | B25: =[3]REPROGRAMAÇÃO!B16 -> DEMOLIÇÃO DE PILARES E VIGAS EM CONCRETO ARMADO, DE FORMA MECANIZADA COM MARTELETE, SEM REAPROVEITAMENTO. AF_12/2017 | C25: =[3]REPROGRAMAÇÃO!E16 -> M3 | E25: =[3]REPROGRAMAÇÃO!J16 -> 230.25 | F25: 13.59 | H25: 6.50419 | I25: =ROUND(E25*F25,2) -> 3129.1 | K25: =ROUND(H25*E25,2) -> 1497.59 | L25: =K25/I25 -> 0.47860088
A26: =[3]REPROGRAMAÇÃO!A17 -> 1.7 | B26: =[3]REPROGRAMAÇÃO!B17 -> DEMOLIÇÃO DE LAJES, DE FORMA MECANIZADA COM MARTELETE, SEM REAPROVEITAMENTO. AF_12/2017 | C26: =[3]REPROGRAMAÇÃO!E17 -> M3 | E26: =[3]REPROGRAMAÇÃO!J17 -> 97.97 | F26: 6.53 | H26: 9.76 | I26: =ROUND(E26*F26,2) -> 639.74 | K26: =ROUND(H26*E26,2) -> 956.19 | L26: =K26/I26 -> 1.4946541
A27: =[3]REPROGRAMAÇÃO!A18 -> 1.8 | B27: =[3]REPROGRAMAÇÃO!B18 -> Demolição de pavimentação em paralelepípedo ou pré-moldados de concreto c/ reaproveitamento | C27: =[3]REPROGRAMAÇÃO!E18 -> m2 | E27: =[3]REPROGRAMAÇÃO!J18 -> 10.49 | F27: 564.31 | H27: 564.31 | I27: =ROUND(E27*F27,2) -> 5919.61 | K27: =ROUND(H27*E27,2) -> 5919.61 | L27: =K27/I27 -> 1
A28: =[3]REPROGRAMAÇÃO!A19 -> 1.9 | B28: =[3]REPROGRAMAÇÃO!B19 -> DEMOLIÇÃO DE CONCRETO SIMPLES COM MARTELETE | C28: =[3]REPROGRAMAÇÃO!E19 -> M3 | E28: =[3]REPROGRAMAÇÃO!J19 -> 79.61 | F28: 10.99 | H28: 6.538 | I28: =ROUND(E28*F28,2) -> 874.91 | K28: =ROUND(H28*E28,2) -> 520.49 | L28: =K28/I28 -> 0.5949069
A29: =[3]REPROGRAMAÇÃO!A20 -> 1.10 | B29: =[3]REPROGRAMAÇÃO!B20 -> LOCAÇÃO DA OBRA - EXECUÇÃO DE GABARITO | C29: =[3]REPROGRAMAÇÃO!E20 -> M2 | E29: =[3]REPROGRAMAÇÃO!J20 -> 7.56 | F29: 549 | H29: 549 | I29: =ROUND(E29*F29,2) -> 4150.44 | K29: =ROUND(H29*E29,2) -> 4150.44 | L29: =K29/I29 -> 1
A30: =[3]REPROGRAMAÇÃO!A21 -> 1.11 | B30: =[3]REPROGRAMAÇÃO!B21 -> Placa de obra em chapa aço galvanizado, instalada | C30: =[3]REPROGRAMAÇÃO!E21 -> m2 | E30: =[3]REPROGRAMAÇÃO!J21 -> 428.15 | F30: 6 | H30: 6 | I30: =ROUND(E30*F30,2) -> 2568.9 | K30: =ROUND(H30*E30,2) -> 2568.9 | L30: =K30/I30 -> 1
A32: =[3]REPROGRAMAÇÃO!A23 -> 2 | B32: =[3]REPROGRAMAÇÃO!B23 -> INFRAESTRUTURA | I32: =SUM(I33:I42) -> 93551.27 | K32: =SUM(K33:K42) -> 93340.38
A33: =[3]REPROGRAMAÇÃO!A24 -> 2.1 | B33: =[3]REPROGRAMAÇÃO!B24 -> ATERRO MANUAL DE VALAS COM SOLO ARGILO-ARENOSO E COMPACTAÇÃO MECANIZADA. AF_05/2016 | C33: =[3]REPROGRAMAÇÃO!E24 -> M3 | E33: =[3]REPROGRAMAÇÃO!J24 -> 40.65 | F33: =[3]REPROGRAMAÇÃO!I24 -> 116.67 | H33: 116.67 | I33: =ROUND(E33*F33,2) -> 4742.64 | K33: =ROUND(H33*E33,2) -> 4742.64 | L33: =K33/I33 -> 1
A34: =[3]REPROGRAMAÇÃO!A25 -> 2.2 | B34: =[3]REPROGRAMAÇÃO!B25 -> ESCAVAÇÃO MANUAL PARA BLOCO DE COROAMENTO OU SAPATA (INCLUINDO ESCAVAÇÃO PARA COLOCAÇÃO DE FÔRMAS). AF_06/2017 | C34: =[3]REPROGRAMAÇÃO!E25 -> M3 | E34: =[3]REPROGRAMAÇÃO!J25 -> 78.79 | F34: =[3]REPROGRAMAÇÃO!I25 -> 93.14 | H34: 93.14 | I34: =ROUND(E34*F34,2) -> 7338.5 | K34: =ROUND(H34*E34,2) -> 7338.5 | L34: =K34/I34 -> 1
A35: =[3]REPROGRAMAÇÃO!A26 -> 2.3 | B35: =[3]REPROGRAMAÇÃO!B26 -> REATERRO MANUAL DE VALAS COM COMPACTAÇÃO MECANIZADA. AF_04/2016 | C35: =[3]REPROGRAMAÇÃO!E26 -> M3 | E35: =[3]REPROGRAMAÇÃO!J26 -> 25.67 | F35: =[3]REPROGRAMAÇÃO!I26 -> 22.25 | H35: 21.47 | I35: =ROUND(E35*F35,2) -> 571.16 | K35: =ROUND(H35*E35,2) -> 551.13 | L35: =K35/I35 -> 0.96493102
A36: =[3]REPROGRAMAÇÃO!A27 -> 2.4 | B36: =[3]REPROGRAMAÇÃO!B27 -> LASTRO DE CONCRETO MAGRO, APLICADO EM PISOS, LAJES SOBRE SOLO OU RADIERS, ESPESSURA DE 5 CM. AF_07/2016 | C36: =[3]REPROGRAMAÇÃO!E27 -> M2 | E36: =[3]REPROGRAMAÇÃO!J27 -> 27.13 | F36: =[3]REPROGRAMAÇÃO!I27 -> 51.07 | H36: 51.57 | I36: =ROUND(E36*F36,2) -> 1385.53 | K36: =ROUND(H36*E36,2) -> 1399.09 | L36: =K36/I36 -> 1.0097869
A37: =[3]REPROGRAMAÇÃO!A28 -> 2.5 | B37: =[3]REPROGRAMAÇÃO!B28 -> ALVENARIA DE EMBASAMENTO EM TIJOLO CERÂMICO FURADO C/ ARGAMASSA CIMENTO E AREIA 1:4 | C37: =[3]REPROGRAMAÇÃO!E28 -> M3 | E37: =[3]REPROGRAMAÇÃO!J28 -> 759.9 | F37: =[3]REPROGRAMAÇÃO!I28 -> 25.46 | H37: 25.46 | I37: =ROUND(E37*F37,2) -> 19347.05 | K37: =ROUND(H37*E37,2) -> 19347.05 | L37: =K37/I37 -> 1
A38: =[3]REPROGRAMAÇÃO!A29 -> 2.6 | B38: =[3]REPROGRAMAÇÃO!B29 -> Forma plana para fundações, em compensado resinado 12mm, 07 usos | C38: =[3]REPROGRAMAÇÃO!E29 -> m2 | E38: =[3]REPROGRAMAÇÃO!J29 -> 82.64 | F38: =[3]REPROGRAMAÇÃO!I29 -> 75.43 | H38: 75.43 | I38: =ROUND(E38*F38,2) -> 6233.54 | K38: =ROUND(H38*E38,2) -> 6233.54 | L38: =K38/I38 -> 1
A39: =[3]REPROGRAMAÇÃO!A30 -> 2.7 | B39: =[3]REPROGRAMAÇÃO!B30 -> ARMAÇÃO DE BLOCO, VIGA BALDRAME OU SAPATA UTILIZANDO AÇO CA-50 DE 10 MM - MONTAGEM. AF_06/2017 | C39: =[3]REPROGRAMAÇÃO!E30 -> KG | E39: =[3]REPROGRAMAÇÃO!J30 -> 20.03 | F39: =[3]REPROGRAMAÇÃO!I30 -> 1675.91 | H39: 1675.91 | I39: =ROUND(E39*F39,2) -> 33568.48 | K39: =ROUND(H39*E39,2) -> 33568.48 | L39: =K39/I39 -> 1
A40: =[3]REPROGRAMAÇÃO!A31 -> 2.8 | B40: =[3]REPROGRAMAÇÃO!B31 -> CONCRETO FCK = 25MPA, TRAÇO 1:2,3:2,7 (EM MASSA SECA DE CIMENTO/ AREIA MÉDIA/ BRITA 1) - PREPARO MECÂNICO COM BETONEIRA 400 L. AF_05/2021 | C40: =[3]REPROGRAMAÇÃO!E31 -> M3 | E40: =[3]REPROGRAMAÇÃO!J31 -> 444.59 | F40: =[3]REPROGRAMAÇÃO!I31 -> 27.25 | H40: 27.25 | I40: =ROUND(E40*F40,2) -> 12115.08 | K40: =ROUND(H40*E40,2) -> 12115.08 | L40: =K40/I40 -> 1
A41: =[3]REPROGRAMAÇÃO!A32 -> 2.9 | B41: =[3]REPROGRAMAÇÃO!B32 -> LANÇAMENTO COM USO DE BALDES, ADENSAMENTO E ACABAMENTO DE CONCRETO EM ESTRUTURAS. AF_12/2015 | C41: =[3]REPROGRAMAÇÃO!E32 -> M3 | E41: =[3]REPROGRAMAÇÃO!J32 -> 177.76 | F41: =[3]REPROGRAMAÇÃO!I32 -> 27.25 | H41: 26.1 | I41: =ROUND(E41*F41,2) -> 4843.96 | K41: =ROUND(H41*E41,2) -> 4639.54 | L41: =K41/I41 -> 0.95779899
A42: =[3]REPROGRAMAÇÃO!A33 -> 2.10 | B42: =[3]REPROGRAMAÇÃO!B33 -> Impermeabilização de alicerce e viga baldrame com 2 demãos de tinta asfáltica tipo Neutrol da Vedacit ou similar, exceto argamassa impermeabilização | C42: =[3]REPROGRAMAÇÃO!E33 -> m2 | E42: =[3]REPROGRAMAÇÃO!J33 -> 26.99 | F42: =[3]REPROGRAMAÇÃO!I33 -> 126.17 | H42: 126.17 | I42: =ROUND(E42*F42,2) -> 3405.33 | K42: =ROUND(H42*E42,2) -> 3405.33 | L42: =K42/I42 -> 1
A44: =[3]REPROGRAMAÇÃO!A35 -> 3 | B44: =[3]REPROGRAMAÇÃO!B35 -> SUPERESTRUTURA | I44: =SUM(I45+I53+I55) -> 228332.07 | K44: =SUM(K45+K53+K55) -> 227411.46
A45: =[3]REPROGRAMAÇÃO!A36 -> 3.1 | B45: =[3]REPROGRAMAÇÃO!B36 -> CONCRETO ARMADO (PILARES / VIGAS) | I45: =SUM(I46:I52) -> 206031.61 | K45: =SUM(K46:K52) -> 206031.61
A46: =[3]REPROGRAMAÇÃO!A37 -> 3.1.1 | B46: =[3]REPROGRAMAÇÃO!B37 -> ARMAÇÃO DE PILAR OU VIGA DE UMA ESTRUTURA CONVENCIONAL DE CONCRETO ARMADO EM UMA EDIFICAÇÃO TÉRREA OU SOBRADO UTILIZANDO AÇO CA-60 DE 5,0 MM - MONTAGEM. AF_12/2015 | C46: =[3]REPROGRAMAÇÃO!E37 -> KG | E46: =[3]REPROGRAMAÇÃO!J37 -> 23.39 | F46: =[3]REPROGRAMAÇÃO!I37 -> 1624.6407 | H46: 1624.6407 | I46: =ROUND(E46*F46,2) -> 38000.35 | K46: =ROUND(H46*E46,2) -> 38000.35 | L46: =K46/I46 -> 1
A47: =[3]REPROGRAMAÇÃO!A38 -> 3.1.2 | B47: =[3]REPROGRAMAÇÃO!B38 -> ARMAÇÃO DE PILAR OU VIGA DE UMA ESTRUTURA CONVENCIONAL DE CONCRETO ARMADO EM UMA EDIFICAÇÃO TÉRREA OU SOBRADO UTILIZANDO AÇO CA-50 DE 6,3 MM - MONTAGEM. AF_12/2015 | C47: =[3]REPROGRAMAÇÃO!E38 -> KG | E47: =[3]REPROGRAMAÇÃO!J38 -> 22.94 | F47: =[3]REPROGRAMAÇÃO!I38 -> 323.702 | H47: 323.702 | I47: =ROUND(E47*F47,2) -> 7425.72 | K47: =ROUND(H47*E47,2) -> 7425.72 | L47: =K47/I47 -> 1
A48: =[3]REPROGRAMAÇÃO!A39 -> 3.1.3 | B48: =[3]REPROGRAMAÇÃO!B39 -> ARMAÇÃO DE PILAR OU VIGA DE UMA ESTRUTURA CONVENCIONAL DE CONCRETO ARMADO EM UMA EDIFICAÇÃO TÉRREA OU SOBRADO UTILIZANDO AÇO CA-50 DE 10,0 MM - MONTAGEM. AF_12/2015 | C48: =[3]REPROGRAMAÇÃO!E39 -> KG | E48: =[3]REPROGRAMAÇÃO!J39 -> 19.98 | F48: =[3]REPROGRAMAÇÃO!I39 -> 3227.162 | H48: 3227.162 | I48: =ROUND(E48*F48,2) -> 64478.7 | K48: =ROUND(H48*E48,2) -> 64478.7 | L48: =K48/I48 -> 1
A49: =[3]REPROGRAMAÇÃO!A40 -> 3.1.4 | B49: =[3]REPROGRAMAÇÃO!B40 -> ARMAÇÃO DE PILAR OU VIGA DE UMA ESTRUTURA CONVENCIONAL DE CONCRETO ARMADO EM UMA EDIFICAÇÃO TÉRREA OU SOBRADO UTILIZANDO AÇO CA-50 DE 12,5 MM - MONTAGEM. AF_12/2015 | C49: =[3]REPROGRAMAÇÃO!E40 -> KG | E49: =[3]REPROGRAMAÇÃO!J40 -> 16.99 | F49: =[3]REPROGRAMAÇÃO!I40 -> 749.97 | H49: 749.97 | I49: =ROUND(E49*F49,2) -> 12741.99 | K49: =ROUND(H49*E49,2) -> 12741.99 | L49: =K49/I49 -> 1
...

Sheet BM 21
C1: BM21 - Boletim de Medição
B4: ESTADO DA PARAÍBA
B5: PREFEITURA MUNICIPAL DE SOUSA - PB
A6: Objetivo | F6: Agente Promotor | J6: Data de Emissão | K6: Nº BM
A7: REFORMA E AMPLIAÇÃO DA SECRETARIA DE EDUCAÇÃO, NO MUNICÍPIO DE SOUSA/PB. | F7: PREFEITURA MUNICIPAL DE SOUSA - PB | J7: 45369 | K7: 21
A9: Localização | F9: Contratada | J9: Início da Obra | K9: Termino da Obra
A10: RUA DEP. JOSÉ DE PAIVA GADELHA. - BAIRRO GATO PRETO - SOUSA/PB | F10: COMPACTO CONSTRUÇÕES EIRELI - EPP | J10: 44748 | K10: 45266
A12: Modalidade | C12: Nº de Contrato e Data de assinatura | F12: Valor do Contrato / PMS | H12: Valor da medição - R$ | J12: Período de medição
A13: TOMADA DE PREÇOS 06/2022 | C13: Nº 0483/2022 - 06/07/2022 | F13: 1188434.6 | H13: =I300 -> 84058.007 | J13: 04/01/2025 a 25/03/2025
A16: ITEM | B16: REFERÊNCIA | C16: UND. | D16: PREÇO UNITÁRIO COM BDI | E16: QUANTIDADES | H16: PREÇO TOTAL R$
E17: Prevista (após reprogramação) | F17: Medida no período | G17: Acumulada incluindo o período | H17: Prevista | I17: Medida no período | J17: Acumulada incluindo o período | K17: Desvio
A19: 1 | B19: DEMOLIÇÕES / RETIRADAS / SERVIÇOS PRELIMINARES | H19: =SUM(H20:H30) -> 19433.31 | I19: =SUM(I20:I30) -> 0 | J19: =SUM(J20:J30) -> 17801.637
A20: 1.1 | B20: Remoção de árvore, porte médio, com utilização de retro-escavadeira | C20: un | D20: 110.74 | E20: 3 | G20: =F20+'BM20'!H20 -> 3 | H20: =ROUND(D20*E20,2) -> 332.22 | I20: =F20*D20 -> 0 | J20: =G20*D20 -> 332.22 | K20: =J20/H20 -> 1
A21: 1.2 | B21: REMOÇÃO DE TELHAS, DE FIBROCIMENTO, METÁLICA E CERÂMICA, DE FORMA MANUAL, SEM REAPROVEITAMENTO. AF_12/2017 | C21: M2 | D21: 2.9 | E21: 88.39 | G21: =F21+'BM20'!H21 -> 88.39 | H21: =ROUND(D21*E21,2) -> 256.33 | I21: =F21*D21 -> 0 | J21: =G21*D21 -> 256.331 | K21: =J21/H21 -> 1.0000039
A22: 1.3 | B22: REMOÇÃO DE TRAMA DE MADEIRA PARA COBERTURA, DE FORMA MANUAL, SEM REAPROVEITAMENTO. AF_12/2017 | C22: M2 | D22: 6.23 | E22: 88.39 | G22: =F22+'BM20'!H22 -> 88.39 | H22: =ROUND(D22*E22,2) -> 550.67 | I22: =F22*D22 -> 0 | J22: =G22*D22 -> 550.6697 | K22: =J22/H22 -> 0.99999946
A23: 1.4 | B23: REMOÇÃO DE TESOURAS DE MADEIRA, COM VÃO MENOR QUE 8M, DE FORMA MANUAL, SEM REAPROVEITAMENTO. AF_12/2017 | C23: UN | D23: 69.15 | E23: 3 | G23: =F23+'BM20'!H23 -> 3 | H23: =ROUND(D23*E23,2) -> 207.45 | I23: =F23*D23 -> 0 | J23: =G23*D23 -> 207.45 | K23: =J23/H23 -> 1
A24: 1.5 | B24: DEMOLIÇÃO DE ALVENARIA PARA QUALQUER TIPO DE BLOCO, DE FORMA MECANIZADA, SEM REAPROVEITAMENTO. AF_12/2017 | C24: M3 | D24: 52.25 | E24: 16.11 | G24: =F24+'BM20'!H24 -> 16.11 | H24: =ROUND(D24*E24,2) -> 841.75 | I24: =F24*D24 -> 0 | J24: =G24*D24 -> 841.7475 | K24: =J24/H24 -> 0.99999703
A25: 1.6 | B25: DEMOLIÇÃO DE PILARES E VIGAS EM CONCRETO ARMADO, DE FORMA MECANIZADA COM MARTELETE, SEM REAPROVEITAMENTO. AF_12/2017 | C25: M3 | D25: 230.25 | E25: 13.59 | G25: =F25+'BM20'!H25 -> 6.50419 | H25: =ROUND(D25*E25,2) -> 3129.1 | I25: =F25*D25 -> 0 | J25: =G25*D25 -> 1497.5897 | K25: =J25/H25 -> 0.47860079
A26: 1.7 | B26: DEMOLIÇÃO DE LAJES, DE FORMA MECANIZADA COM MARTELETE, SEM REAPROVEITAMENTO. AF_12/2017 | C26: M3 | D26: 97.97 | E26: 9.76 | G26: =F26+'BM20'!H26 -> 9.76 | H26: =ROUND(D26*E26,2) -> 956.19 | I26: =F26*D26 -> 0 | J26: =G26*D26 -> 956.1872 | K26: =J26/H26 -> 0.99999707
A27: 1.8 | B27: Demolição de pavimentação em paralelepípedo ou pré-moldados de concreto c/ reaproveitamento | C27: m2 | D27: 10.49 | E27: 564.31 | G27: =F27+'BM20'!H27 -> 564.31 | H27: =ROUND(D27*E27,2) -> 5919.61 | I27: =F27*D27 -> 0 | J27: =G27*D27 -> 5919.6119 | K27: =J27/H27 -> 1.0000003
A28: 1.9 | B28: DEMOLIÇÃO DE CONCRETO SIMPLES COM MARTELETE | C28: M3 | D28: 79.61 | E28: 6.54 | G28: =F28+'BM20'!H28 -> 6.538 | H28: =ROUND(D28*E28,2) -> 520.65 | I28: =F28*D28 -> 0 | J28: =G28*D28 -> 520.49018 | K28: =J28/H28 -> 0.99969304
A29: 1.10 | B29: LOCAÇÃO DA OBRA - EXECUÇÃO DE GABARITO | C29: M2 | D29: 7.56 | E29: 549 | G29: =F29+'BM20'!H29 -> 549 | H29: =ROUND(D29*E29,2) -> 4150.44 | I29: =F29*D29 -> 0 | J29: =G29*D29 -> 4150.44 | K29: =J29/H29 -> 1
A30: 1.11 | B30: Placa de obra em chapa aço galvanizado, instalada | C30: m2 | D30: 428.15 | E30: 6 | G30: =F30+'BM20'!H30 -> 6 | H30: =ROUND(D30*E30,2) -> 2568.9 | I30: =F30*D30 -> 0 | J30: =G30*D30 -> 2568.9 | K30: =J30/H30 -> 1
A32: 2 | B32: INFRAESTRUTURA | H32: =SUM(H33:H42) -> 93551.27 | I32: =SUM(I33:I42) -> 0 | J32: =SUM(J33:J42) -> 93340.373 | K32: =J32/H32 -> 0.99774566
A33: 2.1 | B33: ATERRO MANUAL DE VALAS COM SOLO ARGILO-ARENOSO E COMPACTAÇÃO MECANIZADA. AF_05/2016 | C33: M3 | D33: 40.65 | E33: 116.67 | G33: =F33+'BM20'!H33 -> 116.67 | H33: =ROUND(D33*E33,2) -> 4742.64 | I33: =F33*D33 -> 0 | J33: =G33*D33 -> 4742.6355 | K33: =J33/H33 -> 0.99999905
A34: 2.2 | B34: ESCAVAÇÃO MANUAL PARA BLOCO DE COROAMENTO OU SAPATA (INCLUINDO ESCAVAÇÃO PARA COLOCAÇÃO DE FÔRMAS). AF_06/2017 | C34: M3 | D34: 78.79 | E34: 93.14 | G34: =F34+'BM20'!H34 -> 93.14 | H34: =ROUND(D34*E34,2) -> 7338.5 | I34: =F34*D34 -> 0 | J34: =G34*D34 -> 7338.5006 | K34: =J34/H34 -> 1.0000001
A35: 2.3 | B35: REATERRO MANUAL DE VALAS COM COMPACTAÇÃO MECANIZADA. AF_04/2016 | C35: M3 | D35: 25.67 | E35: 22.25 | G35: =F35+'BM20'!H35 -> 21.47 | H35: =ROUND(D35*E35,2) -> 571.16 | I35: =F35*D35 -> 0 | J35: =G35*D35 -> 551.1349 | K35: =J35/H35 -> 0.9649396
A36: 2.4 | B36: LASTRO DE CONCRETO MAGRO, APLICADO EM PISOS, LAJES SOBRE SOLO OU RADIERS, ESPESSURA DE 5 CM. AF_07/2016 | C36: M2 | D36: 27.13 | E36: 51.07 | G36: =F36+'BM20'!H36 -> 51.57 | H36: =ROUND(D36*E36,2) -> 1385.53 | I36: =F36*D36 -> 0 | J36: =G36*D36 -> 1399.0941 | K36: =J36/H36 -> 1.0097898
A37: 2.5 | B37: ALVENARIA DE EMBASAMENTO EM TIJOLO CERÂMICO FURADO C/ ARGAMASSA CIMENTO E AREIA 1:4 | C37: M3 | D37: 759.9 | E37: 25.46 | G37: =F37+'BM20'!H37 -> 25.46 | H37: =ROUND(D37*E37,2) -> 19347.05 | I37: =F37*D37 -> 0 | J37: =G37*D37 -> 19347.054 | K37: =J37/H37 -> 1.0000002
A38: 2.6 | B38: Forma plana para fundações, em compensado resinado 12mm, 07 usos | C38: m2 | D38: 82.64 | E38: 75.43 | G38: =F38+'BM20'!H38 -> 75.43 | H38: =ROUND(D38*E38,2) -> 6233.54 | I38: =F38*D38 -> 0 | J38: =G38*D38 -> 6233.5352 | K38: =J38/H38 -> 0.99999923
A39: 2.7 | B39: ARMAÇÃO DE BLOCO, VIGA BALDRAME OU SAPATA UTILIZANDO AÇO CA-50 DE 10 MM - MONTAGEM. AF_06/2017 | C39: KG | D39: 20.03 | E39: 1675.91 | G39: =F39+'BM20'!H39 -> 1675.91 | H39: =ROUND(D39*E39,2) -> 33568.48 | I39: =F39*D39 -> 0 | J39: =G39*D39 -> 33568.477 | K39: =J39/H39 -> 0.99999992
A40: 2.8 | B40: CONCRETO FCK = 25MPA, TRAÇO 1:2,3:2,7 (EM MASSA SECA DE CIMENTO/ AREIA MÉDIA/ BRITA 1) - PREPARO MECÂNICO COM BETONEIRA 400 L. AF_05/2021 | C40: M3 | D40: 444.59 | E40: 27.25 | G40: =F40+'BM20'!H40 -> 27.25 | H40: =ROUND(D40*E40,2) -> 12115.08 | I40: =F40*D40 -> 0 | J40: =G40*D40 -> 12115.078 | K40: =J40/H40 -> 0.99999979
A41: 2.9 | B41: LANÇAMENTO COM USO DE BALDES, ADENSAMENTO E ACABAMENTO DE CONCRETO EM ESTRUTURAS. AF_12/2015 | C41: M3 | D41: 177.76 | E41: 27.25 | G41: =F41+'BM20'!H41 -> 26.1 | H41: =ROUND(D41*E41,2) -> 4843.96 | I41: =F41*D41 -> 0 | J41: =G41*D41 -> 4639.536 | K41: =J41/H41 -> 0.95779817
A42: 2.10 | B42: Impermeabilização de alicerce e viga baldrame com 2 demãos de tinta asfáltica tipo Neutrol da Vedacit ou similar, exceto argamassa impermeabilização | C42: m2 | D42: 26.99 | E42: 126.17 | G42: =F42+'BM20'!H42 -> 126.17 | H42: =ROUND(D42*E42,2) -> 3405.33 | I42: =F42*D42 -> 0 | J42: =G42*D42 -> 3405.3283 | K42: =J42/H42 -> 0.9999995
A44: 3 | B44: SUPERESTRUTURA | H44: =SUM(H46:H61) -> 228332.07 | I44: =SUM(I46:I61) -> 0 | J44: =SUM(J46:J61) -> 227411.46 | K44: =J44/H44 -> 0.9959681
A45: 3.1 | B45: CONCRETO ARMADO (PILARES / VIGAS)
A46: 3.1.1 | B46: ARMAÇÃO DE PILAR OU VIGA DE UMA ESTRUTURA CONVENCIONAL DE CONCRETO ARMADO EM UMA EDIFICAÇÃO TÉRREA OU SOBRADO UTILIZANDO AÇO CA-60 DE 5,0 MM - MONTAGEM. AF_12/2015 | C46: KG | D46: 23.39 | E46: 1624.6407 | G46: =F46+'BM20'!H46 -> 1624.6407 | H46: =ROUND(D46*E46,2) -> 38000.35 | I46: =F46*D46 -> 0 | J46: =G46*D46 -> 38000.346 | K46: =J46/H46 -> 0.99999989
A47: 3.1.2 | B47: ARMAÇÃO DE PILAR OU VIGA DE UMA ESTRUTURA CONVENCIONAL DE CONCRETO ARMADO EM UMA EDIFICAÇÃO TÉRREA OU SOBRADO UTILIZANDO AÇO CA-50 DE 6,3 MM - MONTAGEM. AF_12/2015 | C47: KG | D47: 22.94 | E47: 323.702 | G47: =F47+'BM20'!H47 -> 323.702 | H47: =ROUND(D47*E47,2) -> 7425.72 | I47: =F47*D47 -> 0 | J47: =G47*D47 -> 7425.7239 | K47: =J47/H47 -> 1.0000005
A48: 3.1.3 | B48: ARMAÇÃO DE PILAR OU VIGA DE UMA ESTRUTURA CONVENCIONAL DE CONCRETO ARMADO EM UMA EDIFICAÇÃO TÉRREA OU SOBRADO UTILIZANDO AÇO CA-50 DE 10,0 MM - MONTAGEM. AF_12/2015 | C48: KG | D48: 19.98 | E48: 3227.162 | G48: =F48+'BM20'!H48 -> 3227.162 | H48: =ROUND(D48*E48,2) -> 64478.7 | I48: =F48*D48 -> 0 | J48: =G48*D48 -> 64478.697 | K48: =J48/H48 -> 0.99999995
A49: 3.1.4 | B49: ARMAÇÃO DE PILAR OU VIGA DE UMA ESTRUTURA CONVENCIONAL DE CONCRETO ARMADO EM UMA EDIFICAÇÃO TÉRREA OU SOBRADO UTILIZANDO AÇO CA-50 DE 12,5 MM - MONTAGEM. AF_12/2015 | C49: KG | D49: 16.99 | E49: 749.97 | G49: =F49+'BM20'!H49 -> 749.97 | H49: =ROUND(D49*E49,2) -> 12741.99 | I49: =F49*D49 -> 0 | J49: =G49*D49 -> 12741.99 | K49: =J49/H49 -> 1
...

Sheet Memorial
C1: MEMÓRIA DE CÁLCULO - QUANTIDADES
C2: Obra: | H2: Proprietário:
C3: Reforma e ampliação secretaria de educação | H3: Prefeitura Municipal de Sousa
C4: Local: | H4: Responsável Técnico:
C5: R. Dep. José de Paiva Gadelha, B. Gato Preto, Sousa-PB
A7: Item | B7: Descrição | D7: Vez | E7: Dados | K7: Resultado | M7: Un.
E8: X1 | F8: X2 | G8: Y1 | H8: Y2 | I8: Z1 | J8: Z2 | K8: Parcial | L8: Total
A10: =[5]BM13!A62 -> 5 | B10: COBERTURA
A12: 5.17 | B12: FORRO EM PLACAS DE GESSO, PARA AMBIENTES COMERCIAIS. AF_05/2017_P | M12: m2
K13: Total | L13: =SUM(L16:L29) -> 216.4341
K14: BM anteriores | L14: 190.71
K15: BM21 | L15: =L13-L14 -> 25.7241
B16: MARQUIZE CENTRAL | D16: 1 | E16: 11.7 | G16: 1.6 | K16: =G16*E16 -> 18.72 | L16: =K16*D16 -> 18.72
B17: PASSARELA CADEIRANTE | D17: 1 | E17: 3.74 | G17: 1.2 | K17: =G17*E17 -> 4.488 | L17: =K17*D17 -> 4.488
B18: PASSARELA CADEIRANTE | D18: 1 | E18: 3.74 | G18: 1.2 | K18: =G18*E18 -> 4.488 | L18: =K18*D18 -> 4.488
B19: RECEPÇAO PRINCIPAL | D19: 1 | E19: 18.7 | G19: 3.3 | K19: =G19*E19 -> 61.71 | L19: =K19*D19 -> 61.71
B20: DESPENSA | D20: 1 | E20: 4.37 | G20: 1.5 | K20: =G20*E20 -> 6.555 | L20: =K20*D20 -> 6.555
B21: DESPENSA | D21: 1 | E21: 4.37 | G21: 1.5 | K21: =G21*E21 -> 6.555 | L21: =K21*D21 -> 6.555
B22: ENTRADA LATERAL | D22: 1 | E22: 10.45 | G22: 2.1 | K22: =G22*E22 -> 21.945 | L22: =K22*D22 -> 21.945
B23: ENTRADA LATERAL | D23: 1 | E23: 1.53 | G23: 1.5 | H23: 0.95 | K23: =G23*E23 -> 2.295 | L23: =K23*D23 -> 2.295
B24: RECEP PRINCIPAL ENTRADA LATERAL | D24: 1 | E24: 6.18 | G24: 4.95 | K24: =G24*E24 -> 30.591 | L24: =K24*D24 -> 30.591
B25: RECEP PRINCIPAL ENTRADA LATERAL | D25: 1 | E25: 3 | G25: 0.86 | K25: =G25*E25 -> 2.58 | L25: =K25*D25 -> 2.58
B26: CANTINA | D26: 1 | E26: 1.83 | G26: 2.37 | K26: =G26*E26 -> 4.3371 | L26: =K26*D26 -> 4.3371
B27: WC | D27: 1 | E27: 1.42 | G27: 1.75 | K27: =G27*E27 -> 2.485 | L27: =K27*D27 -> 2.485
B28: WC | D28: 1 | E28: 1.42 | G28: 1.75 | K28: =G28*E28 -> 2.485 | L28: =K28*D28 -> 2.485
B29: SALA REFORMADA | D29: 1 | E29: 5.9 | G29: 8 | K29: =G29*E29 -> 47.2 | L29: =K29*D29 -> 47.2
A31: 6 | B31: PAVIMENTAÇÃO
A33: 6.1.12 | B33: =[6]BM13!B92 -> EXECUÇÃO DE PÁTIO/ESTACIONAMENTO EM PISO INTERTRAVADO, COM BLOCO RETANGULAR COR NATURAL DE 20 X 10 CM, ESPESSURA 8 CM. AF_12/2015
K34: Total | L34: =SUM(L37:L51) -> 718.874 | N34: Aditivo
K35: BM anteriores | L35: 591.91
K36: BM21 | L36: =L34-L35 -> 126.964
B37: Estacionamento lateral onibus | D37: 1 | E37: 4.9 | F37: 24.9 | K37: =F37*E37 -> 122.01 | L37: =K37*D37 -> 122.01
B38: Estacionamento lateral onibus | D38: 1 | E38: 7.6 | F38: 24.33 | K38: =F38*E38 -> 184.908 | L38: =K38*D38 -> 184.908
B39: Garagem onibus Nova | D39: 1 | E39: 26.5 | G39: 1.75 | K39: =E39*G39 -> 46.375 | L39: =K39*D39 -> 46.375
D40: 1 | E40: 3.75 | G40: 5.76 | K40: =E40*G40 -> 21.6 | L40: =K40*D40 -> 21.6
D41: 1 | E41: 3.82 | G41: 5.76 | K41: =E41*G41 -> 22.0032 | L41: =K41*D41 -> 22.0032
D42: 1 | E42: 3.65 | G42: 5.72 | K42: =E42*G42 -> 20.878 | L42: =K42*D42 -> 20.878
D43: 1 | E43: 3.79 | G43: 5.72 | K43: =E43*G43 -> 21.6788 | L43: =K43*D43 -> 21.6788
D44: 1 | E44: 3.65 | G44: 5.78 | K44: =E44*G44 -> 21.097 | L44: =K44*D44 -> 21.097
D45: 1 | E45: 3.8 | G45: 5.78 | K45: =E45*G45 -> 21.964 | L45: =K45*D45 -> 21.964
...

Sheet Plan2
A7: BM_01 | B7: 55322.67
A8: BM_02 | B8: 81506.11
A9: BM_03 | B9: 79324.28
A10: BM_04 | B10: 48629.34 | F10: =SUM(B7:B11) -> 327433.08
A11: BM_05 | B11: 62650.68
A12: BM_06 | B12: 49991.87
A13: BM_07 | B13: 76515.85
A14: BM_08 | B14: 30673.28
A15: BM_09 | B15: 49286.3
A16: BM_10 | B16: 60632.64
A17: BM_11 | B17: 18230.76
A18: BM_12 | B18: 75633.24
A19: BM_13 | B19: 80004.13
A20: BM_14 | B20: 33849.13
A21: BM_15 | B21: =[7]BM15!J259 -> 15851.05
A22: BM_16 | B22: 66928.92
A23: BM_17 | B23: 20804.1
A24: BM_18 | B24: 28422.54
A25: BM_19 | B25: 38767.5
A26: BM_20 | B26: =[8]BM20!J284 -> 39633.11
A27: BM_21 | B27: ='BM 21'!I300 -> 84058.007
B28: =SUM(B7:B27) -> 1096715.5
