Workbook
Name JR_PAGE_ANCHOR_0_1: orcamento!$A$1

Sheet BOLETIM DE MEDIÇÃO 02
B2: BOLETIM DE MEDIÇÃO 02
B3: OBJETO: | O3: CONTRATO: | P3: LICITAÇÃO Nº: | Q3: VALOR CONTRATADO:
B4: CONSTRUÇÃO DA CASA DE ACOLHIMENTO PARA CRIANÇAS E ADOCESLENTES, "CASA LAR", NO MUNICÍPIO DE SOUSA/PB. | O4: 682/2023 | P4: 03/2023 | Q4: 1240378.4
B5: EMPRESA CONTRATADA: | E5: CNPJ: | O5: CONTRATANTE:
B6: ALX CONSTRUÇÕES E LOCAÇÕES | E6: 17.490.708/0001-70 | O6: PREFEITURA MUNICIPAL DE SOUSA
B7: DATA | D7: PERÍODO DA MEDIÇÃO | E7: VALOR DA MEDIÇÃO: | H7: VALOR ACUMULADO ANTERIOR: | J7: VALOR ACUMULADO ANTERIOR: | Q7: MEDIÇÃO:
B8: 45291 | D8: 22/12/2023 a 31/01/2024 | E8: =S196 -> 61443.008 | H8: =Y196-E8 -> 66571.965 | Q8: 02
B10: ITEM | C10: CÓDIGO | D10: DESCRIÇÃO | E10: UND | F10: CUSTO UNITÁRIO (C/ BDI) | G10: QUANTIDADE | Q10: FINANCEIRO
G11: PREVISTA | H11: MEDIDA NO PERÍODO 1 | I11: MEDIDA NO PERÍODO 2 | J11: MEDIDA NO PERÍODO 3 | K11: MEDIDA NO PERÍODO 4 | L11: MEDIDA NO PERÍODO 5 | M11: MEDIDA NO PERÍODO 6 | N11: MEDIDA NO PERÍODO 7 | O11: ACUMULADA (INCLUSIVE ESTA) | P11: SALDO | Q11: PREVISTA | R11: MEDIDA NO PERÍODO 01 | S11: MEDIDA NO PERÍODO 2 | T11: MEDIDA NO PERÍODO 3 | U11: MEDIDA NO PERÍODO 4 | V11: MEDIDA NO PERÍODO 5 | W11: MEDIDA NO PERÍODO 6 | X11: MEDIDA NO PERÍODO 7 | Y11: ACUMULADA (INCLUSIVE ESTA) | Z11: SALDO
B12: 1 | C12: CONSTRUÇÃO DA CASA DE ACOLHIMENTO PARA CRIANÇAS E ADOLESCENTES - CASA LAR, NO MUNICÍPIO DE SOUSA - PB
B13: 1.1 | C13: SERVIÇOS PRELIMINARES
B14: 1.1.1 | C14: composição 1 | D14: PLACA DE OBRA EM CHAPA DE ACO GALVANIZADO [ADAPTADO SINAPI 74209/01] | E14: M2 | F14: 414.1 | G14: 6 | H14: ='MEMORIAL DE CALCULO 01'!K14 -> 6 | O14: =H14+I14+J14+K14+L14+M14+N14 -> 6 | P14: =G14-O14 -> 0 | Q14: =F14*G14 -> 2484.6 | R14: =F14*H14 -> 2484.6 | S14: =F14*I14 -> 0 | T14: =H14*J14 -> 0 | U14: =I14*K14 -> 0 | V14: =J14*L14 -> 0 | W14: =K14*M14 -> 0 | X14: =L14*N14 -> 0 | Y14: =R14+S14+T14+U14+V14+W14 -> 2484.6 | Z14: =Q14-Y14 -> 0 | AA14: =Y14/Q14 -> 1
B15: 1.1.2 | C15: 93209 | D15: EXECUÇÃO DE ALMOXARIFADO EM CANTEIRO DE OBRA EM ALVENARIA, INCLUSO PRATELEIRAS. AF_02/2016 | E15: M2 | F15: 947.21 | G15: 5 | H15: 2.25 | I15: ='MEMORIAL DE CALCULO 02'!K15 -> 2.75 | O15: =H15+I15+J15+K15+L15+M15+N15 -> 5 | P15: =G15-O15 -> 0 | Q15: =F15*G15 -> 4736.05 | R15: =F15*H15 -> 2131.2225 | S15: =F15*I15 -> 2604.8275 | Y15: =R15+S15+T15+U15+V15+W15 -> 4736.05 | Z15: =Q15-Y15 -> 0 | AA15: =Y15/Q15 -> 1
B16: 1.1.3 | C16: 93206 | D16: EXECUÇÃO DE ESCRITÓRIO EM CANTEIRO DE OBRA EM ALVENARIA, NÃO INCLUSO MOBILIÁRIO E EQUIPAMENTOS. AF_02/2016 | E16: M2 | F16: 1086.7 | G16: 5 | H16: 2.25 | I16: ='MEMORIAL DE CALCULO 02'!K16 -> 2.75 | O16: =H16+I16+J16+K16+L16+M16+N16 -> 5 | P16: =G16-O16 -> 0 | Q16: =F16*G16 -> 5433.5 | R16: =F16*H16 -> 2445.075 | S16: =F16*I16 -> 2988.425 | Y16: =R16+S16+T16+U16+V16+W16 -> 5433.5 | Z16: =Q16-Y16 -> 0 | AA16: =Y16/Q16 -> 1
B17: 1.1.4 | C17: composição 11 | D17: Tapume em chapa compensada esp = 10mm (1 uso). [ADAPTADO ORSE 53] | E17: M2 | F17: 102.24 | G17: 277.4 | H17: 258.4 | I17: ='MEMORIAL DE CALCULO 02'!K17 -> 19 | O17: =H17+I17+J17+K17+L17+M17+N17 -> 277.4 | P17: =G17-O17 -> 0 | Q17: =F17*G17 -> 28361.376 | R17: =F17*H17 -> 26418.816 | S17: =F17*I17 -> 1942.56 | Y17: =R17+S17+T17+U17+V17+W17 -> 28361.376 | Z17: =Q17-Y17 -> 0 | AA17: =Y17/Q17 -> 1
B18: 1.1.5 | C18: 98524 | D18: LIMPEZA MANUAL DE VEGETAÇÃO EM TERRENO COM ENXADA.AF_05/2018 | E18: M2 | F18: 2.29 | G18: 1430.2 | O18: =H18+I18+J18+K18+L18+M18+N18 -> 0 | P18: =G18-O18 -> 1430.2 | Q18: =F18*G18 -> 3275.158 | R18: =F18*H18 -> 0 | S18: =F18*I18 -> 0 | Y18: =R18+S18+T18+U18+V18+W18 -> 0 | Z18: =Q18-Y18 -> 3275.158 | AA18: =Y18/Q18 -> 0
B19: 1.1.6 | C19: 100575 | D19: REGULARIZAÇÃO DE SUPERFÍCIES COM MOTONIVELADORA. AF_11/2019 | E19: M2 | F19: 0.12 | G19: 1430.2 | O19: =H19+I19+J19+K19+L19+M19+N19 -> 0 | P19: =G19-O19 -> 1430.2 | Q19: =F19*G19 -> 171.624 | R19: =F19*H19 -> 0 | S19: =F19*I19 -> 0 | Y19: =R19+S19+T19+U19+V19+W19 -> 0 | Z19: =Q19-Y19 -> 171.624 | AA19: =Y19/Q19 -> 0
B20: 1.2 | C20: MOVIMENTO DE TERRA | R20: =F20*H20 -> 0 | S20: =F20*I20 -> 0 | Y20: =R20+S20+T20+U20+V20+W20 -> 0 | Z20: =Q20-Y20 -> 0
B21: 1.2.1 | C21: 99059 | D21: LOCACAO CONVENCIONAL DE OBRA, UTILIZANDO GABARITO DE TÁBUAS CORRIDAS PONTALETADAS A CADA 2,00M - 2 UTILIZAÇÕES. AF_10/2018 | E21: M | F21: 52.4 | G21: 137.5 | H21: ='MEMORIAL DE CALCULO 01'!K22 -> 137.5 | O21: =H21+I21+J21+K21+L21+M21+N21 -> 137.5 | P21: =G21-O21 -> 0 | Q21: =F21*G21 -> 7205 | R21: =F21*H21 -> 7205 | S21: =F21*I21 -> 0 | Y21: =R21+S21+T21+U21+V21+W21 -> 7205 | Z21: =Q21-Y21 -> 0 | AA21: =Y21/Q21 -> 1
B22: 1.2.2 | C22: 93358 | D22: ESCAVAÇÃO MANUAL DE VALA COM PROFUNDIDADE MENOR OU IGUAL A 1,30 M. AF_02/2021 | E22: M3 | F22: 64.95 | G22: 89.01 | H22: ='MEMORIAL DE CALCULO 01'!K23 -> 69.93925 | I22: ='MEMORIAL DE CALCULO 02'!K25 -> 1.20537 | O22: =H22+I22+J22+K22+L22+M22+N22 -> 71.14462 | P22: =G22-O22 -> 17.86538 | Q22: =F22*G22 -> 5781.1995 | R22: =F22*H22 -> 4542.5543 | S22: =F22*I22 -> 78.288781 | Y22: =R22+S22+T22+U22+V22+W22 -> 4620.8431 | Z22: =Q22-Y22 -> 1160.3564 | AA22: =Y22/Q22 -> 0.79928795
B23: 1.2.3 | C23: 96995 | D23: REATERRO MANUAL APILOADO COM SOQUETE. AF_10/2017 | E23: M3 | F23: 39.37 | G23: 44.26 | O23: =H23+I23+J23+K23+L23+M23+N23 -> 0 | P23: =G23-O23 -> 44.26 | Q23: =F23*G23 -> 1742.5162 | R23: =F23*H23 -> 0 | S23: =F23*I23 -> 0 | Y23: =R23+S23+T23+U23+V23+W23 -> 0 | Z23: =Q23-Y23 -> 1742.5162 | AA23: =Y23/Q23 -> 0
B24: 1.2.4 | C24: 94319 | D24: ATERRO MANUAL DE VALAS COM SOLO ARGILO-ARENOSO E COMPACTAÇÃO MECANIZADA. AF_05/2016 | E24: M3 | F24: 74.51 | G24: 93.63 | O24: =H24+I24+J24+K24+L24+M24+N24 -> 0 | P24: =G24-O24 -> 93.63 | Q24: =F24*G24 -> 6976.3713 | R24: =F24*H24 -> 0 | S24: =F24*I24 -> 0 | Y24: =R24+S24+T24+U24+V24+W24 -> 0 | Z24: =Q24-Y24 -> 6976.3713 | AA24: =Y24/Q24 -> 0
B25: 1.3 | C25: FUNDAÇÃO | R25: =F25*H25 -> 0 | S25: =F25*I25 -> 0 | Y25: =R25+S25+T25+U25+V25+W25 -> 0 | Z25: =Q25-Y25 -> 0
B26: 1.3.1 | C26: composição 12 | D26: ALVENARIA DE EMBASAMENTO COM BLOCO CERÂMICO DE 9X14X19CM E ARGAMASSA DE ASSENTAMENTO COM PREPARO EM BETONEIRA. AF_05/2020. [ADAPTADO SINAPI 101166] | E26: M3 | F26: 411.48 | G26: 13.99 | I26: ='MEMORIAL DE CALCULO 02'!K54 -> 7.34341 | O26: =H26+I26+J26+K26+L26+M26+N26 -> 7.34341 | P26: =G26-O26 -> 6.64659 | Q26: =F26*G26 -> 5756.6052 | R26: =F26*H26 -> 0 | S26: =F26*I26 -> 3021.6663 | Y26: =R26+S26+T26+U26+V26+W26 -> 3021.6663 | Z26: =Q26-Y26 -> 2734.9389 | AA26: =Y26/Q26 -> 0.52490422
B27: 1.3.2 | C27: 101616 | D27: PREPARO DE FUNDO DE VALA COM LARGURA MENOR QUE 1,5 M (ACERTO DO SOLO NATURAL). AF_08/2020 | E27: M2 | F27: 4.91 | G27: 37.81 | I27: 37.81 | O27: =H27+I27+J27+K27+L27+M27+N27 -> 37.81 | P27: =G27-O27 -> 0 | Q27: =F27*G27 -> 185.6471 | R27: =F27*H27 -> 0 | S27: =F27*I27 -> 185.6471 | Y27: =R27+S27+T27+U27+V27+W27 -> 185.6471 | Z27: =Q27-Y27 -> 0 | AA27: =Y27/Q27 -> 1
B28: 1.3.3 | C28: 96619 | D28: LASTRO DE CONCRETO MAGRO, APLICADO EM BLOCOS DE COROAMENTO OU SAPATAS, ESPESSURA DE 5 CM. AF_08/2017 | E28: M2 | F28: 30.67 | G28: 77.41 | I28: 37.81 | O28: =H28+I28+J28+K28+L28+M28+N28 -> 37.81 | P28: =G28-O28 -> 39.6 | Q28: =F28*G28 -> 2374.1647 | R28: =F28*H28 -> 0 | S28: =F28*I28 -> 1159.6327 | Y28: =R28+S28+T28+U28+V28+W28 -> 1159.6327 | Z28: =Q28-Y28 -> 1214.532 | AA28: =Y28/Q28 -> 0.48843819
B29: 1.3.4 | C29: 96545 | D29: ARMAÇÃO DE BLOCO, VIGA BALDRAME OU SAPATA UTILIZANDO AÇO CA-50 DE 8 MM - MONTAGEM. AF_06/2017 | E29: KG | F29: 15.99 | G29: 537.3 | I29: ='MEMORIAL DE CALCULO 02'!K90 -> 44.52045 | O29: =H29+I29+J29+K29+L29+M29+N29 -> 44.52045 | P29: =G29-O29 -> 492.77955 | Q29: =F29*G29 -> 8591.427 | R29: =F29*H29 -> 0 | S29: =F29*I29 -> 711.882 | Y29: =R29+S29+T29+U29+V29+W29 -> 711.882 | Z29: =Q29-Y29 -> 7879.545 | AA29: =Y29/Q29 -> 0.082859576
B30: 1.3.5 | C30: 94966 | D30: CONCRETO FCK = 30MPA, TRAÇO 1:2,1:2,5 (EM MASSA SECA DE CIMENTO/ AREIA MÉDIA/ BRITA 1) - PREPARO MECÂNICO COM BETONEIRA 400 L. AF_05/2021 | E30: M3 | F30: 530.88 | G30: 21.16 | I30: ='MEMORIAL DE CALCULO 02'!K99 -> 8.413055 | O30: =H30+I30+J30+K30+L30+M30+N30 -> 8.413055 | P30: =G30-O30 -> 12.746945 | Q30: =F30*G30 -> 11233.421 | R30: =F30*H30 -> 0 | S30: =F30*I30 -> 4466.3226 | Y30: =R30+S30+T30+U30+V30+W30 -> 4466.3226 | Z30: =Q30-Y30 -> 6767.0982 | AA30: =Y30/Q30 -> 0.39759239
B31: 1.3.6 | C31: 94964 | D31: CONCRETO FCK = 20MPA, TRAÇO 1:2,7:3 (EM MASSA SECA DE CIMENTO/ AREIA MÉDIA/ BRITA 1) - PREPARO MECÂNICO COM BETONEIRA 400 L. AF_05/2021 | E31: M3 | F31: 488.69 | G31: 9.6 | O31: =H31+I31+J31+K31+L31+M31+N31 -> 0 | P31: =G31-O31 -> 9.6 | Q31: =F31*G31 -> 4691.424 | R31: =F31*H31 -> 0 | S31: =F31*I31 -> 0 | Y31: =R31+S31+T31+U31+V31+W31 -> 0 | Z31: =Q31-Y31 -> 4691.424 | AA31: =Y31/Q31 -> 0
B32: 1.3.7 | C32: 103670 | D32: LANÇAMENTO COM USO DE BALDES, ADENSAMENTO E ACABAMENTO DE CONCRETO EM ESTRUTURAS. AF_02/2022 | E32: M3 | F32: 230.55 | G32: 30.76 | I32: ='MEMORIAL DE CALCULO 02'!K151 -> 18.013055 | O32: =H32+I32+J32+K32+L32+M32+N32 -> 18.013055 | P32: =G32-O32 -> 12.746945 | Q32: =F32*G32 -> 7091.718 | R32: =F32*H32 -> 0 | S32: =F32*I32 -> 4152.9098 | Y32: =R32+S32+T32+U32+V32+W32 -> 4152.9098 | Z32: =Q32-Y32 -> 2938.8082 | AA32: =Y32/Q32 -> 0.58559997
B33: 1.3.8 | C33: 96543 | D33: ARMAÇÃO DE BLOCO, VIGA BALDRAME E SAPATA UTILIZANDO AÇO CA-60 DE 5 MM - MONTAGEM. AF_06/2017 | E33: KG | F33: 17.5 | G33: 404.4 | I33: ='MEMORIAL DE CALCULO 02'!K153 -> 194.26804 | O33: =H33+I33+J33+K33+L33+M33+N33 -> 194.26804 | P33: =G33-O33 -> 210.13196 | Q33: =F33*G33 -> 7077 | R33: =F33*H33 -> 0 | S33: =F33*I33 -> 3399.6908 | Y33: =R33+S33+T33+U33+V33+W33 -> 3399.6908 | Z33: =Q33-Y33 -> 3677.3092 | AA33: =Y33/Q33 -> 0.48038586
B34: 1.3.9 | C34: 96544 | D34: ARMAÇÃO DE BLOCO, VIGA BALDRAME OU SAPATA UTILIZANDO AÇO CA-50 DE 6,3 MM - MONTAGEM. AF_06/2017 | E34: KG | F34: 16.59 | G34: 295 | I34: ='MEMORIAL DE CALCULO 02'!K193 -> 295 | O34: =H34+I34+J34+K34+L34+M34+N34 -> 295 | P34: =G34-O34 -> 0 | Q34: =F34*G34 -> 4894.05 | R34: =F34*H34 -> 0 | S34: =F34*I34 -> 4894.05 | Y34: =R34+S34+T34+U34+V34+W34 -> 4894.05 | Z34: =Q34-Y34 -> 0 | AA34: =Y34/Q34 -> 1
B35: 1.3.10 | C35: 96546 | D35: ARMAÇÃO DE BLOCO, VIGA BALDRAME OU SAPATA UTILIZANDO AÇO CA-50 DE 10 MM - MONTAGEM. AF_06/2017 | E35: KG | F35: 14.35 | G35: 534.1 | I35: 534.1 | O35: =H35+I35+J35+K35+L35+M35+N35 -> 534.1 | P35: =G35-O35 -> 0 | Q35: =F35*G35 -> 7664.335 | R35: =F35*H35 -> 0 | S35: =F35*I35 -> 7664.335 | Y35: =R35+S35+T35+U35+V35+W35 -> 7664.335 | Z35: =Q35-Y35 -> 0 | AA35: =Y35/Q35 -> 1
B36: 1.3.11 | C36: 96547 | D36: ARMAÇÃO DE BLOCO, VIGA BALDRAME OU SAPATA UTILIZANDO AÇO CA-50 DE 12,5 MM - MONTAGEM. AF_06/2017 | E36: KG | F36: 11.9 | G36: 152.9 | I36: ='MEMORIAL DE CALCULO 02'!K221 -> 100.55646 | O36: =H36+I36+J36+K36+L36+M36+N36 -> 100.55646 | P36: =G36-O36 -> 52.34354 | Q36: =F36*G36 -> 1819.51 | R36: =F36*H36 -> 0 | S36: =F36*I36 -> 1196.6219 | Y36: =R36+S36+T36+U36+V36+W36 -> 1196.6219 | Z36: =Q36-Y36 -> 622.88813 | AA36: =Y36/Q36 -> 0.65766161
B37: 1.3.12 | C37: 96536 | D37: FABRICAÇÃO, MONTAGEM E DESMONTAGEM DE FÔRMA PARA VIGA BALDRAME, EM MADEIRA SERRADA, E=25 MM, 4 UTILIZAÇÕES. AF_06/2017 | E37: M2 | F37: 69.64 | G37: 429.83 | I37: ='MEMORIAL DE CALCULO 02'!K238 -> 206.337 | O37: =H37+I37+J37+K37+L37+M37+N37 -> 206.337 | P37: =G37-O37 -> 223.493 | Q37: =F37*G37 -> 29933.361 | R37: =F37*H37 -> 0 | S37: =F37*I37 -> 14369.309 | Y37: =R37+S37+T37+U37+V37+W37 -> 14369.309 | Z37: =Q37-Y37 -> 15564.053 | AA37: =Y37/Q37 -> 0.48004327
B38: 1.3.13 | C38: 98557 | D38: IMPERMEABILIZAÇÃO DE SUPERFÍCIE COM EMULSÃO ASFÁLTICA, 2 DEMÃOS AF_06/2018 | E38: M2 | F38: 48.22 | G38: 253.95 | O38: =H38+I38+J38+K38+L38+M38+N38 -> 0 | P38: =G38-O38 -> 253.95 | Q38: =F38*G38 -> 12245.469 | R38: =F38*H38 -> 0 | S38: =F38*I38 -> 0 | Y38: =R38+S38+T38+U38+V38+W38 -> 0 | Z38: =Q38-Y38 -> 12245.469 | AA38: =Y38/Q38 -> 0
B39: 1.4 | C39: ESTRUTURA | R39: =F39*H39 -> 0 | S39: =F39*I39 -> 0 | Y39: =R39+S39+T39+U39+V39+W39 -> 0 | Z39: =Q39-Y39 -> 0
B40: 1.4.1 | C40: 92443 | D40: MONTAGEM E DESMONTAGEM DE FÔRMA DE PILARES RETANGULARES E ESTRUTURAS SIMILARES, PÉ-DIREITO SIMPLES, EM CHAPA DE MADEIRA COMPENSADA PLASTIFICADA, 18 UTILIZAÇÕES. AF_09/2020 | E40: M2 | F40: 40.35 | G40: 408.7 | O40: =H40+I40+J40+K40+L40+M40+N40 -> 0 | P40: =G40-O40 -> 408.7 | Q40: =F40*G40 -> 16491.045 | R40: =F40*H40 -> 0 | S40: =F40*I40 -> 0 | Y40: =R40+S40+T40+U40+V40+W40 -> 0 | Z40: =Q40-Y40 -> 16491.045 | AA40: =Y40/Q40 -> 0
B41: 1.4.2 | C41: 92480 | D41: MONTAGEM E DESMONTAGEM DE FÔRMA DE VIGA, ESCORAMENTO METÁLICO, PÉ-DIREITO SIMPLES, EM CHAPA DE MADEIRA PLASTIFICADA, 18 UTILIZAÇÕES. AF_09/2020 | E41: M2 | F41: 62.17 | G41: 435.33 | O41: =H41+I41+J41+K41+L41+M41+N41 -> 0 | P41: =G41-O41 -> 435.33 | Q41: =F41*G41 -> 27064.466 | R41: =F41*H41 -> 0 | S41: =F41*I41 -> 0 | Y41: =R41+S41+T41+U41+V41+W41 -> 0 | Z41: =Q41-Y41 -> 27064.466 | AA41: =Y41/Q41 -> 0
B42: 1.4.3 | C42: 92267 | D42: FABRICAÇÃO DE FÔRMA PARA LAJES, EM CHAPA DE MADEIRA COMPENSADA RESINADA, E = 17 MM. AF_09/2020 | E42: M2 | F42: 30.99 | G42: 111.15 | O42: =H42+I42+J42+K42+L42+M42+N42 -> 0 | P42: =G42-O42 -> 111.15 | Q42: =F42*G42 -> 3444.5385 | R42: =F42*H42 -> 0 | S42: =F42*I42 -> 0 | Y42: =R42+S42+T42+U42+V42+W42 -> 0 | Z42: =Q42-Y42 -> 3444.5385 | AA42: =Y42/Q42 -> 0
...

Sheet MEMORIAL DE CALCULO 01
B2: BOLETIM DE MEDIÇÃO 01 - MEMORIAL DE CÁLCULO
B3: OBJETO: | I3: CONTRATO: | J3: VALOR CONTRATADO:
B4: CONSTRUÇÃO DA CASA DE ACOLHIMENTO PARA CRIANÇAS E ADOCESLENTES, "CASA LAR", NO MUNICÍPIO DE SOUSA/PB. | I4: 682/2023 | J4: 1240378.4
B5: EMPRESA CONTRATADA: | E5: CNPJ: | I5: CONTRATANTE:
B6: ALX CONSTRUÇÕES E LOCAÇÕES | E6: 17.490.708/0001-70 | I6: PREFEITURA MUNICIPAL DE SOUSA
B7: DATA | D7: PERÍODO DA MEDIÇÃO | E7: VALOR DA MEDIÇÃO: | H7: VALOR ACUMULADO ANTERIOR: | J7: MEDIÇÃO:
B8: 45281 | D8: 21/11/2023 a 21/12/2023 | E8: ='BOLETIM DE MEDIÇÃO 02'!E8 -> 61443.008 | H8: ='BOLETIM DE MEDIÇÃO 02'!H8 -> 66571.965 | J8: 01
B10: ITEM | C10: CÓDIGO | D10: DESCRIÇÃO | E10: UND | F10: VEZ | G10: DADOS | J10: RESULTADO
G11: L | H11: C | I11: H | J11: ACUMULADO ANTERIOR | K11: PARCIAL | L11: TOTAL | M11: CONTRATADO | N11: SALDO
B12: 1 | C12: CONSTRUÇÃO DA CASA DE ACOLHIMENTO PARA CRIANÇAS E ADOLESCENTES - CASA LAR, NO MUNICÍPIO DE SOUSA - PB
B13: 1.1 | C13: SERVIÇOS PRELIMINARES
B14: 1.1.1 | C14: composição 1 | D14: PLACA DE OBRA EM CHAPA DE ACO GALVANIZADO [ADAPTADO SINAPI 74209/01] | E14: M2 | F14: 1 | G14: 2 | I14: 3 | J14: ='BOLETIM DE MEDIÇÃO 02'!O14-'MEMORIAL DE CALCULO 01'!K14 -> 0 | K14: =G14*I14*F14 -> 6 | L14: =J14+K14 -> 6 | M14: ='BOLETIM DE MEDIÇÃO 02'!G14 -> 6 | N14: =M14-L14 -> 0
B15: 1.1.2 | C15: 93209 | D15: EXECUÇÃO DE ALMOXARIFADO EM CANTEIRO DE OBRA EM ALVENARIA, INCLUSO PRATELEIRAS. AF_02/2016 | E15: M2 | F15: 1 | G15: 2 | H15: 2.5 | J15: ='BOLETIM DE MEDIÇÃO 02'!O15-'MEMORIAL DE CALCULO 01'!K15 -> 0 | K15: =F15*G15*H15 -> 5 | L15: =J15+K15 -> 5 | M15: ='BOLETIM DE MEDIÇÃO 02'!G15 -> 5 | N15: =M15-L15 -> 0
B16: 1.1.3 | C16: 93206 | D16: EXECUÇÃO DE ESCRITÓRIO EM CANTEIRO DE OBRA EM ALVENARIA, NÃO INCLUSO MOBILIÁRIO E EQUIPAMENTOS. AF_02/2016 | E16: M2 | F16: 1 | G16: 2 | H16: 2.5 | J16: ='BOLETIM DE MEDIÇÃO 02'!O16-'MEMORIAL DE CALCULO 01'!K16 -> 0 | K16: =F16*G16*H16 -> 5 | L16: =J16+K16 -> 5 | M16: ='BOLETIM DE MEDIÇÃO 02'!G16 -> 5 | N16: =M16-L16 -> 0
B17: 1.1.4 | C17: composição 11 | D17: Tapume em chapa compensada esp = 10mm (1 uso). [ADAPTADO ORSE 53] | E17: M2 | J17: ='BOLETIM DE MEDIÇÃO 02'!O17-'MEMORIAL DE CALCULO 01'!K17 -> 0 | K17: =K20 -> 277.4 | L17: =J17+K17 -> 277.4 | M17: ='BOLETIM DE MEDIÇÃO 02'!G17 -> 277.4 | N17: =M17-L17 -> 0
B18: 1.1.5 | C18: 98524 | D18: LIMPEZA MANUAL DE VEGETAÇÃO EM TERRENO COM ENXADA.AF_05/2018 | E18: M2 | J18: ='BOLETIM DE MEDIÇÃO 02'!O18-'MEMORIAL DE CALCULO 01'!K18 -> 0 | L18: =J18+K18 -> 0 | M18: ='BOLETIM DE MEDIÇÃO 02'!G18 -> 1430.2 | N18: =M18-L18 -> 1430.2
B19: 1.1.6 | C19: 100575 | D19: REGULARIZAÇÃO DE SUPERFÍCIES COM MOTONIVELADORA. AF_11/2019 | E19: M2 | J19: ='BOLETIM DE MEDIÇÃO 02'!O19-'MEMORIAL DE CALCULO 01'!K19 -> 0 | L19: =J19+K19 -> 0 | M19: ='BOLETIM DE MEDIÇÃO 02'!G19 -> 1430.2 | N19: =M19-L19 -> 1430.2
D20: PERÍMETRO DA INTERVENÇÃO | F20: 1 | G20: 146 | H20: 1.9 | K20: =F20*G20*H20 -> 277.4
B21: 1.2 | C21: MOVIMENTO DE TERRA
B22: 1.2.1 | C22: 99059 | D22: LOCACAO CONVENCIONAL DE OBRA, UTILIZANDO GABARITO DE TÁBUAS CORRIDAS PONTALETADAS A CADA 2,00M - 2 UTILIZAÇÕES. AF_10/2018 | E22: M | F22: 1 | G22: 137.5 | J22: ='BOLETIM DE MEDIÇÃO 02'!O21-'MEMORIAL DE CALCULO 01'!K22 -> 0 | K22: =F22*G22 -> 137.5 | L22: =J22+K22 -> 137.5 | M22: ='BOLETIM DE MEDIÇÃO 02'!G21 -> 137.5 | N22: =M22-L22 -> 0
B23: 1.2.2 | C23: 93358 | D23: ESCAVAÇÃO MANUAL DE VALA COM PROFUNDIDADE MENOR OU IGUAL A 1,30 M. AF_02/2021 | E23: M3 | J23: ='BOLETIM DE MEDIÇÃO 02'!O22-'MEMORIAL DE CALCULO 01'!K23 -> 1.20537 | K23: =SUM(K24:K30) -> 69.93925 | L23: =J23+K23 -> 71.14462 | M23: ='BOLETIM DE MEDIÇÃO 02'!G22 -> 89.01 | N23: =M23-L23 -> 17.86538
D24: S46=S52=S53=S54=S55=S56=S57=S58=S59=S60=S61=S62=S63=S64=S65=S66=S68=S69=S70=S71=S72=S74=S76=S77=S78=S79=S80=S84=S85=S86=S87=S88 | F24: 32 | G24: 0.6 | H24: 0.7 | I24: 1.85 | K24: =F24*(G24*H24*I24) -> 24.864
D25: S1=S2=S3=S4=S6=S8=S9=S10=S11=S12=S13=S14=S15=S16=S17=S21=S22=S23=S24=S25=S26=S27=S28=S29=S30=S31=S32=S36=S37=S38=S39=S40=S41=S42=S43=S44=S47=S48=S49=S50=S51 | F25: 40 | G25: 0.6 | H25: 0.7 | I25: 1.85 | K25: =F25*(G25*H25*I25) -> 31.08
D26: S33 | F26: 1 | G26: 0.6 | H26: 0.8 | I26: 1.85 | K26: =F26*(G26*H26*I26) -> 0.888
D27: S7=S83 | F27: 2 | G27: 0.9 | H27: 0.9 | I27: 1.85 | K27: =F27*(G27*H27*I27) -> 2.997
D28: S5=S18=S19=S20=S35=S45=S75 | F28: 7 | G28: 0.65 | H28: 0.65 | I28: 1.85 | K28: =F28*(G28*H28*I28) -> 5.471375
D29: S34=S67=S73 | F29: 3 | G29: 0.65 | H29: 0.75 | I29: 1.85 | K29: =F29*(G29*H29*I29) -> 2.705625
D30: S81=S82 | F30: 2 | G30: 0.55 | H30: 0.95 | I30: 1.85 | K30: =F30*(G30*H30*I30) -> 1.93325
B31: 1.2.3 | C31: 96995 | D31: REATERRO MANUAL APILOADO COM SOQUETE. AF_10/2017 | E31: M3 | J31: ='BOLETIM DE MEDIÇÃO 02'!O23-'MEMORIAL DE CALCULO 01'!K31 -> 0 | L31: =J31+K31 -> 0 | M31: ='BOLETIM DE MEDIÇÃO 02'!G23 -> 44.26 | N31: =M31-L31 -> 44.26
B32: 1.2.4 | C32: 94319 | D32: ATERRO MANUAL DE VALAS COM SOLO ARGILO-ARENOSO E COMPACTAÇÃO MECANIZADA. AF_05/2016 | E32: M3 | J32: ='BOLETIM DE MEDIÇÃO 02'!O24-'MEMORIAL DE CALCULO 01'!K32 -> 0 | L32: =J32+K32 -> 0 | M32: ='BOLETIM DE MEDIÇÃO 02'!G24 -> 93.63 | N32: =M32-L32 -> 93.63
B33: 1.3 | C33: FUNDAÇÃO
B34: 1.3.1 | C34: composição 12 | D34: ALVENARIA DE EMBASAMENTO COM BLOCO CERÂMICO DE 9X14X19CM E ARGAMASSA DE ASSENTAMENTO COM PREPARO EM BETONEIRA. AF_05/2020. [ADAPTADO SINAPI 101166] | E34: M3 | J34: ='BOLETIM DE MEDIÇÃO 02'!O26-'MEMORIAL DE CALCULO 01'!K34 -> 7.34341 | L34: =J34+K34 -> 7.34341 | M34: ='BOLETIM DE MEDIÇÃO 02'!G26 -> 13.99 | N34: =M34-L34 -> 6.64659
B35: 1.3.2 | C35: 101616 | D35: PREPARO DE FUNDO DE VALA COM LARGURA MENOR QUE 1,5 M (ACERTO DO SOLO NATURAL). AF_08/2020 | E35: M2 | J35: ='BOLETIM DE MEDIÇÃO 02'!O27-'MEMORIAL DE CALCULO 01'!K35 -> 37.81 | L35: =J35+K35 -> 37.81 | M35: ='BOLETIM DE MEDIÇÃO 02'!G27 -> 37.81 | N35: =M35-L35 -> 0
B36: 1.3.3 | C36: 96619 | D36: LASTRO DE CONCRETO MAGRO, APLICADO EM BLOCOS DE COROAMENTO OU SAPATAS, ESPESSURA DE 5 CM. AF_08/2017 | E36: M2 | J36: ='BOLETIM DE MEDIÇÃO 02'!O28-'MEMORIAL DE CALCULO 01'!K36 -> 37.81 | L36: =J36+K36 -> 37.81 | M36: ='BOLETIM DE MEDIÇÃO 02'!G28 -> 77.41 | N36: =M36-L36 -> 39.6
B37: 1.3.4 | C37: 96545 | D37: ARMAÇÃO DE BLOCO, VIGA BALDRAME OU SAPATA UTILIZANDO AÇO CA-50 DE 8 MM - MONTAGEM. AF_06/2017 | E37: KG | J37: ='BOLETIM DE MEDIÇÃO 02'!O29-'MEMORIAL DE CALCULO 01'!K37 -> 44.52045 | L37: =J37+K37 -> 44.52045 | M37: ='BOLETIM DE MEDIÇÃO 02'!G29 -> 537.3 | N37: =M37-L37 -> 492.77955
B38: 1.3.5 | C38: 94966 | D38: CONCRETO FCK = 30MPA, TRAÇO 1:2,1:2,5 (EM MASSA SECA DE CIMENTO/ AREIA MÉDIA/ BRITA 1) - PREPARO MECÂNICO COM BETONEIRA 400 L. AF_05/2021 | E38: M3 | J38: ='BOLETIM DE MEDIÇÃO 02'!O30-'MEMORIAL DE CALCULO 01'!K38 -> 8.413055 | L38: =J38+K38 -> 8.413055 | M38: ='BOLETIM DE MEDIÇÃO 02'!G30 -> 21.16 | N38: =M38-L38 -> 12.746945
B39: 1.3.6 | C39: 94964 | D39: CONCRETO FCK = 20MPA, TRAÇO 1:2,7:3 (EM MASSA SECA DE CIMENTO/ AREIA MÉDIA/ BRITA 1) - PREPARO MECÂNICO COM BETONEIRA 400 L. AF_05/2021 | E39: M3 | J39: ='BOLETIM DE MEDIÇÃO 02'!O31-'MEMORIAL DE CALCULO 01'!K39 -> 0 | L39: =J39+K39 -> 0 | M39: ='BOLETIM DE MEDIÇÃO 02'!G31 -> 9.6 | N39: =M39-L39 -> 9.6
B40: 1.3.7 | C40: 103670 | D40: LANÇAMENTO COM USO DE BALDES, ADENSAMENTO E ACABAMENTO DE CONCRETO EM ESTRUTURAS. AF_02/2022 | E40: M3 | J40: ='BOLETIM DE MEDIÇÃO 02'!O32-'MEMORIAL DE CALCULO 01'!K40 -> 18.013055 | L40: =J40+K40 -> 18.013055 | M40: ='BOLETIM DE MEDIÇÃO 02'!G32 -> 30.76 | N40: =M40-L40 -> 12.746945
B41: 1.3.8 | C41: 96543 | D41: ARMAÇÃO DE BLOCO, VIGA BALDRAME E SAPATA UTILIZANDO AÇO CA-60 DE 5 MM - MONTAGEM. AF_06/2017 | E41: KG | J41: ='BOLETIM DE MEDIÇÃO 02'!O33-'MEMORIAL DE CALCULO 01'!K41 -> 194.26804 | L41: =J41+K41 -> 194.26804 | M41: ='BOLETIM DE MEDIÇÃO 02'!G33 -> 404.4 | N41: =M41-L41 -> 210.13196
B42: 1.3.9 | C42: 96544 | D42: ARMAÇÃO DE BLOCO, VIGA BALDRAME OU SAPATA UTILIZANDO AÇO CA-50 DE 6,3 MM - MONTAGEM. AF_06/2017 | E42: KG | J42: ='BOLETIM DE MEDIÇÃO 02'!O34-'MEMORIAL DE CALCULO 01'!K42 -> 295 | L42: =J42+K42 -> 295 | M42: ='BOLETIM DE MEDIÇÃO 02'!G34 -> 295 | N42: =M42-L42 -> 0
...

Sheet MEMORIAL DE CALCULO 02
B2: BOLETIM DE MEDIÇÃO 02 - MEMORIAL DE CÁLCULO
B3: OBJETO: | I3: CONTRATO: | J3: VALOR CONTRATADO:
B4: CONSTRUÇÃO DA CASA DE ACOLHIMENTO PARA CRIANÇAS E ADOCESLENTES, "CASA LAR", NO MUNICÍPIO DE SOUSA/PB. | I4: 682/2023 | J4: 1240378.4
B5: EMPRESA CONTRATADA: | E5: CNPJ: | I5: CONTRATANTE:
B6: ALX CONSTRUÇÕES E LOCAÇÕES | E6: 17.490.708/0001-70 | I6: PREFEITURA MUNICIPAL DE SOUSA
B7: DATA | D7: PERÍODO DA MEDIÇÃO | E7: VALOR DA MEDIÇÃO: | H7: VALOR ACUMULADO ANTERIOR: | J7: MEDIÇÃO:
B8: 45291 | D8: 22/12/2023 a 31/01/2024 | E8: ='BOLETIM DE MEDIÇÃO 02'!E8 -> 61443.008 | H8: ='BOLETIM DE MEDIÇÃO 02'!H8 -> 66571.965 | J8: 02
B10: ITEM | C10: CÓDIGO | D10: DESCRIÇÃO | E10: UND | F10: VEZ | G10: DADOS | J10: RESULTADO
G11: L | H11: C | I11: H | J11: ACUMULADO ANTERIOR | K11: PARCIAL | L11: TOTAL | M11: CONTRATADO | N11: SALDO
B12: 1 | C12: CONSTRUÇÃO DA CASA DE ACOLHIMENTO PARA CRIANÇAS E ADOLESCENTES - CASA LAR, NO MUNICÍPIO DE SOUSA - PB
B13: 1.1 | C13: SERVIÇOS PRELIMINARES
B14: 1.1.1 | C14: composição 1 | D14: PLACA DE OBRA EM CHAPA DE ACO GALVANIZADO [ADAPTADO SINAPI 74209/01] | E14: M2 | F14: 1 | G14: 2 | I14: 3 | J14: ='BOLETIM DE MEDIÇÃO 02'!O14-'MEMORIAL DE CALCULO 02'!K14 -> 0 | K14: =G14*I14*F14 -> 6 | L14: =J14+K14 -> 6 | M14: ='BOLETIM DE MEDIÇÃO 02'!G14 -> 6 | N14: =M14-L14 -> 0
B15: 1.1.2 | C15: 93209 | D15: EXECUÇÃO DE ALMOXARIFADO EM CANTEIRO DE OBRA EM ALVENARIA, INCLUSO PRATELEIRAS. AF_02/2016 | E15: M2 | F15: 1 | G15: 1 | H15: 2.75 | J15: ='BOLETIM DE MEDIÇÃO 02'!O15-'MEMORIAL DE CALCULO 02'!K15 -> 2.25 | K15: =F15*G15*H15 -> 2.75 | L15: =J15+K15 -> 5 | M15: ='BOLETIM DE MEDIÇÃO 02'!G15 -> 5 | N15: =M15-L15 -> 0
B16: 1.1.3 | C16: 93206 | D16: EXECUÇÃO DE ESCRITÓRIO EM CANTEIRO DE OBRA EM ALVENARIA, NÃO INCLUSO MOBILIÁRIO E EQUIPAMENTOS. AF_02/2016 | E16: M2 | F16: 1 | G16: 1 | H16: 2.75 | J16: ='BOLETIM DE MEDIÇÃO 02'!O16-'MEMORIAL DE CALCULO 02'!K16 -> 2.25 | K16: =F16*G16*H16 -> 2.75 | L16: =J16+K16 -> 5 | M16: ='BOLETIM DE MEDIÇÃO 02'!G16 -> 5 | N16: =M16-L16 -> 0
B17: 1.1.4 | C17: composição 11 | D17: Tapume em chapa compensada esp = 10mm (1 uso). [ADAPTADO ORSE 53] | E17: M2 | J17: ='BOLETIM DE MEDIÇÃO 02'!O17-'MEMORIAL DE CALCULO 02'!K17 -> 258.4 | K17: =K18 -> 19 | L17: =J17+K17 -> 277.4 | M17: ='BOLETIM DE MEDIÇÃO 02'!G17 -> 277.4 | N17: =M17-L17 -> 0
D18: PERÍMETRO DA INTERVENÇÃO | F18: 1 | G18: 9.5 | I18: 2 | K18: =F18*(G18*I18) -> 19
B19: 1.1.5 | C19: 98524 | D19: LIMPEZA MANUAL DE VEGETAÇÃO EM TERRENO COM ENXADA.AF_05/2018 | E19: M2 | J19: ='BOLETIM DE MEDIÇÃO 02'!O18-'MEMORIAL DE CALCULO 02'!K19 -> 0 | K19: =K20 -> 0 | L19: =J19+K19 -> 0 | M19: ='BOLETIM DE MEDIÇÃO 02'!G18 -> 1430.2 | N19: =M19-L19 -> 1430.2
D20: ÁREA DA INTERVENÇÃO | F20: 0 | G20: 1430.2 | K20: =F20*G20 -> 0
B21: 1.1.6 | C21: 100575 | D21: REGULARIZAÇÃO DE SUPERFÍCIES COM MOTONIVELADORA. AF_11/2019 | E21: M2 | J21: ='BOLETIM DE MEDIÇÃO 02'!O19-'MEMORIAL DE CALCULO 02'!K21 -> 0 | K21: =K22 -> 0 | L21: =J21+K21 -> 0 | M21: ='BOLETIM DE MEDIÇÃO 02'!G19 -> 1430.2 | N21: =M21-L21 -> 1430.2
D22: ÁREA DA INTERVENÇÃO | F22: 0 | G22: 1430.2 | K22: =F22*G22 -> 0
B23: 1.2 | C23: MOVIMENTO DE TERRA
B24: 1.2.1 | C24: 99059 | D24: LOCACAO CONVENCIONAL DE OBRA, UTILIZANDO GABARITO DE TÁBUAS CORRIDAS PONTALETADAS A CADA 2,00M - 2 UTILIZAÇÕES. AF_10/2018 | E24: M | F24: 1 | G24: 137.5 | J24: ='BOLETIM DE MEDIÇÃO 02'!O21-'MEMORIAL DE CALCULO 02'!K24 -> 0 | K24: =F24*G24 -> 137.5 | L24: =J24+K24 -> 137.5 | M24: ='BOLETIM DE MEDIÇÃO 02'!G21 -> 137.5 | N24: =M24-L24 -> 0
B25: 1.2.2 | C25: 93358 | D25: ESCAVAÇÃO MANUAL DE VALA COM PROFUNDIDADE MENOR OU IGUAL A 1,30 M. AF_02/2021 | E25: M3 | J25: ='BOLETIM DE MEDIÇÃO 02'!O22-'MEMORIAL DE CALCULO 02'!K25 -> 69.93925 | K25: =SUM(K35:K41) -> 1.20537 | L25: =J25+K25 -> 71.14462 | M25: ='BOLETIM DE MEDIÇÃO 02'!G22 -> 89.01 | N25: =M25-L25 -> 17.86538
D26: SAPATAS
D27: S46=S52=S53=S54=S55=S56=S57=S58=S59=S60=S61=S62=S63=S64=S65=S66=S68=S69=S70=S71=S72=S74=S76=S77=S78=S79=S80=S84=S85=S86=S87=S88 | F27: 0 | G27: 0.6 | H27: 0.7 | I27: 1.85 | K27: =F27*(G27*H27*I27) -> 0
D28: S1=S2=S3=S4=S6=S8=S9=S10=S11=S12=S13=S14=S15=S16=S17=S21=S22=S23=S24=S25=S26=S27=S28=S29=S30=S31=S32=S36=S37=S38=S39=S40=S41=S42=S43=S44=S47=S48=S49=S50=S51 | F28: 0 | G28: 0.6 | H28: 0.7 | I28: 1.85 | K28: =F28*(G28*H28*I28) -> 0
D29: S33 | F29: 0 | G29: 0.6 | H29: 0.8 | I29: 1.85 | K29: =F29*(G29*H29*I29) -> 0
D30: S7=S83 | F30: 0 | G30: 0.9 | H30: 0.9 | I30: 1.85 | K30: =F30*(G30*H30*I30) -> 0
D31: S5=S18=S19=S20=S35=S45=S75 | F31: 0 | G31: 0.65 | H31: 0.65 | I31: 1.85 | K31: =F31*(G31*H31*I31) -> 0
D32: S34=S67=S73 | F32: 0 | G32: 0.65 | H32: 0.75 | I32: 1.85 | K32: =F32*(G32*H32*I32) -> 0
D33: S81=S82 | F33: 0 | G33: 0.55 | H33: 0.95 | I33: 1.85 | K33: =F33*(G33*H33*I33) -> 0
D34: VIGAS BALDRAME
D35: V22 | F35: 1 | G35: 4.758 | H35: 0.15 | I35: 0.3 | K35: =F35*G35*H35*I35 -> 0.21411
D36: V51 | F36: 1 | G36: 3.097 | H36: 0.15 | I36: 0.3 | K36: =F36*G36*H36*I36 -> 0.139365
D37: V46 | F37: 1 | G37: 3.047 | H37: 0.15 | I37: 0.3 | K37: =F37*G37*H37*I37 -> 0.137115
D38: V55 | F38: 1 | G38: 5.109 | H38: 0.15 | I38: 0.3 | K38: =F38*G38*H38*I38 -> 0.229905
D39: V20 | F39: 1 | G39: 2.564 | H39: 0.15 | I39: 0.3 | K39: =F39*G39*H39*I39 -> 0.11538
D40: V21 | F40: 1 | G40: 1.678 | H40: 0.15 | I40: 0.3 | K40: =F40*G40*H40*I40 -> 0.07551
D41: V19 | F41: 1 | G41: 6.533 | H41: 0.15 | I41: 0.3 | K41: =F41*G41*H41*I41 -> 0.293985
B48: 1.2.3 | C48: 96995 | D48: REATERRO MANUAL APILOADO COM SOQUETE. AF_10/2017 | E48: M3 | J48: ='BOLETIM DE MEDIÇÃO 02'!O23-'MEMORIAL DE CALCULO 02'!K48 -> 0 | L48: =J48+K48 -> 0 | M48: ='BOLETIM DE MEDIÇÃO 02'!G23 -> 44.26 | N48: =M48-L48 -> 44.26
...

Sheet MEMORIAL FOTOGRÁFICO 01
B2: BOLETIM 01 - MEMORIAL FOTOGRÁFICO
B3: OBJETO: | O3: CONTRATO: | P3: LICITAÇÃO Nº: | Q3: VALOR CONTRATADO:
B4: CONSTRUÇÃO DA CASA DE ACOLHIMENTO PARA CRIANÇAS E ADOCESLENTES, "CASA LAR", NO MUNICÍPIO DE SOUSA/PB. | O4: 682/2023 | P4: 03/2023 | Q4: 1240378.4
B5: EMPRESA CONTRATADA: | E5: CNPJ: | O5: CONTRATANTE:
B6: ALX CONSTRUÇÕES E LOCAÇÕES | E6: 17.490.708/0001-70 | O6: PREFEITURA MUNICIPAL DE SOUSA
B7: DATA | D7: PERÍODO DA MEDIÇÃO | E7: VALOR DA MEDIÇÃO: | H7: VALOR ACUMULADO ANTERIOR: | J7: VALOR ACUMULADO ANTERIOR: | Q7: MEDIÇÃO:
B8: 45281 | D8: 21/11/2023 a 21/12/2023 | E8: ='BOLETIM DE MEDIÇÃO 02'!E8 -> 61443.008 | H8: ='BOLETIM DE MEDIÇÃO 02'!H8 -> 66571.965 | Q8: 01
B10: FOTOGRAFIAS

Sheet MEMORIAL FOTOGRÁFICO 02
B2: BOLETIM 02 - MEMORIAL FOTOGRÁFICO
B3: OBJETO: | O3: CONTRATO: | P3: LICITAÇÃO Nº: | Q3: VALOR CONTRATADO:
B4: CONSTRUÇÃO DA CASA DE ACOLHIMENTO PARA CRIANÇAS E ADOCESLENTES, "CASA LAR", NO MUNICÍPIO DE SOUSA/PB. | O4: 682/2023 | P4: 03/2023 | Q4: 1240378.4
B5: EMPRESA CONTRATADA: | E5: CNPJ: | O5: CONTRATANTE:
B6: ALX CONSTRUÇÕES E LOCAÇÕES | E6: 17.490.708/0001-70 | O6: PREFEITURA MUNICIPAL DE SOUSA
B7: DATA | D7: PERÍODO DA MEDIÇÃO | E7: VALOR DA MEDIÇÃO: | H7: VALOR ACUMULADO ANTERIOR: | J7: VALOR ACUMULADO ANTERIOR: | Q7: MEDIÇÃO:
B8: 45291 | D8: 22/12/2023 a 31/01/2024 | E8: ='BOLETIM DE MEDIÇÃO 02'!E8 -> 61443.008 | H8: ='BOLETIM DE MEDIÇÃO 02'!H8 -> 66571.965 | Q8: 02
B10: FOTOGRAFIAS

Sheet orcamento
A3: ITEM | B3: CÓDIGO | C3: DESCRIÇÃO | D3: FONTE | E3: UND | F3: QUANTIDADE | G3: PREÇO UNITÁRIO R$ | H3: PREÇO TOTAL R$
A4: 1 | B4: CONSTRUÇÃO DA CASA DE ACOLHIMENTO PARA CRIANÇAS E ADOLESCENTES - CASA LAR, NO MUNICÍPIO DE SOUSA - PB | H4: 1240378.4
A5: 1.1 | B5: SERVIÇOS PRELIMINARES | H5: 44462.31
A6: 1.1.1 | B6: composição 1 | C6: PLACA DE OBRA EM CHAPA DE ACO GALVANIZADO [ADAPTADO SINAPI 74209/01] | D6: Composições Próprias | E6: M2 | F6: 6 | G6: 414.1 | H6: 2484.6
A7: 1.1.2 | B7: 93209 | C7: EXECUÇÃO DE ALMOXARIFADO EM CANTEIRO DE OBRA EM ALVENARIA, INCLUSO PRATELEIRAS. AF_02/2016 | D7: SINAPI | E7: M2 | F7: 5 | G7: 947.21 | H7: 4736.05
A8: 1.1.3 | B8: 93206 | C8: EXECUÇÃO DE ESCRITÓRIO EM CANTEIRO DE OBRA EM ALVENARIA, NÃO INCLUSO MOBILIÁRIO E EQUIPAMENTOS. AF_02/2016 | D8: SINAPI | E8: M2 | F8: 5 | G8: 1086.7 | H8: 5433.5
A9: 1.1.4 | B9: composição 11 | C9: Tapume em chapa compensada esp = 10mm (1 uso). [ADAPTADO ORSE 53] | D9: Composições Próprias | E9: M2 | F9: 277.4 | G9: 102.24 | H9: 28361.38
A10: 1.1.5 | B10: 98524 | C10: LIMPEZA MANUAL DE VEGETAÇÃO EM TERRENO COM ENXADA.AF_05/2018 | D10: SINAPI | E10: M2 | F10: 1430.2 | G10: 2.29 | H10: 3275.16
A11: 1.1.6 | B11: 100575 | C11: REGULARIZAÇÃO DE SUPERFÍCIES COM MOTONIVELADORA. AF_11/2019 | D11: SINAPI | E11: M2 | F11: 1430.2 | G11: 0.12 | H11: 171.62
A12: 1.2 | B12: MOVIMENTO DE TERRA | H12: 21705.09
A13: 1.2.1 | B13: 99059 | C13: LOCACAO CONVENCIONAL DE OBRA, UTILIZANDO GABARITO DE TÁBUAS CORRIDAS PONTALETADAS A CADA 2,00M - 2 UTILIZAÇÕES. AF_10/2018 | D13: SINAPI | E13: M | F13: 137.5 | G13: 52.4 | H13: 7205
A14: 1.2.2 | B14: 93358 | C14: ESCAVAÇÃO MANUAL DE VALA COM PROFUNDIDADE MENOR OU IGUAL A 1,30 M. AF_02/2021 | D14: SINAPI | E14: M3 | F14: 89.01 | G14: 64.95 | H14: 5781.2
A15: 1.2.3 | B15: 96995 | C15: REATERRO MANUAL APILOADO COM SOQUETE. AF_10/2017 | D15: SINAPI | E15: M3 | F15: 44.26 | G15: 39.37 | H15: 1742.52
A16: 1.2.4 | B16: 94319 | C16: ATERRO MANUAL DE VALAS COM SOLO ARGILO-ARENOSO E COMPACTAÇÃO MECANIZADA. AF_05/2016 | D16: SINAPI | E16: M3 | F16: 93.63 | G16: 74.51 | H16: 6976.37
A17: 1.3 | B17: FUNDAÇÃO | H17: 103558.14
A18: 1.3.1 | B18: composição 12 | C18: ALVENARIA DE EMBASAMENTO COM BLOCO CERÂMICO DE 9X14X19CM E ARGAMASSA DE ASSENTAMENTO COM PREPARO EM BETONEIRA. AF_05/2020. [ADAPTADO SINAPI 101166] | D18: Composições Próprias | E18: M3 | F18: 13.99 | G18: 411.48 | H18: 5756.61
A19: 1.3.2 | B19: 101616 | C19: PREPARO DE FUNDO DE VALA COM LARGURA MENOR QUE 1,5 M (ACERTO DO SOLO NATURAL). AF_08/2020 | D19: SINAPI | E19: M2 | F19: 37.81 | G19: 4.91 | H19: 185.65
A20: 1.3.3 | B20: 96619 | C20: LASTRO DE CONCRETO MAGRO, APLICADO EM BLOCOS DE COROAMENTO OU SAPATAS, ESPESSURA DE 5 CM. AF_08/2017 | D20: SINAPI | E20: M2 | F20: 77.41 | G20: 30.67 | H20: 2374.16
A21: 1.3.4 | B21: 96545 | C21: ARMAÇÃO DE BLOCO, VIGA BALDRAME OU SAPATA UTILIZANDO AÇO CA-50 DE 8 MM - MONTAGEM. AF_06/2017 | D21: SINAPI | E21: KG | F21: 537.3 | G21: 15.99 | H21: 8591.43
A22: 1.3.5 | B22: 94966 | C22: CONCRETO FCK = 30MPA, TRAÇO 1:2,1:2,5 (EM MASSA SECA DE CIMENTO/ AREIA MÉDIA/ BRITA 1) - PREPARO MECÂNICO COM BETONEIRA 400 L. AF_05/2021 | D22: SINAPI | E22: M3 | F22: 21.16 | G22: 530.88 | H22: 11233.42
A23: 1.3.6 | B23: 94964 | C23: CONCRETO FCK = 20MPA, TRAÇO 1:2,7:3 (EM MASSA SECA DE CIMENTO/ AREIA MÉDIA/ BRITA 1) - PREPARO MECÂNICO COM BETONEIRA 400 L. AF_05/2021 | D23: SINAPI | E23: M3 | F23: 9.6 | G23: 488.69 | H23: 4691.42
A24: 1.3.7 | B24: 103670 | C24: LANÇAMENTO COM USO DE BALDES, ADENSAMENTO E ACABAMENTO DE CONCRETO EM ESTRUTURAS. AF_02/2022 | D24: SINAPI | E24: M3 | F24: 30.76 | G24: 230.55 | H24: 7091.72
A25: 1.3.8 | B25: 96543 | C25: ARMAÇÃO DE BLOCO, VIGA BALDRAME E SAPATA UTILIZANDO AÇO CA-60 DE 5 MM - MONTAGEM. AF_06/2017 | D25: SINAPI | E25: KG | F25: 404.4 | G25: 17.5 | H25: 7077
A26: 1.3.9 | B26: 96544 | C26: ARMAÇÃO DE BLOCO, VIGA BALDRAME OU SAPATA UTILIZANDO AÇO CA-50 DE 6,3 MM - MONTAGEM. AF_06/2017 | D26: SINAPI | E26: KG | F26: 295 | G26: 16.59 | H26: 4894.05
A27: 1.3.10 | B27: 96546 | C27: ARMAÇÃO DE BLOCO, VIGA BALDRAME OU SAPATA UTILIZANDO AÇO CA-50 DE 10 MM - MONTAGEM. AF_06/2017 | D27: SINAPI | E27: KG | F27: 534.1 | G27: 14.35 | H27: 7664.34
A28: 1.3.11 | B28: 96547 | C28: ARMAÇÃO DE BLOCO, VIGA BALDRAME OU SAPATA UTILIZANDO AÇO CA-50 DE 12,5 MM - MONTAGEM. AF_06/2017 | D28: SINAPI | E28: KG | F28: 152.9 | G28: 11.9 | H28: 1819.51
A29: 1.3.12 | B29: 96536 | C29: FABRICAÇÃO, MONTAGEM E DESMONTAGEM DE FÔRMA PARA VIGA BALDRAME, EM MADEIRA SERRADA, E=25 MM, 4 UTILIZAÇÕES. AF_06/2017 | D29: SINAPI | E29: M2 | F29: 429.83 | G29: 69.64 | H29: 29933.36
A30: 1.3.13 | B30: 98557 | C30: IMPERMEABILIZAÇÃO DE SUPERFÍCIE COM EMULSÃO ASFÁLTICA, 2 DEMÃOS AF_06/2018 | D30: SINAPI | E30: M2 | F30: 253.95 | G30: 48.22 | H30: 12245.47
A31: 1.4 | B31: ESTRUTURA | H31: 156522.69
A32: 1.4.1 | B32: 92443 | C32: MONTAGEM E DESMONTAGEM DE FÔRMA DE PILARES RETANGULARES E ESTRUTURAS SIMILARES, PÉ-DIREITO SIMPLES, EM CHAPA DE MADEIRA COMPENSADA PLASTIFICADA, 18 UTILIZAÇÕES. AF_09/2020 | D32: SINAPI | E32: M2 | F32: 408.7 | G32: 40.35 | H32: 16491.05
A33: 1.4.2 | B33: 92480 | C33: MONTAGEM E DESMONTAGEM DE FÔRMA DE VIGA, ESCORAMENTO METÁLICO, PÉ-DIREITO SIMPLES, EM CHAPA DE MADEIRA PLASTIFICADA, 18 UTILIZAÇÕES. AF_09/2020 | D33: SINAPI | E33: M2 | F33: 435.33 | G33: 62.17 | H33: 27064.47
A34: 1.4.3 | B34: 92267 | C34: FABRICAÇÃO DE FÔRMA PARA LAJES, EM CHAPA DE MADEIRA COMPENSADA RESINADA, E = 17 MM. AF_09/2020 | D34: SINAPI | E34: M2 | F34: 111.15 | G34: 30.99 | H34: 3444.54
A35: 1.4.4 | B35: 92759 | C35: ARMAÇÃO DE PILAR OU VIGA DE ESTRUTURA CONVENCIONAL DE CONCRETO ARMADO UTILIZANDO AÇO CA-60 DE 5,0 MM - MONTAGEM. AF_06/2022 | D35: SINAPI | E35: KG | F35: 1027.8 | G35: 14.67 | H35: 15077.83
A36: 1.4.5 | B36: 92760 | C36: ARMAÇÃO DE PILAR OU VIGA DE ESTRUTURA CONVENCIONAL DE CONCRETO ARMADO UTILIZANDO AÇO CA-50 DE 6,3 MM - MONTAGEM. AF_06/2022 | D36: SINAPI | E36: KG | F36: 39.1 | G36: 14.4 | H36: 563.04
A37: 1.4.6 | B37: 92761 | C37: ARMAÇÃO DE PILAR OU VIGA DE ESTRUTURA CONVENCIONAL DE CONCRETO ARMADO UTILIZANDO AÇO CA-50 DE 8,0 MM - MONTAGEM. AF_06/2022 | D37: SINAPI | E37: KG | F37: 1000 | G37: 14.25 | H37: 14250
A38: 1.4.7 | B38: 92762 | C38: ARMAÇÃO DE PILAR OU VIGA DE ESTRUTURA CONVENCIONAL DE CONCRETO ARMADO UTILIZANDO AÇO CA-50 DE 10,0 MM - MONTAGEM. AF_06/2022 | D38: SINAPI | E38: KG | F38: 1306.1 | G38: 12.94 | H38: 16900.93
A39: 1.4.8 | B39: 92763 | C39: ARMAÇÃO DE PILAR OU VIGA DE ESTRUTURA CONVENCIONAL DE CONCRETO ARMADO UTILIZANDO AÇO CA-50 DE 12,5 MM - MONTAGEM. AF_06/2022 | D39: SINAPI | E39: KG | F39: 168.2 | G39: 10.71 | H39: 1801.42
A40: 1.4.9 | B40: 92768 | C40: ARMAÇÃO DE LAJE DE ESTRUTURA CONVENCIONAL DE CONCRETO ARMADO UTILIZANDO AÇO CA-60 DE 5,0 MM - MONTAGEM. AF_06/2022 | D40: SINAPI | E40: KG | F40: 158.7 | G40: 14.31 | H40: 2271
A41: 1.4.10 | B41: 92769 | C41: ARMAÇÃO DE LAJE DE ESTRUTURA CONVENCIONAL DE CONCRETO ARMADO UTILIZANDO AÇO CA-50 DE 6,3 MM - MONTAGEM. AF_06/2022 | D41: SINAPI | E41: KG | F41: 170.5 | G41: 14.01 | H41: 2388.71
A42: 1.4.11 | B42: 92770 | C42: ARMAÇÃO DE LAJE DE ESTRUTURA CONVENCIONAL DE CONCRETO ARMADO UTILIZANDO AÇO CA-50 DE 8,0 MM - MONTAGEM. AF_06/2022 | D42: SINAPI | E42: KG | F42: 279.1 | G42: 13.86 | H42: 3868.33
...
