Workbook

Sheet ORÇAMENTO
A2: PREFEITURA MUNICIPAL DE SOUSA
A3: PLANILHA ORÇAMENTÁRIA SINTÉTICA
A4: OBRA : CENTRO DE ONCOLOGIA DE SOUSA
A5: ENDEREÇO: RUA LUIZ PEREIRA DA SILVA, S/N, CENTRO, SOUSA-PB
A6: REFERÊNCIA: ORSE, SEINFRA-CE E SINAPI-PB(FEVEREIRO/2022) C/DESONERAÇÃO - ENCARGOS SOCIAIS : 86,59% (HORA) - 48,16 % (MÊS) | H6: BDI = 26,63%
A7: Empresa: COMPACTO CONSTRUÇÕES E SERVIÇOS - EIRELE - CNPJ: 09.545.520/0001-54 - Telefone: (83) 9 9117-7810 - Email: compactoconstrucoes1@gmail.com
A8: Responsável Técnico: LÚCIO LAURO BARBOSA - CREA/PB Nº 160.594.868-3
A9: ITEM | B9: FONTE | C9: CÓDIGO | D9: DISCRIMINAÇÃO DO SERVIÇOS | E9: UNID. | F9: QUANT. | G9: VALOR UNIT. (R$) | H9: VALOR TOTAL (R$)
A11: 1 | B11: SERVIÇOS PRELIMINARES | H11: =SUM(H12:H16) -> 18776.64 | J11: 0.965
A12: 1.1 | B12: ORSE | C12: 51 | D12: Placa de Obra em chapa de aço galvanizado, instalada - Rev 02 01/2022 | E12: m² | F12: 4.5 | G12: =L12 -> 334.14 | H12: =ROUND(F12*G12,2) -> 1503.63 | K12: 346.26 | L12: =ROUND(K12*$J$11,2) -> 334.14
A13: 1.2 | B13: SINAPI | C13: 97622 | D13: DEMOLIÇÃO DE ALVENARIA DE BLOCOFURADO, DE FORMA MANUAL, SEM REAPROVEITAMENTO | E13: m³ | F13: 63.41 | G13: =L13 -> 36.7 | H13: =ROUND(F13*G13,2) -> 2327.15 | K13: 38.03 | L13: =ROUND(K13*$J$11,2) -> 36.7
A14: 1.3 | B14: ORSE | C14: 3240 | D14: Demolição de piso de alta resistência | E14: m² | F14: 774.83 | G14: =L14 -> 16.44 | H14: =ROUND(F14*G14,2) -> 12738.21 | K14: 17.04 | L14: =ROUND(K14*$J$11,2) -> 16.44
A15: 1.4 | B15: SINAPI | C15: 97650 | D15: REMOÇÃO DE TRAMA DE MADEIRA PARA COBERTURA, DE FORMA MANUAL, SEM REAPROVEITAMENTO. AF 12/2017 | E15: m² | F15: 309.93 | G15: =L15 -> 4.75 | H15: =ROUND(F15*G15,2) -> 1472.17 | K15: 4.92 | L15: =ROUND(K15*$J$11,2) -> 4.75
A16: 1.5 | B16: SINAPI | C16: 100981 | D16: CARGA, MANOBRA E DESCARGA DE ENTULHO EM CAMINHÃO BASCULANTE 6 M³ - CARGA COM ESCAVADEIRA HIDRÁULICA (CAÇAMBA DE 0,80 M³/111 HP) E DESCARGA LIVRE (UNIDADE: M³). AF 07/2020 | E16: m³ | F16: 102.15 | G16: =L16 -> 7.2 | H16: =ROUND(F16*G16,2) -> 735.48 | K16: 7.46 | L16: =ROUND(K16*$J$11,2) -> 7.2
L17: =ROUND(K17*$J$11,2) -> 0
A18: 2 | B18: INFRA ESTRUTURA E SUPERESTRUTURA | H18: =SUM(H19:H34) -> 92960.22 | L18: =ROUND(K18*$J$11,2) -> 0
A19: 2.1 | B19: SINAPI | C19: 96523 | D19: ESCAVAÇÃO MANUAL PARA BLOCO DE COROAMENTO OU SAPATA (INCLUINDO ESCAVAÇÃO PARA COLOCAÇÃO DE FÔRMAS). AF_06/2017 | E19: m³ | F19: 28.86 | G19: =L19 -> 63.86 | H19: =ROUND(F19*G19,2) -> 1843 | K19: 66.18 | L19: =ROUND(K19*$J$11,2) -> 63.86
A20: 2.2 | B20: SINAPI | C20: 101964 | D20: LAJE PRÉ-MOLDADA UNIDIRECIONAL, BIAPOIADA, PARA FORRO, ENCHIMENTO EM CERÂMICA, VIGOTA CONVENCIONAL, ALTURA TOTAL DA LAJE (ENCHIMENTO+CAPA) = (8+3). AF_11/2020 | E20: m² | F20: 57.88 | G20: =L20 -> 141.66 | H20: =ROUND(F20*G20,2) -> 8199.28 | K20: 146.8 | L20: =ROUND(K20*$J$11,2) -> 141.66
A21: 2.3 | B21: SINAPI | C21: 96619 | D21: LASTRO DE CONCRETO MAGRO, APLICADO EM BLOCOS DE COROAMENTO OU SAPATAS, ESPESSURA DE 5 CM. AF_08/2017 | E21: m² | F21: 19.24 | G21: =L21 -> 22.75 | H21: =ROUND(F21*G21,2) -> 437.71 | K21: 23.57 | L21: =ROUND(K21*$J$11,2) -> 22.75
A22: 2.4 | B22: SINAPI | C22: 94971 | D22: CONCRETO FCK = 25MPA, TRAÇO 1:2,3:2,7 (EM MASSA SECA DE CIMENTO/ AREIA MÉDIA/ BRITA 1) - PREPARO MECÂNICO COM BETONEIRA 600 L. AF_05/2021 | E22: m³ | F22: 5.8 | G22: =L22 -> 353.29 | H22: =ROUND(F22*G22,2) -> 2049.08 | K22: 366.1 | L22: =ROUND(K22*$J$11,2) -> 353.29
A23: 2.5 | B23: SINAPI | C23: 94972 | D23: CONCRETO FCK = 30MPA, TRAÇO 1:2,1:2,5 (EM MASSA SECA DE CIMENTO/ AREIA MÉDIA/ BRITA 1) - PREPARO MECÂNICO COM BETONEIRA 600 L. AF_05/2021 | E23: m³ | F23: 30.1 | G23: =L23 -> 364.81 | H23: =ROUND(F23*G23,2) -> 10980.78 | K23: 378.04 | L23: =ROUND(K23*$J$11,2) -> 364.81
A24: 2.6 | B24: SINAPI | C24: 92873 | D24: LANÇAMENTO COM USO DE BALDES, ADENSAMENTO E ACABAMENTO DE CONCRETO EM ESTRUTURAS. AF_12/2015 | E24: m³ | F24: 35.9 | G24: =L24 -> 191.33 | H24: =ROUND(F24*G24,2) -> 6868.75 | K24: 198.27 | L24: =ROUND(K24*$J$11,2) -> 191.33
A25: 2.7 | B25: ORSE | C25: 90 | D25: Forma plana para fundações, em tábua de pinho, 07 usos. | E25: m² | F25: 19.3 | G25: =L25 -> 65.36 | H25: =ROUND(F25*G25,2) -> 1261.45 | K25: 67.73 | L25: =ROUND(K25*$J$11,2) -> 65.36
A26: 2.8 | B26: ORSE | C26: 3366 | D26: Forma plana para estruturas, em compensado plastificado de 12mm, 07 usos. | E26: m² | F26: 421.3 | G26: =L26 -> 55.18 | H26: =ROUND(F26*G26,2) -> 23247.33 | K26: 57.18 | L26: =ROUND(K26*$J$11,2) -> 55.18
A27: 2.9 | B27: SINAPI | C27: 92763 | D27: ARMAÇÃO DE PILAR OU VIGA DE UMA ESTRUTURA CONVENCIONAL DE CONCRETO ARMADO EM UM EDIFÍCIO DE MÚLTIPLOS PAVIMENTOS UTILIZANDO AÇO CA-50 DE 12,5 MM - MONTAGEM. AF_12/2015 | E27: kg | F27: 480.3 | G27: =L27 -> 10.32 | H27: =ROUND(F27*G27,2) -> 4956.7 | K27: 10.69 | L27: =ROUND(K27*$J$11,2) -> 10.32
A28: 2.10 | B28: SINAPI | C28: 92762 | D28: ARMAÇÃO DE PILAR OU VIGA DE UMA ESTRUTURA CONVENCIONAL DE CONCRETO ARMADO EM UM EDIFÍCIO DE MÚLTIPLOS PAVIMENTOS UTILIZANDO AÇO CA-50 DE 10,0 MM - MONTAGEM. AF_12/2015 | E28: kg | F28: 1608.2 | G28: =L28 -> 12.09 | H28: =ROUND(F28*G28,2) -> 19443.14 | K28: 12.53 | L28: =ROUND(K28*$J$11,2) -> 12.09
A29: 2.11 | B29: SINAPI | C29: 92764 | D29: ARMAÇÃO DE PILAR OU VIGA DE UMA ESTRUTURA CONVENCIONAL DE CONCRETO ARMADO EM UM EDIFÍCIO DE MÚLTIPLOS PAVIMENTOS UTILIZANDO AÇO CA-50 DE 16,0 MM - MONTAGEM. AF_12/2015 | E29: kg | F29: 63.1 | G29: =L29 -> 9.97 | H29: =ROUND(F29*G29,2) -> 629.11 | K29: 10.33 | L29: =ROUND(K29*$J$11,2) -> 9.97
A30: 2.12 | B30: SINAPI | C30: 92759 | D30: ARMAÇÃO DE PILAR OU VIGA DE UMA ESTRUTURA CONVENCIONAL DE CONCRETO ARMADO EM UM EDIFÍCIO DE MÚLTIPLOS PAVIMENTOS UTILIZANDO AÇO CA-60 DE 5,0 MM - MONTAGEM. AF_12/2015 | E30: kg | F30: 651.9 | G30: =L30 -> 13.99 | H30: =ROUND(F30*G30,2) -> 9120.08 | K30: 14.5 | L30: =ROUND(K30*$J$11,2) -> 13.99
... A34: 2.16 | B34: SINAPI | C34: 93194 | D34: CONTRAVERGA PRÉ-MOLDADA PARA VÃOS DE ATÉ 1,5 M DE COMPRIMENTO. AF_03/2016 | E34: m | F34: 16.9 | G34: =L34 -> 39.74 | H34: =ROUND(F34*G34,2) -> 671.61 | K34: 41.18 | L34: =ROUND(K34*$J$11,2) -> 39.74
L35: =ROUND(K35*$J$11,2) -> 0
A36: 3 | B36: ALVENARIA E VEDAÇÕES | H36: =SUM(H37:H38) -> 43303.58 | L36: =ROUND(K36*$J$11,2) -> 0
A37: 3.1 | B37: SINAPI | C37: 103326 | D37: ALVENARIA DE VEDAÇÃO DE BLOCOS CERÂMICOS FURADOS NA VERTICAL DE 19X19X39 CM (ESPESSURA 19 CM) E ARGAMASSA DE ASSENTAMENTO COM PREPARO EM BETONEIRA. AF_12/2021 | E37: m² | F37: 209.45 | G37: =L37 -> 61.96 | H37: =ROUND(F37*G37,2) -> 12977.52 | K37: 64.21 | L37: =ROUND(K37*$J$11,2) -> 61.96
A38: 3.2 | B38: ORSE | C38: 191 | D38: Divisória em granito cinza andorinha polido, e=2cm, inclusive com montagem em ferragem - Rev 02. | E38: m² | F38: 53.89 | G38: =L38 -> 562.74 | H38: =ROUND(F38*G38,2) -> 30326.06 | K38: 583.15 | L38: =ROUND(K38*$J$11,2) -> 562.74
L39: =ROUND(K39*$J$11,2) -> 0
A40: 4 | B40: IMPERMEABILIZAÇÕES | H40: =SUM(H41:H42) -> 6503.26 | L40: =ROUND(K40*$J$11,2) -> 0
A41: 4.1 | B41: SINAPI | C41: 98557 | D41: IMPERMEABILIZAÇÃO DE SUPERFÍCIE COM EMULSÃO ASFÁLTICA, 2 DEMÃOS AF_06/2018 | E41: m² | F41: 25.12 | G41: =L41 -> 38.52 | H41: =ROUND(F41*G41,2) -> 967.62 | K41: 39.92 | L41: =ROUND(K41*$J$11,2) -> 38.52
A42: 4.2 | B42: SINAPI | C42: 98546 | D42: IMPERMEABILIZAÇÃO DE SUPERFÍCIE COM MANTA ASFÁLTICA, UMA CAMADA, INCLUSIVE APLICAÇÃO DE PRIMER ASFÁLTICO, E=3MM. AF_06/2018 | E42: m² | F42: 57.88 | G42: =L42 -> 95.64 | H42: =ROUND(F42*G42,2) -> 5535.64 | K42: 99.11 | L42: =ROUND(K42*$J$11,2) -> 95.64
L43: =ROUND(K43*$J$11,2) -> 0
A44: 5 | B44: COBERTURAS E PROTEÇÕES | H44: =SUM(H45:H47) -> 51264.13 | L44: =ROUND(K44*$J$11,2) -> 0
A45: 5.1 | B45: SINAPI | C45: 92539 | D45: TRAMA DE MADEIRA COMPOSTA POR RIPAS, CAIBROS E TERÇAS PARA TELHADOS DE ATÉ 2 ÁGUAS PARA TELHA DE ENCAIXE DE CERÂMICA OU DE CONCRETO, INCLUSO TRANSPORTE VERTICAL. AF_07/2019 | E45: m² | F45: 309.93 | G45: =L45 -> 60.47 | H45: =ROUND(F45*G45,2) -> 18741.47 | K45: 62.66 | L45: =ROUND(K45*$J$11,2) -> 60.47
A46: 5.2 | B46: SINAPI | C46: 94201 | D46: TELHAMENTO COM TELHA CERÂMICA CAPA-CANAL, TIPO COLONIAL, COM ATÉ 2 ÁGUAS, INCLUSO TRANSPORTE VERTICAL. AF_07/2019 | E46: m² | F46: 309.93 | G46: =L46 -> 29.61 | H46: =ROUND(F46*G46,2) -> 9177.03 | K46: 30.68 | L46: =ROUND(K46*$J$11,2) -> 29.61
A47: 5.3 | B47: SINAPI | C47: 96113 | D47: FORRO EM PLACAS DE GESSO, PARA AMBIENTES COMERCIAIS. AF_05/2017_P | E47: m² | F47: 774.83 | G47: =L47 -> 30.13 | H47: =ROUND(F47*G47,2) -> 23345.63 | K47: 31.22 | L47: =ROUND(K47*$J$11,2) -> 30.13
L48: =ROUND(K48*$J$11,2) -> 0
A49: 6 | B49: ESQUADRIAS | H49: =H50+H62+H66 -> 90991.08 | L49: =ROUND(K49*$J$11,2) -> 0
A50: 6.1 | B50: METÁLICA, ALUMÍNIO C/ VIDRO E MADEIRA | H50: =SUM(H51:H60) -> 66276.94 | L50: =ROUND(K50*$J$11,2) -> 0
A51: 6.1.1 | B51: SINAPI | C51: 94570 | D51: JANELA DE ALUMÍNIO DE CORRER COM 2 FOLHAS PARA VIDROS, COM VIDROS, BATENTE, ACABAMENTO COM ACETATO OU BRILHANTE E FERRAGENS. EXCLUSIVE ALIZAR E CONTRAMARCO. FORNECIMENTO E INSTALAÇÃO. AF_12/2019 | E51: m² | F51: 16.56 | G51: =L51 -> 609.28 | H51: =ROUND(F51*G51,2) -> 10089.68 | K51: 631.38 | L51: =ROUND(K51*$J$11,2) -> 609.28
A52: 6.1.2 | B52: SINAPI | C52: 94569 | D52: JANELA DE ALUMÍNIO TIPO MAXIM-AR, COM VIDROS, BATENTE E FERRAGENS. EXCLUSIVE ALIZAR, ACABAMENTO E CONTRAMARCO. FORNECIMENTO E INSTALAÇÃO. AF_12/2019 | E52: m² | F52: 2.5 | G52: =L52 -> 1144.23 | H52: =ROUND(F52*G52,2) -> 2860.58 | K52: 1185.73 | L52: =ROUND(K52*$J$11,2) -> 1144.23
A53: 6.1.3 | B53: SINAPI | C53: 91341 | D53: PORTA EM ALUMÍNIO DE ABRIR TIPO VENEZIANA COM GUARNIÇÃO, FIXAÇÃO COM PARAFUSOS - FORNECIMENTO E INSTALAÇÃO. AF_12/2019 | E53: m² | F53: 7.92 | G53: =L53 -> 765.63 | H53: =ROUND(F53*G53,2) -> 6063.79 | K53: 793.4 | L53: =ROUND(K53*$J$11,2) -> 765.63
A54: 6.1.4 | B54: SINAPI | C54: 100701 | D54: PORTA DE FERRO, DE ABRIR, TIPO GRADE COM CHAPA, COM GUARNIÇÕES. AF_12/2019 | E54: m² | F54: 5.31 | G54: =L54 -> 571.84 | H54: =ROUND(F54*G54,2) -> 3036.47 | K54: 592.58 | L54: =ROUND(K54*$J$11,2) -> 571.84
A55: 6.1.5 | B55: ORSE | C55: 12036 | D55: Portão em ferro, em tubo de aço galvanizado 2" e tela ondulada, malha 3/8". | E55: m² | F55: 6.62 | G55: =L55 -> 743.01 | H55: =ROUND(F55*G55,2) -> 4918.73 | K55: 769.96 | L55: =ROUND(K55*$J$11,2) -> 743.01
A56: 6.1.6 | B56: SINAPI | C56: 90841 | D56: KIT DE PORTA DE MADEIRA PARA PINTURA, SEMI-OCA (LEVE OU MÉDIA), PADRÃO MÉDIO, 60X210CM, ESPESSURA DE 3,5CM, ITENS INCLUSOS: DOBRADIÇAS, MONTAGEM E INSTALAÇÃO DO BATENTE, FECHADURA COM EXECUÇÃO DO FURO - FORNECIMENTO E INSTALAÇÃO. AF_12/2019 | E56: unid | F56: 8 | G56: =L56 -> 800.72 | H56: =ROUND(F56*G56,2) -> 6405.76 | K56: 829.76 | L56: =ROUND(K56*$J$11,2) -> 800.72
A57: 6.1.7 | B57: SINAPI | C57: 90842 | D57: KIT DE PORTA DE MADEIRA PARA PINTURA, SEMI-OCA (LEVE OU MÉDIA), PADRÃO MÉDIO, 70X210CM, ESPESSURA DE 3,5CM, ITENS INCLUSOS: DOBRADIÇAS, MONTAGEM E INSTALAÇÃO DO BATENTE, FECHADURA COM EXECUÇÃO DO FURO - FORNECIMENTO E INSTALAÇÃO. AF_12/2019 | E57: unid | F57: 3 | G57: =L57 -> 807.21 | H57: =ROUND(F57*G57,2) -> 2421.63 | K57: 836.49 | L57: =ROUND(K57*$J$11,2) -> 807.21
A58: 6.1.8 | B58: SINAPI | C58: 90843 | D58: KIT DE PORTA DE MADEIRA PARA PINTURA, SEMI-OCA (LEVE OU MÉDIA), PADRÃO MÉDIO, 80X210CM, ESPESSURA DE 3,5CM, ITENS INCLUSOS: DOBRADIÇAS, MONTAGEM E INSTALAÇÃO DO BATENTE, FECHADURA COM EXECUÇÃO DO FURO - FORNECIMENTO E INSTALAÇÃO. AF_12/2019 | E58: unid | F58: 2 | G58: =L58 -> 843.46 | H58: =ROUND(F58*G58,2) -> 1686.92 | K58: 874.05 | L58: =ROUND(K58*$J$11,2) -> 843.46
A59: 6.1.9 | B59: SINAPI | C59: 90844 | D59: KIT DE PORTA DE MADEIRA PARA PINTURA, SEMI-OCA (LEVE OU MÉDIA), PADRÃO MÉDIO, 90X210CM, ESPESSURA DE 3,5CM, ITENS INCLUSOS: DOBRADIÇAS, MONTAGEM E INSTALAÇÃO DO BATENTE, FECHADURA COM EXECUÇÃO DO FURO - FORNECIMENTO E INSTALAÇÃO. AF_12/2019 | E59: unid | F59: 22 | G59: =L59 -> 907.58 | H59: =ROUND(F59*G59,2) -> 19966.76 | K59: 940.5 | L59: =ROUND(K59*$J$11,2) -> 907.58
A60: 6.1.10 | B60: ORSE | C60: 3629 | D60: Porta em madeira compensada (canela), lisa e semi-oca, 1,00 x 2,10 m, inclusive batentes e ferragens. | E60: unid | F60: 11 | G60: =L60 -> 802.42 | H60: =ROUND(F60*G60,2) -> 8826.62 | K60: 831.52 | L60: =ROUND(K60*$J$11,2) -> 802.42
L61: =ROUND(K61*$J$11,2) -> 0
A62: 6.2 | B62: VIDRO | H62: =SUM(H63:H64) -> 23917.04 | L62: =ROUND(K62*$J$11,2) -> 0
A63: 6.2.1 | B63: ORSE | C63: 13096 | D63: Porta em vidro temperado 10mm, incolor,inclusive ferragens de fixação e instalação, exclusive puxador. | E63: m² | F63: 23.1 | G63: =L63 -> 527.82 | H63: =ROUND(F63*G63,2) -> 12192.64 | K63: 546.96 | L63: =ROUND(K63*$J$11,2) -> 527.82
A64: 6.2.2 | B64: SINAPI | C64: 100702 | D64: PORTA DE CORRER DE ALUMÍNIO, COM DUAS FOLHAS PARA VIDRO, INCLUSO VIDRO LISO INCOLOR, FECHADURA E PUXADOR, SEM ALIZAR. AF_12/2019 | E64: m² | F64: 25.08 | G64: =L64 -> 467.48 | H64: =ROUND(F64*G64,2) -> 11724.4 | K64: 484.44 | L64: =ROUND(K64*$J$11,2) -> 467.48
L65: =ROUND(K65*$J$11,2) -> 0
A66: 6.3 | B66: FERRAGENS | H66: =SUM(H67:H68) -> 797.1 | L66: =ROUND(K66*$J$11,2) -> 0
A67: 6.3.1 | B67: ORSE | C67: 9733 | D67: Puxador duplo para porta, em alumínio polido, d = 1", I = 40mm, ref. 3008, Vesfer | E67: unid | F67: 2 | G67: =L67 -> 200.85 | H67: =ROUND(F67*G67,2) -> 401.7 | K67: 208.13 | L67: =ROUND(K67*$J$11,2) -> 200.85
A68: 6.3.2 | B68: SINAPI | C68: 100705 | D68: TARJETA TIPO LIVRE/OCUPADO PARA PORTA DE BANHEIRO. AF_12/2019 | E68: unid | F68: 6 | G68: =L68 -> 65.9 | H68: =ROUND(F68*G68,2) -> 395.4 | K68: 68.29 | L68: =ROUND(K68*$J$11,2) -> 65.9
L69: =ROUND(K69*$J$11,2) -> 0
A70: 7 | B70: REVESTIMENTO | H70: =SUM(H71:H74) -> 77673.48 | L70: =ROUND(K70*$J$11,2) -> 0
A71: 7.1 | B71: SINAPI | C71: 87529 | D71: MASSA ÚNICA, PARA RECEBIMENTO DE PINTURA, EM ARGAMASSA TRAÇO 1:2:8, PREPARO MECÂNICO COM BETONEIRA 400L, APLICADA MANUALMENTE EM FACES INTERNAS DE PAREDES, ESPESSURA DE 20MM, COM EXECUÇÃO DE TALISCAS. AF_06/2014 | E71: m² | F71: 418.9 | G71: =L71 -> 24.97 | H71: =ROUND(F71*G71,2) -> 10459.93 | K71: 25.88 | L71: =ROUND(K71*$J$11,2) -> 24.97
A72: 7.2 | B72: SINAPI | C72: 87879 | D72: CHAPISCO APLICADO EM ALVENARIAS E ESTRUTURAS DE CONCRETO INTERNAS, COM COLHER DE PEDREIRO. ARGAMASSA TRAÇO 1:3 COM PREPARO EM BETONEIRA 400L. AF_06/2014 | E72: m² | F72: 418.9 | G72: 2.99 | H72: =ROUND(F72*G72,2) -> 1252.51 | K72: 2099 | L72: =ROUND(K72*$J$11,2) -> 2025.54
A73: 7.3 | B73: SINAPI | C73: 87273 | E73: m² | F73: 423.52 | G73: =L73 -> 61.37 | H73: =ROUND(F73*G73,2) -> 25991.42 | K73: 63.6 | L73: =ROUND(K73*$J$11,2) -> 61.37
A74: 7.4 | B74: ORSE | C74: 12420 | E74: m² | F74: 99.65 | G74: =L74 -> 401.1 | H74: =ROUND(F74*G74,2) -> 39969.62 | K74: 415.65 | L74: =ROUND(K74*$J$11,2) -> 401.1
L75: =ROUND(K75*$J$11,2) -> 0
A76: 8 | B76: PAVIMENTAÇÃO | H76: =SUM(H77:H80) -> 139210.14 | L76: =ROUND(K76*$J$11,2) -> 0
A77: 8.1 | B77: SINAPI | C77: 87620 | D77: CONTRAPISO EM ARGAMASSA TRAÇO 1:4 (CIMENTO E AREIA), PREPARO MECÂNICO COM BETONEIRA 400 L, APLICADO EM ÁREAS SECAS SOBRE LAJE, ADERIDO, ACABAMENTO NÃO REFORÇADO, ESPESSURA 2CM. AF_07/2021 | E77: m² | F77: 774.83 | G77: =L77 -> 22.3 | H77: =ROUND(F77*G77,2) -> 17278.71 | K77: 23.11 | L77: =ROUND(K77*$J$11,2) -> 22.3
A78: 8.2 | B78: SINAPI | C78: 87263 | D78: REVESTIMENTO CERÂMICO PARA PISO COM PLACAS TIPO PORCELANATO DE DIMENSÕES 60X60 CM APLICADA EM AMBIENTES DE ÁREA MAIOR QUE 10 M². AF_06/2014 | E78: m² | F78: 774.83 | G78: =L78 -> 145.32 | H78: =ROUND(F78*G78,2) -> 112598.3 | K78: 150.59 | L78: =ROUND(K78*$J$11,2) -> 145.32
A79: 8.3 | B79: SINAPI | C79: 98504 | D79: PLANTIO DE GRAMA EM PLACAS. AF_05/2018 | E79: m² | F79: 176.89 | G79: =L79 -> 13.07 | H79: =ROUND(F79*G79,2) -> 2311.95 | K79: 13.54 | L79: =ROUND(K79*$J$11,2) -> 13.07
A80: 8.4 | B80: SINAPI | C80: 101819 | D80: RECOMPOSIÇÃO DE PAVIMENTO EM PARALELEPÍPEDOS, REJUNTAMENTO COM ARGAMASSA, COM REAPROVEITAMENTO DOS PARALELEPÍPEDOS, PARA O FECHAMENTO DE VALAS - INCLUSO RETIRADA E COLOCAÇÃO DO MATERIAL. AF_12/2020 | E80: m² | F80: 155.13 | G80: =L80 -> 45.26 | H80: =ROUND(F80*G80,2) -> 7021.18 | K80: 46.9 | L80: =ROUND(K80*$J$11,2) -> 45.26
L81: =ROUND(K81*$J$11,2) -> 0
A82: 9 | B82: INSTALAÇÕES HIDRO-SANITÁRIAS-PLUVIAL-INCÊNDIO | H82: =H83+H113+H139 -> 76924.92 | L82: =ROUND(K82*$J$11,2) -> 0
A83: 9.1 | B83: SISTEMA PREDIAL DE ESGOTO SANITÁRIO -NBR 9160 | H83: =SUM(H84:H111) -> 26869.97 | L83: =ROUND(K83*$J$11,2) -> 0
A84: 9.1.1 | B84: SINAPI | C84: 89707 | D84: CAIXA SIFONADA, PVC, DN 100 X 100 X 50 MM, JUNTA ELÁSTICA, FORNECIDA E INSTALADA EM RAMAL DE DESCARGA OU EM RAMAL DE ESGOTO SANITÁRIO. AF_12/2014 | E84: unid | F84: 28 | G84: 32.41 | H84: =ROUND(F84*G84,2) -> 907.48 | K84: 34.71 | L84: =ROUND(K84*$J$11,2) -> 33.5
A85: 9.1.2 | B85: SINAPI | C85: 89744 | D85: JOELHO 90 GRAUS, PVC, SERIE NORMAL, ESGOTO PREDIAL, DN 100 MM, JUNTA ELÁSTICA, FORNECIDO E INSTALADO EM RAMAL DE DESCARGA OU RAMAL DE ESGOTO SANITÁRIO. AF_12/2014 | E85: unid | F85: 13 | G85: =L85 -> 21 | H85: =ROUND(F85*G85,2) -> 273 | K85: 21.76 | L85: =ROUND(K85*$J$11,2) -> 21
A86: 9.1.3 | B86: SINAPI | C86: 89724 | D86: JOELHO 90 GRAUS, PVC, SERIE NORMAL, ESGOTO PREDIAL, DN 40 MM, JUNTA SOLDÁVEL, FORNECIDO E INSTALADO EM RAMAL DE DESCARGA OU RAMAL DE ESGOTO SANITÁRIO. AF_12/2014 | E86: unid | F86: 63 | G86: =L86 -> 8.46 | H86: =ROUND(F86*G86,2) -> 532.98 | K86: 8.77 | L86: =ROUND(K86*$J$11,2) -> 8.46
A87: 9.1.4 | B87: SINAPI | C87: 89731 | D87: JOELHO 90 GRAUS, PVC, SERIE NORMAL, ESGOTO PREDIAL, DN 50 MM, JUNTA ELÁSTICA, FORNECIDO E INSTALADO EM RAMAL DE DESCARGA OU RAMAL DE ESGOTO SANITÁRIO. AF_12/2014 | E87: unid | F87: 38 | G87: =L87 -> 8.92 | H87: =ROUND(F87*G87,2) -> 338.96 | K87: 9.24 | L87: =ROUND(K87*$J$11,2) -> 8.92
A88: 9.1.5 | B88: SINAPI | C88: 89726 | D88: JOELHO 45 GRAUS, PVC, SERIE NORMAL, ESGOTO PREDIAL, DN 40 MM, JUNTA SOLDÁVEL, FORNECIDO E INSTALADO EM RAMAL DE DESCARGA OU RAMAL DE ESGOTO SANITÁRIO. AF_12/2014 | E88: unid | F88: 30 | G88: =L88 -> 5.5 | H88: =ROUND(F88*G88,2) -> 165 | K88: 5.7 | L88: =ROUND(K88*$J$11,2) -> 5.5
A89: 9.1.6 | B89: SINAPI | C89: 89732 | D89: JOELHO 45 GRAUS, PVC, SERIE NORMAL, ESGOTO PREDIAL, DN 50 MM, JUNTA ELÁSTICA, FORNECIDO E INSTALADO EM RAMAL DE DESCARGA OU RAMAL DE ESGOTO SANITÁRIO. AF_12/2014 | E89: unid | F89: 25 | G89: =L89 -> 9.62 | H89: =ROUND(F89*G89,2) -> 240.5 | K89: 9.97 | L89: =ROUND(K89*$J$11,2) -> 9.62
A90: 9.1.7 | B90: SINAPI | C90: 89746 | D90: JOELHO 45 GRAUS, PVC, SERIE NORMAL, ESGOTO PREDIAL, DN 100 MM, JUNTA ELÁSTICA, FORNECIDO E INSTALADO EM RAMAL DE DESCARGA OU RAMAL DE ESGOTO SANITÁRIO. AF_12/2014 | E90: unid | F90: 11 | G90: =L90 -> 20.93 | H90: =ROUND(F90*G90,2) -> 230.23 | K90: 21.69 | L90: =ROUND(K90*$J$11,2) -> 20.93
A91: 9.1.8 | B91: SINAPI | C91: 89797 | D91: JUNÇÃO SIMPLES, PVC, SERIE NORMAL, ESGOTO PREDIAL, DN 100 X 100 MM, JUNTA ELÁSTICA, FORNECIDO E INSTALADO EM RAMAL DE DESCARGA OU RAMAL DE ESGOTO SANITÁRIO. AF_12/2014 | E91: unid | F91: 2 | G91: =L91 -> 42.5 | H91: =ROUND(F91*G91,2) -> 85 | K91: 44.04 | L91: =ROUND(K91*$J$11,2) -> 42.5
A92: 9.1.9 | B92: ORSE | C92: 1560 | D92: Junção simples em pvc rígido soldável, para esgoto primário, diâm = 75 x 50 mm. | E92: unid | F92: 3 | G92: =L92 -> 32.97 | H92: =ROUND(F92*G92,2) -> 98.91 | K92: 34.17 | L92: =ROUND(K92*$J$11,2) -> 32.97
A93: 9.1.10 | B93: ORSE | C93: 1562 | D93: Junção simples em pvc rígido soldável, para esgoto primário, diâm = 100 x 50 mm. | E93: unid | F93: 17 | G93: =L93 -> 41.31 | H93: =ROUND(F93*G93,2) -> 702.27 | K93: 42.81 | L93: =ROUND(K93*$J$11,2) -> 41.31
A94: 9.1.11 | B94: SINAPI | C94: 89784 | D94: TE, PVC, SERIE NORMAL, ESGOTO PREDIAL, DN 50 X 50 MM, JUNTA ELÁSTICA, FORNECIDO E INSTALADO EM RAMAL DE DESCARGA OU RAMAL DE ESGOTO SANITÁRIO. AF_12/2014 | E94: unid | F94: 28 | G94: =L94 -> 17.45 | H94: =ROUND(F94*G94,2) -> 488.6 | K94: 18.08 | L94: =ROUND(K94*$J$11,2) -> 17.45
A95: 9.1.12 | B95: SINAPI | C95: 89796 | D95: TE, PVC, SERIE NORMAL, ESGOTO PREDIAL, DN 100 X 100 MM, JUNTA ELÁSTICA, FORNECIDO E INSTALADO EM RAMAL DE DESCARGA OU RAMAL DE ESGOTO SANITÁRIO. AF_12/2014 | E95: unid | F95: 5 | G95: =L95 -> 36.06 | H95: =ROUND(F95*G95,2) -> 180.3 | K95: 37.37 | L95: =ROUND(K95*$J$11,2) -> 36.06
A96: 9.1.13 | B96: SINAPI | C96: 89714 | D96: TUBO PVC, SERIE NORMAL, ESGOTO PREDIAL, DN 100 MM, FORNECIDO E INSTALADO EM RAMAL DE DESCARGA OU RAMAL DE ESGOTO SANITÁRIO. AF_12/2014 | E96: m | F96: 190 | G96: =L96 -> 45.24 | H96: =ROUND(F96*G96,2) -> 8595.6 | K96: 46.88 | L96: =ROUND(K96*$J$11,2) -> 45.24
... A111: 9.1.28 | B111: SINAPI | C111: 89549 | D111: REDUÇÃO EXCÊNTRICA, PVC, SERIE R, ÁGUA PLUVIAL, DN 75 X 50 MM, JUNTA ELÁSTICA, FORNECIDO E INSTALADO EM RAMAL DE ENCAMINHAMENTO. AF_12/2014 | E111: unid | F111: 3 | G111: =L111 -> 14.04 | H111: =ROUND(F111*G111,2) -> 42.12 | K111: 14.55 | L111: =ROUND(K111*$J$11,2) -> 14.04
L112: =ROUND(K112*$J$11,2) -> 0
A113: 9.2 | B113: SISTEMA PREDIAL DE ÁGUA FRIA - NBR 5626 | H113: =SUM(H114:H137) -> 15338.21 | L113: =ROUND(K113*$J$11,2) -> 0
A114: 9.2.1 | B114: SINAPI | C114: 89450 | D114: TUBO, PVC, SOLDÁVEL, DN 60MM, INSTALADO EM PRUMADA DE ÁGUA - FORNECIMENTO E INSTALAÇÃO. AF_12/2014 | E114: m | F114: 23 | G114: =L114 -> 31.7 | H114: =ROUND(F114*G114,2) -> 729.1 | K114: 32.85 | L114: =ROUND(K114*$J$11,2) -> 31.7
A115: 9.2.2 | B115: SINAPI | C115: 89449 | D115: TUBO, PVC, SOLDÁVEL, DN 50MM, INSTALADO EM PRUMADA DE ÁGUA - FORNECIMENTO E INSTALAÇÃO. AF_12/2014 | E115: m | F115: 166 | G115: =L115 -> 19.05 | H115: =ROUND(F115*G115,2) -> 3162.3 | K115: 19.74 | L115: =ROUND(K115*$J$11,2) -> 19.05
A116: 9.2.3 | B116: SINAPI | C116: 89356 | D116: TUBO, PVC, SOLDÁVEL, DN 25MM, INSTALADO EM RAMAL OU SUB-RAMAL DE ÁGUA - FORNECIMENTO E INSTALAÇÃO. AF_12/2014 | E116: m | F116: 169 | G116: =L116 -> 16.29 | H116: =ROUND(F116*G116,2) -> 2753.01 | K116: 16.88 | L116: =ROUND(K116*$J$11,2) -> 16.29
A117: 9.2.4 | B117: SINAPI | C117: 89383 | D117: ADAPTADOR CURTO COM BOLSA E ROSCA PARA REGISTRO, PVC, SOLDÁVEL, DN 25MM X 3/4, INSTALADO EM RAMAL OU SUB-RAMAL DE ÁGUA - FORNECIMENTO E INSTALAÇÃO. AF_12/2014 | E117: unid | F117: 69 | G117: =L117 -> 4.94 | H117: =ROUND(F117*G117,2) -> 340.86 | K117: 5.12 | L117: =ROUND(K117*$J$11,2) -> 4.94
A118: 9.2.5 | B118: SINAPI | C118: 89605 | D118: LUVA DE REDUÇÃO, PVC, SOLDÁVEL, DN 60MM X 50MM, INSTALADO EM PRUMADA DE ÁGUA - FORNECIMENTO E INSTALAÇÃO. AF_12/2014 | E118: unid | F118: 1 | G118: =L118 -> 19.5 | H118: =ROUND(F118*G118,2) -> 19.5 | K118: 20.21 | L118: =ROUND(K118*$J$11,2) -> 19.5
A119: 9.2.6 | B119: SINAPI | C119: 89579 | D119: LUVA DE REDUÇÃO, PVC, SOLDÁVEL, DN 50MM X 25MM, INSTALADO EM PRUMADA DE ÁGUA FORNECIMENTO E INSTALAÇÃO. AF_12/2014 | E119: unid | F119: 1 | G119: =L119 -> 10.18 | H119: =ROUND(F119*G119,2) -> 10.18 | K119: 10.55 | L119: =ROUND(K119*$J$11,2) -> 10.18
...

Sheet BM_01
C1: BM 02 - Boletim de Medição
B4: ESTADO DA PARAÍBA
B5: PREFEITURA MUNICIPAL DE SOUSA - PB
A6: Objetivo | G6: Agente Promotor | K6: Data de Emissão | L6: Nº BM
A7: CENTRO DE ONCOLOGIA DE SOUSA | G7: PREFEITURA MUNICIPAL DE SOUSA - PB | K7: 44600 | L7: 02
A9: Localização | G9: Contratada | K9: Início da Obra | L9: Termino da Obra
A10: RUA LUIZ PEREIRA DA SILVA, S/N, CENTRO, SOUSA-PB | G10: COMPACTO CONSTRUÇÕES EIRELI - EPP | K10: 44854 | L10: 45219
A12: Modalidade | C12: Nº de Contrato e Data de assinatura | G12: Valor do Contrato / PMS | I12: Valor da medição - R$ | K12: Período de medição
A13: CONCORRÊNCIA 06/2022 | C13: Nº 0701/2022 - 20/10/2022 | G13: =I219 -> 989890.37 | I13: =J219 -> 9012.21 | K13: 08/02/2022 a 05/04/2023
A16: Itens | B16: Discriminação dos serviços do orçamento | C16: Unid. | D16: Custo Unitário | F16: Quantidade | I16: Financeiro | L16: Desvio (%)
E17: Custo Unitário | F17: Prevista | G17: Medida no período | H17: Acumulada incluindo o período | I17: Prevista | J17: Medida no período | K17: Acumulada incluindo o período
A18: =ORÇAMENTO!A11 -> 1 | B18: SERVIÇOS PRELIMINARES
A19: =ORÇAMENTO!A12 -> 1.1 | B19: =ORÇAMENTO!D12 -> Placa de Obra em chapa de aço galvanizado, instalada - Rev 02 01/2022 | C19: =ORÇAMENTO!E12 -> m² | E19: =ORÇAMENTO!G12*26.63%+ORÇAMENTO!G12 -> 423.12148 | F19: =ORÇAMENTO!F12 -> 4.5 | G19: 4.46 | H19: =G19 -> 4.46 | I19: =ROUND(E19*F19,2) -> 1904.05 | J19: =ROUND(E19*G19,2) -> 1887.12 | K19: =ROUND(E19*H19,2) -> 1887.12 | L19: =K19/I19 -> 0.99110843
A20: =ORÇAMENTO!A13 -> 1.2 | B20: DEMOLIÇÃO DE ALVENARIA DE BLOCOFURADO, DE FORMA MANUAL, SEM REAPROVEITAMENTO | C20: =ORÇAMENTO!E13 -> m³ | E20: =ORÇAMENTO!G13*26.63%+ORÇAMENTO!G13 -> 46.47321 | F20: =ORÇAMENTO!F13 -> 63.41 | G20: 28.35 | H20: =G20 -> 28.35 | I20: =ROUND(E20*F20,2) -> 2946.87 | J20: =ROUND(E20*G20,2) -> 1317.52 | K20: =ROUND(E20*H20,2) -> 1317.52 | L20: =K20/I20 -> 0.44709132
A21: =ORÇAMENTO!A14 -> 1.3 | B21: =ORÇAMENTO!D14 -> Demolição de piso de alta resistência | C21: =ORÇAMENTO!E14 -> m² | E21: =ORÇAMENTO!G14*26.63%+ORÇAMENTO!G14 -> 20.817972 | F21: =ORÇAMENTO!F14 -> 774.83 | G21: 80.94 | H21: =G21 -> 80.94 | I21: =ROUND(E21*F21,2) -> 16130.39 | J21: =ROUND(E21*G21,2) -> 1685.01 | K21: =ROUND(E21*H21,2) -> 1685.01 | L21: =K21/I21 -> 0.10446183
A22: =ORÇAMENTO!A15 -> 1.4 | B22: =ORÇAMENTO!D15 -> REMOÇÃO DE TRAMA DE MADEIRA PARA COBERTURA, DE FORMA MANUAL, SEM REAPROVEITAMENTO. AF 12/2017 | C22: =ORÇAMENTO!E15 -> m² | E22: =ORÇAMENTO!G15*26.63%+ORÇAMENTO!G15 -> 6.014925 | F22: =ORÇAMENTO!F15 -> 309.93 | G22: 309.93 | H22: =G22 -> 309.93 | I22: =ROUND(E22*F22,2) -> 1864.21 | J22: =ROUND(E22*G22,2) -> 1864.21 | K22: =ROUND(E22*H22,2) -> 1864.21 | L22: =K22/I22 -> 1
A23: =ORÇAMENTO!A16 -> 1.5 | B23: =ORÇAMENTO!D16 -> CARGA, MANOBRA E DESCARGA DE ENTULHO EM CAMINHÃO BASCULANTE 6 M³ - CARGA COM ESCAVADEIRA HIDRÁULICA (CAÇAMBA DE 0,80 M³/111 HP) E DESCARGA LIVRE (UNIDADE: M³). AF 07/2020 | C23: =ORÇAMENTO!E16 -> m³ | E23: =ORÇAMENTO!G16*26.63%+ORÇAMENTO!G16 -> 9.11736 | F23: =ORÇAMENTO!F16 -> 102.15 | G23: 102.15 | H23: =G23 -> 102.15 | I23: =ROUND(E23*F23,2) -> 931.34 | J23: =ROUND(E23*G23,2) -> 931.34 | K23: =ROUND(E23*H23,2) -> 931.34 | L23: =K23/I23 -> 1
H24: =G24 -> 0
A25: =ORÇAMENTO!A18 -> 2 | B25: INFRA ESTRUTURA E SUPERESTRUTURA | H25: =G25 -> 0
A26: =ORÇAMENTO!A19 -> 2.1 | B26: =ORÇAMENTO!D19 -> ESCAVAÇÃO MANUAL PARA BLOCO DE COROAMENTO OU SAPATA (INCLUINDO ESCAVAÇÃO PARA COLOCAÇÃO DE FÔRMAS). AF_06/2017 | C26: =ORÇAMENTO!E19 -> m³ | E26: =ORÇAMENTO!G19*26.63%+ORÇAMENTO!G19 -> 80.865918 | F26: =ORÇAMENTO!F19 -> 28.86 | G26: 16.41 | H26: =G26 -> 16.41 | I26: =ROUND(E26*F26,2) -> 2333.79 | J26: =ROUND(E26*G26,2) -> 1327.01 | K26: =ROUND(E26*H26,2) -> 1327.01 | L26: =K26/I26 -> 0.56860729
A27: =ORÇAMENTO!A20 -> 2.2 | B27: =ORÇAMENTO!D20 -> LAJE PRÉ-MOLDADA UNIDIRECIONAL, BIAPOIADA, PARA FORRO, ENCHIMENTO EM CERÂMICA, VIGOTA CONVENCIONAL, ALTURA TOTAL DA LAJE (ENCHIMENTO+CAPA) = (8+3). AF_11/2020 | C27: =ORÇAMENTO!E20 -> m² | E27: =ORÇAMENTO!G20*26.63%+ORÇAMENTO!G20 -> 179.38406 | F27: =ORÇAMENTO!F20 -> 57.88 | I27: =ROUND(E27*F27,2) -> 10382.75 | J27: =ROUND(E27*G27,2) -> 0 | K27: =ROUND(E27*H27,2) -> 0 | L27: =K27/I27 -> 0
A28: =ORÇAMENTO!A21 -> 2.3 | B28: =ORÇAMENTO!D21 -> LASTRO DE CONCRETO MAGRO, APLICADO EM BLOCOS DE COROAMENTO OU SAPATAS, ESPESSURA DE 5 CM. AF_08/2017 | C28: =ORÇAMENTO!E21 -> m² | E28: =ORÇAMENTO!G21*26.63%+ORÇAMENTO!G21 -> 28.808325 | F28: =ORÇAMENTO!F21 -> 19.24 | I28: =ROUND(E28*F28,2) -> 554.27 | J28: =ROUND(E28*G28,2) -> 0 | K28: =ROUND(E28*H28,2) -> 0 | L28: =K28/I28 -> 0
A29: =ORÇAMENTO!A22 -> 2.4 | B29: =ORÇAMENTO!D22 -> CONCRETO FCK = 25MPA, TRAÇO 1:2,3:2,7 (EM MASSA SECA DE CIMENTO/ AREIA MÉDIA/ BRITA 1) - PREPARO MECÂNICO COM BETONEIRA 600 L. AF_05/2021 | C29: =ORÇAMENTO!E22 -> m³ | E29: =ORÇAMENTO!G22*26.63%+ORÇAMENTO!G22 -> 447.37113 | F29: =ORÇAMENTO!F22 -> 5.8 | I29: =ROUND(E29*F29,2) -> 2594.75 | J29: =ROUND(E29*G29,2) -> 0 | K29: =ROUND(E29*H29,2) -> 0 | L29: =K29/I29 -> 0
A30: =ORÇAMENTO!A23 -> 2.5 | B30: =ORÇAMENTO!D23 -> CONCRETO FCK = 30MPA, TRAÇO 1:2,1:2,5 (EM MASSA SECA DE CIMENTO/ AREIA MÉDIA/ BRITA 1) - PREPARO MECÂNICO COM BETONEIRA 600 L. AF_05/2021 | C30: =ORÇAMENTO!E23 -> m³ | E30: =ORÇAMENTO!G23*26.63%+ORÇAMENTO!G23 -> 461.9589 | F30: =ORÇAMENTO!F23 -> 30.1 | I30: =ROUND(E30*F30,2) -> 13904.96 | J30: =ROUND(E30*G30,2) -> 0 | K30: =ROUND(E30*H30,2) -> 0 | L30: =K30/I30 -> 0
A31: =ORÇAMENTO!A24 -> 2.6 | B31: =ORÇAMENTO!D24 -> LANÇAMENTO COM USO DE BALDES, ADENSAMENTO E ACABAMENTO DE CONCRETO EM ESTRUTURAS. AF_12/2015 | C31: =ORÇAMENTO!E24 -> m³ | E31: =ORÇAMENTO!G24*26.63%+ORÇAMENTO!G24 -> 242.28118 | F31: =ORÇAMENTO!F24 -> 35.9 | I31: =ROUND(E31*F31,2) -> 8697.89 | J31: =ROUND(E31*G31,2) -> 0 | K31: =ROUND(E31*H31,2) -> 0 | L31: =K31/I31 -> 0
A32: =ORÇAMENTO!A25 -> 2.7 | B32: =ORÇAMENTO!D25 -> Forma plana para fundações, em tábua de pinho, 07 usos. | C32: =ORÇAMENTO!E25 -> m² | E32: =ORÇAMENTO!G25*26.63%+ORÇAMENTO!G25 -> 82.765368 | F32: =ORÇAMENTO!F25 -> 19.3 | I32: =ROUND(E32*F32,2) -> 1597.37 | J32: =ROUND(E32*G32,2) -> 0 | K32: =ROUND(E32*H32,2) -> 0 | L32: =K32/I32 -> 0
A33: =ORÇAMENTO!A26 -> 2.8 | B33: =ORÇAMENTO!D26 -> Forma plana para estruturas, em compensado plastificado de 12mm, 07 usos. | C33: =ORÇAMENTO!E26 -> m² | E33: =ORÇAMENTO!G26*26.63%+ORÇAMENTO!G26 -> 69.874434 | F33: =ORÇAMENTO!F26 -> 421.3 | I33: =ROUND(E33*F33,2) -> 29438.1 | J33: =ROUND(E33*G33,2) -> 0 | K33: =ROUND(E33*H33,2) -> 0 | L33: =K33/I33 -> 0
A34: =ORÇAMENTO!A27 -> 2.9 | B34: =ORÇAMENTO!D27 -> ARMAÇÃO DE PILAR OU VIGA DE UMA ESTRUTURA CONVENCIONAL DE CONCRETO ARMADO EM UM EDIFÍCIO DE MÚLTIPLOS PAVIMENTOS UTILIZANDO AÇO CA-50 DE 12,5 MM - MONTAGEM. AF_12/2015 | C34: =ORÇAMENTO!E27 -> kg | E34: =ORÇAMENTO!G27*26.63%+ORÇAMENTO!G27 -> 13.068216 | F34: =ORÇAMENTO!F27 -> 480.3 | I34: =ROUND(E34*F34,2) -> 6276.66 | J34: =ROUND(E34*G34,2) -> 0 | K34: =ROUND(E34*H34,2) -> 0 | L34: =K34/I34 -> 0
A35: =ORÇAMENTO!A28 -> 2.10 | B35: =ORÇAMENTO!D28 -> ARMAÇÃO DE PILAR OU VIGA DE UMA ESTRUTURA CONVENCIONAL DE CONCRETO ARMADO EM UM EDIFÍCIO DE MÚLTIPLOS PAVIMENTOS UTILIZANDO AÇO CA-50 DE 10,0 MM - MONTAGEM. AF_12/2015 | C35: =ORÇAMENTO!E28 -> kg | E35: =ORÇAMENTO!G28*26.63%+ORÇAMENTO!G28 -> 15.309567 | F35: =ORÇAMENTO!F28 -> 1608.2 | I35: =ROUND(E35*F35,2) -> 24620.85 | J35: =ROUND(E35*G35,2) -> 0 | K35: =ROUND(E35*H35,2) -> 0 | L35: =K35/I35 -> 0
A36: =ORÇAMENTO!A29 -> 2.11 | B36: =ORÇAMENTO!D29 -> ARMAÇÃO DE PILAR OU VIGA DE UMA ESTRUTURA CONVENCIONAL DE CONCRETO ARMADO EM UM EDIFÍCIO DE MÚLTIPLOS PAVIMENTOS UTILIZANDO AÇO CA-50 DE 16,0 MM - MONTAGEM. AF_12/2015 | C36: =ORÇAMENTO!E29 -> kg | E36: =ORÇAMENTO!G29*26.63%+ORÇAMENTO!G29 -> 12.625011 | F36: =ORÇAMENTO!F29 -> 63.1 | I36: =ROUND(E36*F36,2) -> 796.64 | J36: =ROUND(E36*G36,2) -> 0 | K36: =ROUND(E36*H36,2) -> 0 | L36: =K36/I36 -> 0
A37: =ORÇAMENTO!A30 -> 2.12 | B37: =ORÇAMENTO!D30 -> ARMAÇÃO DE PILAR OU VIGA DE UMA ESTRUTURA CONVENCIONAL DE CONCRETO ARMADO EM UM EDIFÍCIO DE MÚLTIPLOS PAVIMENTOS UTILIZANDO AÇO CA-60 DE 5,0 MM - MONTAGEM. AF_12/2015 | C37: =ORÇAMENTO!E30 -> kg | E37: =ORÇAMENTO!G30*26.63%+ORÇAMENTO!G30 -> 17.715537 | F37: =ORÇAMENTO!F30 -> 651.9 | I37: =ROUND(E37*F37,2) -> 11548.76 | J37: =ROUND(E37*G37,2) -> 0 | K37: =ROUND(E37*H37,2) -> 0 | L37: =K37/I37 -> 0
A38: =ORÇAMENTO!A31 -> 2.13 | B38: =ORÇAMENTO!D31 -> REATERRO MANUAL APILOADO COM SOQUETE. AF_10/2017 | C38: =ORÇAMENTO!E31 -> m³ | E38: =ORÇAMENTO!G31*26.63%+ORÇAMENTO!G31 -> 42.775614 | F38: =ORÇAMENTO!F31 -> 24.3 | I38: =ROUND(E38*F38,2) -> 1039.45 | J38: =ROUND(E38*G38,2) -> 0 | K38: =ROUND(E38*H38,2) -> 0 | L38: =K38/I38 -> 0
... A41: =ORÇAMENTO!A34 -> 2.16 | B41: =ORÇAMENTO!D34 -> CONTRAVERGA PRÉ-MOLDADA PARA VÃOS DE ATÉ 1,5 M DE COMPRIMENTO. AF_03/2016 | C41: =ORÇAMENTO!E34 -> m | E41: =ORÇAMENTO!G34*26.63%+ORÇAMENTO!G34 -> 50.322762 | F41: =ORÇAMENTO!F34 -> 16.9 | I41: =ROUND(E41*F41,2) -> 850.45 | J41: =ROUND(E41*G41,2) -> 0 | K41: =ROUND(E41*H41,2) -> 0 | L41: =K41/I41 -> 0
A43: =ORÇAMENTO!A36 -> 3 | B43: ALVENARIA E VEDAÇÕES
A44: =ORÇAMENTO!A37 -> 3.1 | B44: =ORÇAMENTO!D37 -> ALVENARIA DE VEDAÇÃO DE BLOCOS CERÂMICOS FURADOS NA VERTICAL DE 19X19X39 CM (ESPESSURA 19 CM) E ARGAMASSA DE ASSENTAMENTO COM PREPARO EM BETONEIRA. AF_12/2021 | C44: =ORÇAMENTO!E37 -> m² | E44: =ORÇAMENTO!G37*26.63%+ORÇAMENTO!G37 -> 78.459948 | F44: =ORÇAMENTO!F37 -> 209.45 | I44: =ROUND(E44*F44,2) -> 16433.44 | J44: =ROUND(E44*G44,2) -> 0 | K44: =ROUND(E44*H44,2) -> 0 | L44: =K44/I44 -> 0
A45: =ORÇAMENTO!A38 -> 3.2 | B45: =ORÇAMENTO!D38 -> Divisória em granito cinza andorinha polido, e=2cm, inclusive com montagem em ferragem - Rev 02. | C45: =ORÇAMENTO!E38 -> m² | E45: =ORÇAMENTO!G38*26.63%+ORÇAMENTO!G38 -> 712.59766 | F45: =ORÇAMENTO!F38 -> 53.89 | I45: =ROUND(E45*F45,2) -> 38401.89 | J45: =ROUND(E45*G45,2) -> 0 | K45: =ROUND(E45*H45,2) -> 0 | L45: =K45/I45 -> 0
A47: =ORÇAMENTO!A40 -> 4 | B47: IMPERMEABILIZAÇÕES
A48: =ORÇAMENTO!A41 -> 4.1 | B48: =ORÇAMENTO!D41 -> IMPERMEABILIZAÇÃO DE SUPERFÍCIE COM EMULSÃO ASFÁLTICA, 2 DEMÃOS AF_06/2018 | C48: =ORÇAMENTO!E41 -> m² | E48: =ORÇAMENTO!G41*26.63%+ORÇAMENTO!G41 -> 48.777876 | F48: =ORÇAMENTO!F41 -> 25.12 | I48: =ROUND(E48*F48,2) -> 1225.3 | J48: =ROUND(E48*G48,2) -> 0 | K48: =ROUND(E48*H48,2) -> 0 | L48: =K48/I48 -> 0
A49: =ORÇAMENTO!A42 -> 4.2 | B49: =ORÇAMENTO!D42 -> IMPERMEABILIZAÇÃO DE SUPERFÍCIE COM MANTA ASFÁLTICA, UMA CAMADA, INCLUSIVE APLICAÇÃO DE PRIMER ASFÁLTICO, E=3MM. AF_06/2018 | C49: =ORÇAMENTO!E42 -> m² | E49: =ORÇAMENTO!G42*26.63%+ORÇAMENTO!G42 -> 121.10893 | F49: =ORÇAMENTO!F42 -> 57.88 | I49: =ROUND(E49*F49,2) -> 7009.78 | J49: =ROUND(E49*G49,2) -> 0 | K49: =ROUND(E49*H49,2) -> 0 | L49: =K49/I49 -> 0
A51: =ORÇAMENTO!A44 -> 5 | B51: COBERTURAS E PROTEÇÕES
A52: =ORÇAMENTO!A45 -> 5.1 | B52: =ORÇAMENTO!D45 -> TRAMA DE MADEIRA COMPOSTA POR RIPAS, CAIBROS E TERÇAS PARA TELHADOS DE ATÉ 2 ÁGUAS PARA TELHA DE ENCAIXE DE CERÂMICA OU DE CONCRETO, INCLUSO TRANSPORTE VERTICAL. AF_07/2019 | C52: =ORÇAMENTO!E45 -> m² | E52: =ORÇAMENTO!G45*26.63%+ORÇAMENTO!G45 -> 76.573161 | F52: =ORÇAMENTO!F45 -> 309.93 | I52: =ROUND(E52*F52,2) -> 23732.32 | J52: =ROUND(E52*G52,2) -> 0 | K52: =ROUND(E52*H52,2) -> 0 | L52: =K52/I52 -> 0
A53: =ORÇAMENTO!A46 -> 5.2 | B53: =ORÇAMENTO!D46 -> TELHAMENTO COM TELHA CERÂMICA CAPA-CANAL, TIPO COLONIAL, COM ATÉ 2 ÁGUAS, INCLUSO TRANSPORTE VERTICAL. AF_07/2019 | C53: =ORÇAMENTO!E46 -> m² | E53: =ORÇAMENTO!G46*26.63%+ORÇAMENTO!G46 -> 37.495143 | F53: =ORÇAMENTO!F46 -> 309.93 | I53: =ROUND(E53*F53,2) -> 11620.87 | J53: =ROUND(E53*G53,2) -> 0 | K53: =ROUND(E53*H53,2) -> 0 | L53: =K53/I53 -> 0
A54: =ORÇAMENTO!A47 -> 5.3 | B54: =ORÇAMENTO!D47 -> FORRO EM PLACAS DE GESSO, PARA AMBIENTES COMERCIAIS. AF_05/2017_P | C54: =ORÇAMENTO!E47 -> m² | E54: =ORÇAMENTO!G47*26.63%+ORÇAMENTO!G47 -> 38.153619 | F54: =ORÇAMENTO!F47 -> 774.83 | I54: =ROUND(E54*F54,2) -> 29562.57 | J54: =ROUND(E54*G54,2) -> 0 | K54: =ROUND(E54*H54,2) -> 0 | L54: =K54/I54 -> 0
A56: =ORÇAMENTO!A49 -> 6 | B56: ESQUADRIAS
A57: =ORÇAMENTO!A50 -> 6.1 | B57: METÁLICA, ALUMÍNIO C/ VIDRO E MADEIRA
A58: =ORÇAMENTO!A51 -> 6.1.1 | B58: =ORÇAMENTO!D51 -> JANELA DE ALUMÍNIO DE CORRER COM 2 FOLHAS PARA VIDROS, COM VIDROS, BATENTE, ACABAMENTO COM ACETATO OU BRILHANTE E FERRAGENS. EXCLUSIVE ALIZAR E CONTRAMARCO. FORNECIMENTO E INSTALAÇÃO. AF_12/2019 | C58: =ORÇAMENTO!E51 -> m² | E58: =ORÇAMENTO!G51*26.63%+ORÇAMENTO!G51 -> 771.53126 | F58: =ORÇAMENTO!F51 -> 16.56 | I58: =ROUND(E58*F58,2) -> 12776.56 | J58: =ROUND(E58*G58,2) -> 0 | K58: =ROUND(E58*H58,2) -> 0 | L58: =K58/I58 -> 0
A59: =ORÇAMENTO!A52 -> 6.1.2 | B59: =ORÇAMENTO!D52 -> JANELA DE ALUMÍNIO TIPO MAXIM-AR, COM VIDROS, BATENTE E FERRAGENS. EXCLUSIVE ALIZAR, ACABAMENTO E CONTRAMARCO. FORNECIMENTO E INSTALAÇÃO. AF_12/2019 | C59: =ORÇAMENTO!E52 -> m² | E59: =ORÇAMENTO!G52*26.63%+ORÇAMENTO!G52 -> 1448.9384 | F59: =ORÇAMENTO!F52 -> 2.5 | I59: =ROUND(E59*F59,2) -> 3622.35 | J59: =ROUND(E59*G59,2) -> 0 | K59: =ROUND(E59*H59,2) -> 0 | L59: =K59/I59 -> 0
A60: =ORÇAMENTO!A53 -> 6.1.3 | B60: =ORÇAMENTO!D53 -> PORTA EM ALUMÍNIO DE ABRIR TIPO VENEZIANA COM GUARNIÇÃO, FIXAÇÃO COM PARAFUSOS - FORNECIMENTO E INSTALAÇÃO. AF_12/2019 | C60: =ORÇAMENTO!E53 -> m² | E60: =ORÇAMENTO!G53*26.63%+ORÇAMENTO!G53 -> 969.51727 | F60: =ORÇAMENTO!F53 -> 7.92 | I60: =ROUND(E60*F60,2) -> 7678.58 | J60: =ROUND(E60*G60,2) -> 0 | K60: =ROUND(E60*H60,2) -> 0 | L60: =K60/I60 -> 0
A61: =ORÇAMENTO!A54 -> 6.1.4 | B61: =ORÇAMENTO!D54 -> PORTA DE FERRO, DE ABRIR, TIPO GRADE COM CHAPA, COM GUARNIÇÕES. AF_12/2019 | C61: =ORÇAMENTO!E54 -> m² | E61: =ORÇAMENTO!G54*26.63%+ORÇAMENTO!G54 -> 724.12099 | F61: =ORÇAMENTO!F54 -> 5.31 | I61: =ROUND(E61*F61,2) -> 3845.08 | J61: =ROUND(E61*G61,2) -> 0 | K61: =ROUND(E61*H61,2) -> 0 | L61: =K61/I61 -> 0
A62: =ORÇAMENTO!A55 -> 6.1.5 | B62: =ORÇAMENTO!D55 -> Portão em ferro, em tubo de aço galvanizado 2" e tela ondulada, malha 3/8". | C62: =ORÇAMENTO!E55 -> m² | E62: =ORÇAMENTO!G55*26.63%+ORÇAMENTO!G55 -> 940.87356 | F62: =ORÇAMENTO!F55 -> 6.62 | I62: =ROUND(E62*F62,2) -> 6228.58 | J62: =ROUND(E62*G62,2) -> 0 | K62: =ROUND(E62*H62,2) -> 0 | L62: =K62/I62 -> 0
A63: =ORÇAMENTO!A56 -> 6.1.6 | B63: =ORÇAMENTO!D56 -> KIT DE PORTA DE MADEIRA PARA PINTURA, SEMI-OCA (LEVE OU MÉDIA), PADRÃO MÉDIO, 60X210CM, ESPESSURA DE 3,5CM, ITENS INCLUSOS: DOBRADIÇAS, MONTAGEM E INSTALAÇÃO DO BATENTE, FECHADURA COM EXECUÇÃO DO FURO - FORNECIMENTO E INSTALAÇÃO. AF_12/2019 | C63: =ORÇAMENTO!E56 -> unid | E63: =ORÇAMENTO!G56*26.63%+ORÇAMENTO!G56 -> 1013.9517 | F63: =ORÇAMENTO!F56 -> 8 | I63: =ROUND(E63*F63,2) -> 8111.61 | J63: =ROUND(E63*G63,2) -> 0 | K63: =ROUND(E63*H63,2) -> 0 | L63: =K63/I63 -> 0
A64: =ORÇAMENTO!A57 -> 6.1.7 | B64: =ORÇAMENTO!D57 -> KIT DE PORTA DE MADEIRA PARA PINTURA, SEMI-OCA (LEVE OU MÉDIA), PADRÃO MÉDIO, 70X210CM, ESPESSURA DE 3,5CM, ITENS INCLUSOS: DOBRADIÇAS, MONTAGEM E INSTALAÇÃO DO BATENTE, FECHADURA COM EXECUÇÃO DO FURO - FORNECIMENTO E INSTALAÇÃO. AF_12/2019 | C64: =ORÇAMENTO!E57 -> unid | E64: =ORÇAMENTO!G57*26.63%+ORÇAMENTO!G57 -> 1022.17 | F64: =ORÇAMENTO!F57 -> 3 | I64: =ROUND(E64*F64,2) -> 3066.51 | J64: =ROUND(E64*G64,2) -> 0 | K64: =ROUND(E64*H64,2) -> 0 | L64: =K64/I64 -> 0
A65: =ORÇAMENTO!A58 -> 6.1.8 | B65: =ORÇAMENTO!D58 -> KIT DE PORTA DE MADEIRA PARA PINTURA, SEMI-OCA (LEVE OU MÉDIA), PADRÃO MÉDIO, 80X210CM, ESPESSURA DE 3,5CM, ITENS INCLUSOS: DOBRADIÇAS, MONTAGEM E INSTALAÇÃO DO BATENTE, FECHADURA COM EXECUÇÃO DO FURO - FORNECIMENTO E INSTALAÇÃO. AF_12/2019 | C65: =ORÇAMENTO!E58 -> unid | E65: =ORÇAMENTO!G58*26.63%+ORÇAMENTO!G58 -> 1068.0734 | F65: =ORÇAMENTO!F58 -> 2 | I65: =ROUND(E65*F65,2) -> 2136.15 | J65: =ROUND(E65*G65,2) -> 0 | K65: =ROUND(E65*H65,2) -> 0 | L65: =K65/I65 -> 0
A66: =ORÇAMENTO!A59 -> 6.1.9 | B66: =ORÇAMENTO!D59 -> KIT DE PORTA DE MADEIRA PARA PINTURA, SEMI-OCA (LEVE OU MÉDIA), PADRÃO MÉDIO, 90X210CM, ESPESSURA DE 3,5CM, ITENS INCLUSOS: DOBRADIÇAS, MONTAGEM E INSTALAÇÃO DO BATENTE, FECHADURA COM EXECUÇÃO DO FURO - FORNECIMENTO E INSTALAÇÃO. AF_12/2019 | C66: =ORÇAMENTO!E59 -> unid | E66: =ORÇAMENTO!G59*26.63%+ORÇAMENTO!G59 -> 1149.2686 | F66: =ORÇAMENTO!F59 -> 22 | I66: =ROUND(E66*F66,2) -> 25283.91 | J66: =ROUND(E66*G66,2) -> 0 | K66: =ROUND(E66*H66,2) -> 0 | L66: =K66/I66 -> 0
A67: =ORÇAMENTO!A60 -> 6.1.10 | B67: =ORÇAMENTO!D60 -> Porta em madeira compensada (canela), lisa e semi-oca, 1,00 x 2,10 m, inclusive batentes e ferragens. | C67: =ORÇAMENTO!E60 -> unid | E67: =ORÇAMENTO!G60*26.63%+ORÇAMENTO!G60 -> 1016.1044 | F67: =ORÇAMENTO!F60 -> 11 | I67: =ROUND(E67*F67,2) -> 11177.15 | J67: =ROUND(E67*G67,2) -> 0 | K67: =ROUND(E67*H67,2) -> 0 | L67: =K67/I67 -> 0
A69: =ORÇAMENTO!A62 -> 6.2 | B69: VIDRO
A70: =ORÇAMENTO!A63 -> 6.2.1 | B70: =ORÇAMENTO!D63 -> Porta em vidro temperado 10mm, incolor,inclusive ferragens de fixação e instalação, exclusive puxador. | C70: =ORÇAMENTO!E63 -> m² | E70: =ORÇAMENTO!G63*26.63%+ORÇAMENTO!G63 -> 668.37847 | F70: =ORÇAMENTO!F63 -> 23.1 | I70: =ROUND(E70*F70,2) -> 15439.54 | J70: =ROUND(E70*G70,2) -> 0 | K70: =ROUND(E70*H70,2) -> 0 | L70: =K70/I70 -> 0
A71: =ORÇAMENTO!A64 -> 6.2.2 | B71: =ORÇAMENTO!D64 -> PORTA DE CORRER DE ALUMÍNIO, COM DUAS FOLHAS PARA VIDRO, INCLUSO VIDRO LISO INCOLOR, FECHADURA E PUXADOR, SEM ALIZAR. AF_12/2019 | C71: =ORÇAMENTO!E64 -> m² | E71: =ORÇAMENTO!G64*26.63%+ORÇAMENTO!G64 -> 591.96992 | F71: =ORÇAMENTO!F64 -> 25.08 | I71: =ROUND(E71*F71,2) -> 14846.61 | J71: =ROUND(E71*G71,2) -> 0 | K71: =ROUND(E71*H71,2) -> 0 | L71: =K71/I71 -> 0
A73: =ORÇAMENTO!A66 -> 6.3 | B73: FERRAGENS
A74: =ORÇAMENTO!A67 -> 6.3.1 | B74: =ORÇAMENTO!D67 -> Puxador duplo para porta, em alumínio polido, d = 1", I = 40mm, ref. 3008, Vesfer | C74: =ORÇAMENTO!E67 -> unid | E74: =ORÇAMENTO!G67*26.63%+ORÇAMENTO!G67 -> 254.33635 | F74: =ORÇAMENTO!F67 -> 2 | I74: =ROUND(E74*F74,2) -> 508.67 | J74: =ROUND(E74*G74,2) -> 0 | K74: =ROUND(E74*H74,2) -> 0 | L74: =K74/I74 -> 0
A75: =ORÇAMENTO!A68 -> 6.3.2 | B75: =ORÇAMENTO!D68 -> TARJETA TIPO LIVRE/OCUPADO PARA PORTA DE BANHEIRO. AF_12/2019 | C75: =ORÇAMENTO!E68 -> unid | E75: =ORÇAMENTO!G68*26.63%+ORÇAMENTO!G68 -> 83.44917 | F75: =ORÇAMENTO!F68 -> 6 | I75: =ROUND(E75*F75,2) -> 500.7 | J75: =ROUND(E75*G75,2) -> 0 | K75: =ROUND(E75*H75,2) -> 0 | L75: =K75/I75 -> 0
A77: =ORÇAMENTO!A70 -> 7 | B77: REVESTIMENTO
A78: =ORÇAMENTO!A71 -> 7.1 | B78: =ORÇAMENTO!D71 -> MASSA ÚNICA, PARA RECEBIMENTO DE PINTURA, EM ARGAMASSA TRAÇO 1:2:8, PREPARO MECÂNICO COM BETONEIRA 400L, APLICADA MANUALMENTE EM FACES INTERNAS DE PAREDES, ESPESSURA DE 20MM, COM EXECUÇÃO DE TALISCAS. AF_06/2014 | C78: =ORÇAMENTO!E71 -> m² | E78: =ORÇAMENTO!G71*26.63%+ORÇAMENTO!G71 -> 31.619511 | F78: =ORÇAMENTO!F71 -> 418.9 | I78: =ROUND(E78*F78,2) -> 13245.41 | J78: =ROUND(E78*G78,2) -> 0 | K78: =ROUND(E78*H78,2) -> 0 | L78: =K78/I78 -> 0
A79: =ORÇAMENTO!A72 -> 7.2 | B79: =ORÇAMENTO!D72 -> CHAPISCO APLICADO EM ALVENARIAS E ESTRUTURAS DE CONCRETO INTERNAS, COM COLHER DE PEDREIRO. ARGAMASSA TRAÇO 1:3 COM PREPARO EM BETONEIRA 400L. AF_06/2014 | C79: =ORÇAMENTO!E72 -> m² | E79: =ORÇAMENTO!G72*26.63%+ORÇAMENTO!G72 -> 3.786237 | F79: =ORÇAMENTO!F72 -> 418.9 | I79: =ROUND(E79*F79,2) -> 1586.05 | J79: =ROUND(E79*G79,2) -> 0 | K79: =ROUND(E79*H79,2) -> 0 | L79: =K79/I79 -> 0
A80: =ORÇAMENTO!A73 -> 7.3 | B80: procurar sinapi | C80: =ORÇAMENTO!E73 -> m² | E80: =ORÇAMENTO!G73*26.63%+ORÇAMENTO!G73 -> 77.712831 | F80: =ORÇAMENTO!F73 -> 423.52 | I80: =ROUND(E80*F80,2) -> 32912.94 | J80: =ROUND(E80*G80,2) -> 0 | K80: =ROUND(E80*H80,2) -> 0 | L80: =K80/I80 -> 0
A81: =ORÇAMENTO!A74 -> 7.4 | B81: procurar orsi | C81: =ORÇAMENTO!E74 -> m² | E81: =ORÇAMENTO!G74*26.63%+ORÇAMENTO!G74 -> 507.91293 | F81: =ORÇAMENTO!F74 -> 99.65 | I81: =ROUND(E81*F81,2) -> 50613.52 | J81: =ROUND(E81*G81,2) -> 0 | K81: =ROUND(E81*H81,2) -> 0 | L81: =K81/I81 -> 0
A83: =ORÇAMENTO!A76 -> 8 | B83: PAVIMENTAÇÃO
A84: =ORÇAMENTO!A77 -> 8.1 | B84: =ORÇAMENTO!D77 -> CONTRAPISO EM ARGAMASSA TRAÇO 1:4 (CIMENTO E AREIA), PREPARO MECÂNICO COM BETONEIRA 400 L, APLICADO EM ÁREAS SECAS SOBRE LAJE, ADERIDO, ACABAMENTO NÃO REFORÇADO, ESPESSURA 2CM. AF_07/2021 | C84: =ORÇAMENTO!E77 -> m² | E84: =ORÇAMENTO!G77*26.63%+ORÇAMENTO!G77 -> 28.23849 | F84: =ORÇAMENTO!F77 -> 774.83 | I84: =ROUND(E84*F84,2) -> 21880.03 | J84: =ROUND(E84*G84,2) -> 0 | K84: =ROUND(E84*H84,2) -> 0 | L84: =K84/I84 -> 0
A85: =ORÇAMENTO!A78 -> 8.2 | B85: =ORÇAMENTO!D78 -> REVESTIMENTO CERÂMICO PARA PISO COM PLACAS TIPO PORCELANATO DE DIMENSÕES 60X60 CM APLICADA EM AMBIENTES DE ÁREA MAIOR QUE 10 M². AF_06/2014 | C85: =ORÇAMENTO!E78 -> m² | E85: =ORÇAMENTO!G78*26.63%+ORÇAMENTO!G78 -> 184.01872 | F85: =ORÇAMENTO!F78 -> 774.83 | I85: =ROUND(E85*F85,2) -> 142583.22 | J85: =ROUND(E85*G85,2) -> 0 | K85: =ROUND(E85*H85,2) -> 0 | L85: =K85/I85 -> 0
A86: =ORÇAMENTO!A79 -> 8.3 | B86: =ORÇAMENTO!D79 -> PLANTIO DE GRAMA EM PLACAS. AF_05/2018 | C86: =ORÇAMENTO!E79 -> m² | E86: =ORÇAMENTO!G79*26.63%+ORÇAMENTO!G79 -> 16.550541 | F86: =ORÇAMENTO!F79 -> 176.89 | I86: =ROUND(E86*F86,2) -> 2927.63 | J86: =ROUND(E86*G86,2) -> 0 | K86: =ROUND(E86*H86,2) -> 0 | L86: =K86/I86 -> 0
A87: =ORÇAMENTO!A80 -> 8.4 | B87: =ORÇAMENTO!D80 -> RECOMPOSIÇÃO DE PAVIMENTO EM PARALELEPÍPEDOS, REJUNTAMENTO COM ARGAMASSA, COM REAPROVEITAMENTO DOS PARALELEPÍPEDOS, PARA O FECHAMENTO DE VALAS - INCLUSO RETIRADA E COLOCAÇÃO DO MATERIAL. AF_12/2020 | C87: =ORÇAMENTO!E80 -> m² | E87: =ORÇAMENTO!G80*26.63%+ORÇAMENTO!G80 -> 57.312738 | F87: =ORÇAMENTO!F80 -> 155.13 | I87: =ROUND(E87*F87,2) -> 8890.93 | J87: =ROUND(E87*G87,2) -> 0 | K87: =ROUND(E87*H87,2) -> 0 | L87: =K87/I87 -> 0
A89: =ORÇAMENTO!A82 -> 9 | B89: INSTALAÇÕES HIDRO-SANITÁRIAS-PLUVIAL-INCÊNDIO
A90: =ORÇAMENTO!A83 -> 9.1 | B90: SISTEMA PREDIAL DE ESGOTO SANITÁRIO -NBR 9160
A91: =ORÇAMENTO!A84 -> 9.1.1 | B91: =ORÇAMENTO!D84 -> CAIXA SIFONADA, PVC, DN 100 X 100 X 50 MM, JUNTA ELÁSTICA, FORNECIDA E INSTALADA EM RAMAL DE DESCARGA OU EM RAMAL DE ESGOTO SANITÁRIO. AF_12/2014 | C91: =ORÇAMENTO!E84 -> unid | E91: =ORÇAMENTO!G84*26.63%+ORÇAMENTO!G84 -> 41.040783 | F91: =ORÇAMENTO!F84 -> 28 | H91: =G91 -> 0 | I91: =ROUND(E91*F91,2) -> 1149.14 | J91: =ROUND(E91*G91,2) -> 0 | K91: =ROUND(E91*H91,2) -> 0 | L91: =K91/I91 -> 0
A92: =ORÇAMENTO!A85 -> 9.1.2 | B92: =ORÇAMENTO!D85 -> JOELHO 90 GRAUS, PVC, SERIE NORMAL, ESGOTO PREDIAL, DN 100 MM, JUNTA ELÁSTICA, FORNECIDO E INSTALADO EM RAMAL DE DESCARGA OU RAMAL DE ESGOTO SANITÁRIO. AF_12/2014 | C92: =ORÇAMENTO!E85 -> unid | E92: =ORÇAMENTO!G85*26.63%+ORÇAMENTO!G85 -> 26.5923 | F92: =ORÇAMENTO!F85 -> 13 | H92: =G92 -> 0 | I92: =ROUND(E92*F92,2) -> 345.7 | J92: =ROUND(E92*G92,2) -> 0 | K92: =ROUND(E92*H92,2) -> 0 | L92: =K92/I92 -> 0
A93: =ORÇAMENTO!A86 -> 9.1.3 | B93: =ORÇAMENTO!D86 -> JOELHO 90 GRAUS, PVC, SERIE NORMAL, ESGOTO PREDIAL, DN 40 MM, JUNTA SOLDÁVEL, FORNECIDO E INSTALADO EM RAMAL DE DESCARGA OU RAMAL DE ESGOTO SANITÁRIO. AF_12/2014 | C93: =ORÇAMENTO!E86 -> unid | E93: =ORÇAMENTO!G86*26.63%+ORÇAMENTO!G86 -> 10.712898 | F93: =ORÇAMENTO!F86 -> 63 | H93: =G93 -> 0 | I93: =ROUND(E93*F93,2) -> 674.91 | J93: =ROUND(E93*G93,2) -> 0 | K93: =ROUND(E93*H93,2) -> 0 | L93: =K93/I93 -> 0
A94: =ORÇAMENTO!A87 -> 9.1.4 | B94: =ORÇAMENTO!D87 -> JOELHO 90 GRAUS, PVC, SERIE NORMAL, ESGOTO PREDIAL, DN 50 MM, JUNTA ELÁSTICA, FORNECIDO E INSTALADO EM RAMAL DE DESCARGA OU RAMAL DE ESGOTO SANITÁRIO. AF_12/2014 | C94: =ORÇAMENTO!E87 -> unid | E94: =ORÇAMENTO!G87*26.63%+ORÇAMENTO!G87 -> 11.295396 | F94: =ORÇAMENTO!F87 -> 38 | H94: =G94 -> 0 | I94: =ROUND(E94*F94,2) -> 429.23 | J94: =ROUND(E94*G94,2) -> 0 | K94: =ROUND(E94*H94,2) -> 0 | L94: =K94/I94 -> 0
A95: =ORÇAMENTO!A88 -> 9.1.5 | B95: =ORÇAMENTO!D88 -> JOELHO 45 GRAUS, PVC, SERIE NORMAL, ESGOTO PREDIAL, DN 40 MM, JUNTA SOLDÁVEL, FORNECIDO E INSTALADO EM RAMAL DE DESCARGA OU RAMAL DE ESGOTO SANITÁRIO. AF_12/2014 | C95: =ORÇAMENTO!E88 -> unid | E95: =ORÇAMENTO!G88*26.63%+ORÇAMENTO!G88 -> 6.96465 | F95: =ORÇAMENTO!F88 -> 30 | H95: =G95 -> 0 | I95: =ROUND(E95*F95,2) -> 208.94 | J95: =ROUND(E95*G95,2) -> 0 | K95: =ROUND(E95*H95,2) -> 0 | L95: =K95/I95 -> 0
A96: =ORÇAMENTO!A89 -> 9.1.6 | B96: =ORÇAMENTO!D89 -> JOELHO 45 GRAUS, PVC, SERIE NORMAL, ESGOTO PREDIAL, DN 50 MM, JUNTA ELÁSTICA, FORNECIDO E INSTALADO EM RAMAL DE DESCARGA OU RAMAL DE ESGOTO SANITÁRIO. AF_12/2014 | C96: =ORÇAMENTO!E89 -> unid | E96: =ORÇAMENTO!G89*26.63%+ORÇAMENTO!G89 -> 12.181806 | F96: =ORÇAMENTO!F89 -> 25 | H96: =G96 -> 0 | I96: =ROUND(E96*F96,2) -> 304.55 | J96: =ROUND(E96*G96,2) -> 0 | K96: =ROUND(E96*H96,2) -> 0 | L96: =K96/I96 -> 0
A97: =ORÇAMENTO!A90 -> 9.1.7 | B97: =ORÇAMENTO!D90 -> JOELHO 45 GRAUS, PVC, SERIE NORMAL, ESGOTO PREDIAL, DN 100 MM, JUNTA ELÁSTICA, FORNECIDO E INSTALADO EM RAMAL DE DESCARGA OU RAMAL DE ESGOTO SANITÁRIO. AF_12/2014 | C97: =ORÇAMENTO!E90 -> unid | E97: =ORÇAMENTO!G90*26.63%+ORÇAMENTO!G90 -> 26.503659 | F97: =ORÇAMENTO!F90 -> 11 | H97: =G97 -> 0 | I97: =ROUND(E97*F97,2) -> 291.54 | J97: =ROUND(E97*G97,2) -> 0 | K97: =ROUND(E97*H97,2) -> 0 | L97: =K97/I97 -> 0
A98: =ORÇAMENTO!A91 -> 9.1.8 | B98: =ORÇAMENTO!D91 -> JUNÇÃO SIMPLES, PVC, SERIE NORMAL, ESGOTO PREDIAL, DN 100 X 100 MM, JUNTA ELÁSTICA, FORNECIDO E INSTALADO EM RAMAL DE DESCARGA OU RAMAL DE ESGOTO SANITÁRIO. AF_12/2014 | C98: =ORÇAMENTO!E91 -> unid | E98: =ORÇAMENTO!G91*26.63%+ORÇAMENTO!G91 -> 53.81775 | F98: =ORÇAMENTO!F91 -> 2 | H98: =G98 -> 0 | I98: =ROUND(E98*F98,2) -> 107.64 | J98: =ROUND(E98*G98,2) -> 0 | K98: =ROUND(E98*H98,2) -> 0 | L98: =K98/I98 -> 0
A99: =ORÇAMENTO!A92 -> 9.1.9 | B99: =ORÇAMENTO!D92 -> Junção simples em pvc rígido soldável, para esgoto primário, diâm = 75 x 50 mm. | C99: =ORÇAMENTO!E92 -> unid | E99: =ORÇAMENTO!G92*26.63%+ORÇAMENTO!G92 -> 41.749911 | F99: =ORÇAMENTO!F92 -> 3 | H99: =G99 -> 0 | I99: =ROUND(E99*F99,2) -> 125.25 | J99: =ROUND(E99*G99,2) -> 0 | K99: =ROUND(E99*H99,2) -> 0 | L99: =K99/I99 -> 0
A100: =ORÇAMENTO!A93 -> 9.1.10 | B100: =ORÇAMENTO!D93 -> Junção simples em pvc rígido soldável, para esgoto primário, diâm = 100 x 50 mm. | C100: =ORÇAMENTO!E93 -> unid | E100: =ORÇAMENTO!G93*26.63%+ORÇAMENTO!G93 -> 52.310853 | F100: =ORÇAMENTO!F93 -> 17 | H100: =G100 -> 0 | I100: =ROUND(E100*F100,2) -> 889.28 | J100: =ROUND(E100*G100,2) -> 0 | K100: =ROUND(E100*H100,2) -> 0 | L100: =K100/I100 -> 0
A101: =ORÇAMENTO!A94 -> 9.1.11 | B101: =ORÇAMENTO!D94 -> TE, PVC, SERIE NORMAL, ESGOTO PREDIAL, DN 50 X 50 MM, JUNTA ELÁSTICA, FORNECIDO E INSTALADO EM RAMAL DE DESCARGA OU RAMAL DE ESGOTO SANITÁRIO. AF_12/2014 | C101: =ORÇAMENTO!E94 -> unid | E101: =ORÇAMENTO!G94*26.63%+ORÇAMENTO!G94 -> 22.096935 | F101: =ORÇAMENTO!F94 -> 28 | H101: =G101 -> 0 | I101: =ROUND(E101*F101,2) -> 618.71 | J101: =ROUND(E101*G101,2) -> 0 | K101: =ROUND(E101*H101,2) -> 0 | L101: =K101/I101 -> 0
A102: =ORÇAMENTO!A95 -> 9.1.12 | B102: =ORÇAMENTO!D95 -> TE, PVC, SERIE NORMAL, ESGOTO PREDIAL, DN 100 X 100 MM, JUNTA ELÁSTICA, FORNECIDO E INSTALADO EM RAMAL DE DESCARGA OU RAMAL DE ESGOTO SANITÁRIO. AF_12/2014 | C102: =ORÇAMENTO!E95 -> unid | E102: =ORÇAMENTO!G95*26.63%+ORÇAMENTO!G95 -> 45.662778 | F102: =ORÇAMENTO!F95 -> 5 | H102: =G102 -> 0 | I102: =ROUND(E102*F102,2) -> 228.31 | J102: =ROUND(E102*G102,2) -> 0 | K102: =ROUND(E102*H102,2) -> 0 | L102: =K102/I102 -> 0
... A118: =ORÇAMENTO!A111 -> 9.1.28 | B118: =ORÇAMENTO!D111 -> REDUÇÃO EXCÊNTRICA, PVC, SERIE R, ÁGUA PLUVIAL, DN 75 X 50 MM, JUNTA ELÁSTICA, FORNECIDO E INSTALADO EM RAMAL DE ENCAMINHAMENTO. AF_12/2014 | C118: =ORÇAMENTO!E111 -> unid | E118: =ORÇAMENTO!G111*26.63%+ORÇAMENTO!G111 -> 17.778852 | F118: =ORÇAMENTO!F111 -> 3 | H118: =G118 -> 0 | I118: =ROUND(E118*F118,2) -> 53.34 | J118: =ROUND(E118*G118,2) -> 0 | K118: =ROUND(E118*H118,2) -> 0 | L118: =K118/I118 -> 0
A120: =ORÇAMENTO!A113 -> 9.2 | B120: SISTEMA PREDIAL DE ÁGUA FRIA - NBR 5626
A121: =ORÇAMENTO!A114 -> 9.2.1 | B121: =ORÇAMENTO!D114 -> TUBO, PVC, SOLDÁVEL, DN 60MM, INSTALADO EM PRUMADA DE ÁGUA - FORNECIMENTO E INSTALAÇÃO. AF_12/2014 | C121: =ORÇAMENTO!E114 -> m | E121: =ORÇAMENTO!G114*26.63%+ORÇAMENTO!G114 -> 40.14171 | F121: =ORÇAMENTO!F114 -> 23 | I121: =ROUND(E121*F121,2) -> 923.26 | J121: =ROUND(E121*G121,2) -> 0 | K121: =ROUND(E121*H121,2) -> 0 | L121: =K121/I121 -> 0
A122: =ORÇAMENTO!A115 -> 9.2.2 | B122: =ORÇAMENTO!D115 -> TUBO, PVC, SOLDÁVEL, DN 50MM, INSTALADO EM PRUMADA DE ÁGUA - FORNECIMENTO E INSTALAÇÃO. AF_12/2014 | C122: =ORÇAMENTO!E115 -> m | E122: =ORÇAMENTO!G115*26.63%+ORÇAMENTO!G115 -> 24.123015 | F122: =ORÇAMENTO!F115 -> 166 | I122: =ROUND(E122*F122,2) -> 4004.42 | J122: =ROUND(E122*G122,2) -> 0 | K122: =ROUND(E122*H122,2) -> 0 | L122: =K122/I122 -> 0
A123: =ORÇAMENTO!A116 -> 9.2.3 | B123: =ORÇAMENTO!D116 -> TUBO, PVC, SOLDÁVEL, DN 25MM, INSTALADO EM RAMAL OU SUB-RAMAL DE ÁGUA - FORNECIMENTO E INSTALAÇÃO. AF_12/2014 | C123: =ORÇAMENTO!E116 -> m | E123: =ORÇAMENTO!G116*26.63%+ORÇAMENTO!G116 -> 20.628027 | F123: =ORÇAMENTO!F116 -> 169 | I123: =ROUND(E123*F123,2) -> 3486.14 | J123: =ROUND(E123*G123,2) -> 0 | K123: =ROUND(E123*H123,2) -> 0 | L123: =K123/I123 -> 0
A124: =ORÇAMENTO!A117 -> 9.2.4 | B124: =ORÇAMENTO!D117 -> ADAPTADOR CURTO COM BOLSA E ROSCA PARA REGISTRO, PVC, SOLDÁVEL, DN 25MM X 3/4, INSTALADO EM RAMAL OU SUB-RAMAL DE ÁGUA - FORNECIMENTO E INSTALAÇÃO. AF_12/2014 | C124: =ORÇAMENTO!E117 -> unid | E124: =ORÇAMENTO!G117*26.63%+ORÇAMENTO!G117 -> 6.255522 | F124: =ORÇAMENTO!F117 -> 69 | I124: =ROUND(E124*F124,2) -> 431.63 | J124: =ROUND(E124*G124,2) -> 0 | K124: =ROUND(E124*H124,2) -> 0 | L124: =K124/I124 -> 0
A125: =ORÇAMENTO!A118 -> 9.2.5 | B125: =ORÇAMENTO!D118 -> LUVA DE REDUÇÃO, PVC, SOLDÁVEL, DN 60MM X 50MM, INSTALADO EM PRUMADA DE ÁGUA - FORNECIMENTO E INSTALAÇÃO. AF_12/2014 | C125: =ORÇAMENTO!E118 -> unid | E125: =ORÇAMENTO!G118*26.63%+ORÇAMENTO!G118 -> 24.69285 | F125: =ORÇAMENTO!F118 -> 1 | I125: =ROUND(E125*F125,2) -> 24.69 | J125: =ROUND(E125*G125,2) -> 0 | K125: =ROUND(E125*H125,2) -> 0 | L125: =K125/I125 -> 0
A126: =ORÇAMENTO!A119 -> 9.2.6 | B126: =ORÇAMENTO!D119 -> LUVA DE REDUÇÃO, PVC, SOLDÁVEL, DN 50MM X 25MM, INSTALADO EM PRUMADA DE ÁGUA FORNECIMENTO E INSTALAÇÃO. AF_12/2014 | C126: =ORÇAMENTO!E119 -> unid | E126: =ORÇAMENTO!G119*26.63%+ORÇAMENTO!G119 -> 12.890934 | F126: =ORÇAMENTO!F119 -> 1 | I126: =ROUND(E126*F126,2) -> 12.89 | J126: =ROUND(E126*G126,2) -> 0 | K126: =ROUND(E126*H126,2) -> 0 | L126: =K126/I126 -> 0
A127: =ORÇAMENTO!A120 -> 9.2.7 | B127: =ORÇAMENTO!D120 -> JOELHO 90 GRAUS COM BUCHA DE LATÃO, PVC, SOLDÁVEL, DN 25MM, X 1/2 INSTALADO EM RAMAL OU SUB-RAMAL DE ÁGUA - FORNECIMENTO E INSTALAÇÃO. AF_12/2014 | C127: =ORÇAMENTO!E120 -> unid | E127: =ORÇAMENTO!G120*26.63%+ORÇAMENTO!G120 -> 16.347933 | F127: =ORÇAMENTO!F120 -> 66 | I127: =ROUND(E127*F127,2) -> 1078.96 | J127: =ROUND(E127*G127,2) -> 0 | K127: =ROUND(E127*H127,2) -> 0 | L127: =K127/I127 -> 0
A128: =ORÇAMENTO!A121 -> 9.2.8 | B128: =ORÇAMENTO!D121 -> Joelho de 90º pvc rígido soldável c/ bucha de latão, d=20mmx1/2". | C128: =ORÇAMENTO!E121 -> unid | E128: =ORÇAMENTO!G121*26.63%+ORÇAMENTO!G121 -> 17.740863 | F128: =ORÇAMENTO!F121 -> 1 | I128: =ROUND(E128*F128,2) -> 17.74 | J128: =ROUND(E128*G128,2) -> 0 | K128: =ROUND(E128*H128,2) -> 0 | L128: =K128/I128 -> 0
A129: =ORÇAMENTO!A122 -> 9.2.9 | B129: =ORÇAMENTO!D122 -> JOELHO 90 GRAUS, PVC, SOLDÁVEL, DN 60MM, INSTALADO EM PRUMADA DE ÁGUA - FORNECIMENTO E INSTALAÇÃO. AF_12/2014 | C129: =ORÇAMENTO!E122 -> unid | E129: =ORÇAMENTO!G122*26.63%+ORÇAMENTO!G122 -> 46.371906 | F129: =ORÇAMENTO!F122 -> 4 | I129: =ROUND(E129*F129,2) -> 185.49 | J129: =ROUND(E129*G129,2) -> 0 | K129: =ROUND(E129*H129,2) -> 0 | L129: =K129/I129 -> 0
A130: =ORÇAMENTO!A123 -> 9.2.10 | B130: =ORÇAMENTO!D123 -> JOELHO 90 GRAUS, PVC, SOLDÁVEL, DN 25MM, INSTALADO EM RAMAL DE DISTRIBUIÇÃO DE ÁGUA - FORNECIMENTO E INSTALAÇÃO. AF_12/2014 | C130: =ORÇAMENTO!E123 -> unid | E130: =ORÇAMENTO!G123*26.63%+ORÇAMENTO!G123 -> 5.597046 | F130: =ORÇAMENTO!F123 -> 48 | I130: =ROUND(E130*F130,2) -> 268.66 | J130: =ROUND(E130*G130,2) -> 0 | K130: =ROUND(E130*H130,2) -> 0 | L130: =K130/I130 -> 0
A131: =ORÇAMENTO!A124 -> 9.2.11 | B131: =ORÇAMENTO!D124 -> JOELHO 90 GRAUS, PVC, SOLDÁVEL, DN 50MM, INSTALADO EM PRUMADA DE ÁGUA - FORNECIMENTO E INSTALAÇÃO. AF_12/2014 | C131: =ORÇAMENTO!E124 -> unid | E131: =ORÇAMENTO!G124*26.63%+ORÇAMENTO!G124 -> 15.461523 | F131: =ORÇAMENTO!F124 -> 49 | I131: =ROUND(E131*F131,2) -> 757.61 | J131: =ROUND(E131*G131,2) -> 0 | K131: =ROUND(E131*H131,2) -> 0 | L131: =K131/I131 -> 0
A132: =ORÇAMENTO!A125 -> 9.2.12 | B132: =ORÇAMENTO!D125 -> JOELHO 90 GRAUS, PVC, SOLDÁVEL, DN 20MM, INSTALADO EM RAMAL DE DISTRIBUIÇÃO DE ÁGUA - FORNECIMENTO E INSTALAÇÃO. AF_12/2014 | C132: =ORÇAMENTO!E125 -> unid | E132: =ORÇAMENTO!G125*26.63%+ORÇAMENTO!G125 -> 4.571343 | F132: =ORÇAMENTO!F125 -> 2 | I132: =ROUND(E132*F132,2) -> 9.14 | J132: =ROUND(E132*G132,2) -> 0 | K132: =ROUND(E132*H132,2) -> 0 | L132: =K132/I132 -> 0
... A144: =ORÇAMENTO!A137 -> 9.2.24 | B144: =ORÇAMENTO!D137 -> Conjunto moto bomba com motor 1/2 cv, monofásico, bomba centrífuga, sucção = 3/4", recalque=3/4", pr. Máx 23mca, faixas hm (m), q (m³/h) : (20-2,1)(17-2,9)(14-3,4)(11-3,9)(8-4,3)(5-4,7), inclusive chave de partida direta. | C144: =ORÇAMENTO!E137 -> unid | E144: =ORÇAMENTO!G137*26.63%+ORÇAMENTO!G137 -> 1483.4831 | F144: =ORÇAMENTO!F137 -> 1 | I144: =ROUND(E144*F144,2) -> 1483.48 | J144: =ROUND(E144*G144,2) -> 0 | K144: =ROUND(E144*H144,2) -> 0 | L144: =K144/I144 -> 0
...

Sheet MEM_02
C1: MEMÓRIA DE CÁLCULO - QUANTIDADES
C2: Obra: | H2: Proprietário:
C3: CENTRO DE ONCOLOGIA DE SOUSA | H3: Prefeitura Municipal de Sousa
C4: Local: | H4: Responsável Técnico:
C5: RUA LUIZ PEREIRA DA SILVA, S/N, CENTRO, SOUSA-PB
A7: Item | B7: Descrição | D7: Vez | E7: Dados | K7: Resultado | M7: Un.
E8: X1 | F8: X2 | G8: Y1 | H8: Y2 | I8: Z1 | J8: Z2 | K8: Parcial | L8: Total
B10: SERVIÇOS PRELIMINARES
B12: =BM_01!B21 -> Demolição de piso de alta resistência | L12: =SUM(L14) -> 36 | M12: M2
B14: ESCAVAÇÃO DE VALA | D14: 1 | E14: 60 | G14: 0.6 | K14: =ROUND(E14*G14,2) -> 36 | L14: =K14*D14 -> 36
B16: =BM_01!B90 -> SISTEMA PREDIAL DE ESGOTO SANITÁRIO -NBR 9160
B18: =BM_01!B91 -> CAIXA SIFONADA, PVC, DN 100 X 100 X 50 MM, JUNTA ELÁSTICA, FORNECIDA E INSTALADA EM RAMAL DE DESCARGA OU EM RAMAL DE ESGOTO SANITÁRIO. AF_12/2014 | L18: =SUM(L20:L25) -> 28
B20: DETALHE 01 | D20: 1 | L20: 8
B21: DETALHE 02 | D21: 1 | L21: 6
B22: DETALHE 03 | D22: 1 | L22: 2
B23: DETALHE 04 | D23: 1 | L23: 9
B24: DETALHE 05 | D24: 1 | L24: 3
B26: =BM_01!B92 -> JOELHO 90 GRAUS, PVC, SERIE NORMAL, ESGOTO PREDIAL, DN 100 MM, JUNTA ELÁSTICA, FORNECIDO E INSTALADO EM RAMAL DE DESCARGA OU RAMAL DE ESGOTO SANITÁRIO. AF_12/2014 | L26: =SUM(L28:L33) -> 13
B28: DETALHE 01 | D28: 1 | L28: 3
B29: DETALHE 02 | D29: 1 | L29: 3
B30: DETALHE 03 | D30: 1 | L30: 2
B31: DETALHE 04 | D31: 1 | L31: 4
B32: DETALHE 05 | D32: 1 | L32: 1
B34: =BM_01!B93 -> JOELHO 90 GRAUS, PVC, SERIE NORMAL, ESGOTO PREDIAL, DN 40 MM, JUNTA SOLDÁVEL, FORNECIDO E INSTALADO EM RAMAL DE DESCARGA OU RAMAL DE ESGOTO SANITÁRIO. AF_12/2014 | L34: =SUM(L36:L41) -> 46
B36: DETALHE 01 | D36: 1 | L36: 15
B37: DETALHE 02 | D37: 1 | L37: 9
B38: DETALHE 03 | D38: 1
B39: DETALHE 04 | D39: 1 | L39: 16
B40: DETALHE 05 | D40: 1 | L40: 6
B42: =BM_01!B94 -> JOELHO 90 GRAUS, PVC, SERIE NORMAL, ESGOTO PREDIAL, DN 50 MM, JUNTA ELÁSTICA, FORNECIDO E INSTALADO EM RAMAL DE DESCARGA OU RAMAL DE ESGOTO SANITÁRIO. AF_12/2014 | L42: =SUM(L44:L49) -> 37
B44: DETALHE 01 | D44: 1 | L44: 14
B45: DETALHE 02 | D45: 1 | L45: 7
B46: DETALHE 03 | D46: 1 | L46: 4
B47: DETALHE 04 | D47: 1 | L47: 9
B48: DETALHE 05 | D48: 1 | L48: 3
B50: =BM_01!B95 -> JOELHO 45 GRAUS, PVC, SERIE NORMAL, ESGOTO PREDIAL, DN 40 MM, JUNTA SOLDÁVEL, FORNECIDO E INSTALADO EM RAMAL DE DESCARGA OU RAMAL DE ESGOTO SANITÁRIO. AF_12/2014 | L50: =SUM(L52:L57) -> 27
B52: DETALHE 01 | D52: 1 | L52: 9
B53: DETALHE 02 | D53: 1 | L53: 6
B54: DETALHE 03 | D54: 1
B55: DETALHE 04 | D55: 1 | L55: 8
B56: DETALHE 05 | D56: 1 | L56: 4
B58: =BM_01!B96 -> JOELHO 45 GRAUS, PVC, SERIE NORMAL, ESGOTO PREDIAL, DN 50 MM, JUNTA ELÁSTICA, FORNECIDO E INSTALADO EM RAMAL DE DESCARGA OU RAMAL DE ESGOTO SANITÁRIO. AF_12/2014 | L58: =SUM(L60:L65) -> 25
B60: DETALHE 01 | D60: 1 | L60: 8
B61: DETALHE 02 | D61: 1 | L61: 4
B62: DETALHE 03 | D62: 1 | L62: 3
B63: DETALHE 04 | D63: 1 | L63: 6
B64: DETALHE 05 | D64: 1 | L64: 4
B66: =BM_01!B97 -> JOELHO 45 GRAUS, PVC, SERIE NORMAL, ESGOTO PREDIAL, DN 100 MM, JUNTA ELÁSTICA, FORNECIDO E INSTALADO EM RAMAL DE DESCARGA OU RAMAL DE ESGOTO SANITÁRIO. AF_12/2014 | L66: =SUM(L68:L73) -> 11
B68: DETALHE 01 | D68: 1 | L68: 3
B69: DETALHE 02 | D69: 1 | L69: 2
B70: DETALHE 03 | D70: 1
B71: DETALHE 04 | D71: 1 | L71: 4
B72: DETALHE 05 | D72: 1 | L72: 2
B74: =BM_01!B98 -> JUNÇÃO SIMPLES, PVC, SERIE NORMAL, ESGOTO PREDIAL, DN 100 X 100 MM, JUNTA ELÁSTICA, FORNECIDO E INSTALADO EM RAMAL DE DESCARGA OU RAMAL DE ESGOTO SANITÁRIO. AF_12/2014 | L74: =SUM(L76:L81) -> 2
B76: DETALHE 01 | D76: 1 | L76: 1
B77: DETALHE 02 | D77: 1
B78: DETALHE 03 | D78: 1 | L78: 1
B79: DETALHE 04 | D79: 1
B80: DETALHE 05 | D80: 1
B82: =BM_01!B99 -> Junção simples em pvc rígido soldável, para esgoto primário, diâm = 75 x 50 mm. | L82: =SUM(L84:L89) -> 3
B84: DETALHE 01 | D84: 1 | L84: 1
B85: DETALHE 02 | D85: 1
B86: DETALHE 03 | D86: 1 | L86: 2
B87: DETALHE 04 | D87: 1
B88: DETALHE 05 | D88: 1
B90: =BM_01!B100 -> Junção simples em pvc rígido soldável, para esgoto primário, diâm = 100 x 50 mm. | L90: =SUM(L92:L97) -> 13
B92: DETALHE 01 | D92: 1 | L92: 4
B93: DETALHE 02 | D93: 1 | L93: 2
B94: DETALHE 03 | D94: 1
B95: DETALHE 04 | D95: 1 | L95: 4
B96: DETALHE 05 | D96: 1 | L96: 3
B98: =BM_01!B101 -> TE, PVC, SERIE NORMAL, ESGOTO PREDIAL, DN 50 X 50 MM, JUNTA ELÁSTICA, FORNECIDO E INSTALADO EM RAMAL DE DESCARGA OU RAMAL DE ESGOTO SANITÁRIO. AF_12/2014 | L98: =SUM(L100:L104) -> 27
B100: DETALHE 01 | D100: 1 | L100: 9
B101: DETALHE 02 | D101: 1 | L101: 4
B102: DETALHE 03 | D102: 1 | L102: 2
B103: DETALHE 04 | D103: 1 | L103: 9
B104: DETALHE 05 | D104: 1 | L104: 3
B106: =BM_01!B102 -> TE, PVC, SERIE NORMAL, ESGOTO PREDIAL, DN 100 X 100 MM, JUNTA ELÁSTICA, FORNECIDO E INSTALADO EM RAMAL DE DESCARGA OU RAMAL DE ESGOTO SANITÁRIO. AF_12/2014 | L106: =SUM(L108:L112) -> 5
B108: DETALHE 01 | D108: 1 | L108: 2
B109: DETALHE 02 | D109: 1
B110: DETALHE 03 | D110: 1
B111: DETALHE 04 | D111: 1 | L111: 3
B112: DETALHE 05 | D112: 1
B114: =BM_01!B103 -> TUBO PVC, SERIE NORMAL, ESGOTO PREDIAL, DN 100 MM, FORNECIDO E INSTALADO EM RAMAL DE DESCARGA OU RAMAL DE ESGOTO SANITÁRIO. AF_12/2014 | L114: =SUM(L116:L120) -> 175
B116: DETALHE 01 | D116: 1 | L116: 45
B117: DETALHE 02 | D117: 1 | L117: 25
B118: DETALHE 03 | D118: 1 | L118: 15
B119: DETALHE 04 | D119: 1 | L119: 65
B120: DETALHE 05 | D120: 1 | L120: 25
B122: =BM_01!B104 -> TUBO PVC, SERIE NORMAL, ESGOTO PREDIAL, DN 50 MM, FORNECIDO E INSTALADO EM RAMAL DE DESCARGA OU RAMAL DE ESGOTO SANITÁRIO. AF_12/2014 | L122: =SUM(L124:L128) -> 100
B124: DETALHE 01 | D124: 1 | L124: 25
B125: DETALHE 02 | D125: 1 | L125: 20
B126: DETALHE 03 | D126: 1 | L126: 10
B127: DETALHE 04 | D127: 1 | L127: 25
B128: DETALHE 05 | D128: 1 | L128: 20
B130: =BM_01!B105 -> TUBO PVC, SERIE NORMAL, ESGOTO PREDIAL, DN 40 MM, FORNECIDO E INSTALADO EM RAMAL DE DESCARGA OU RAMAL DE ESGOTO SANITÁRIO. AF_12/2014 | L130: =SUM(L132:L136) -> 16
B132: DETALHE 01 | D132: 1 | L132: 7
B133: DETALHE 02 | D133: 1
B134: DETALHE 03 | D134: 1
B135: DETALHE 04 | D135: 1 | L135: 6
...

Sheet RELATÓRIO FOTOGRÁFICO BM-01
