Workbook

Sheet ORÇAMENTO
A2: PREFEITURA MUNICIPAL DE SOUSA
A3: PLANILHA ORÇAMENTÁRIA SINTÉTICA
A4: OBRA : CENTRO DE ONCOLOGIA DE SOUSA
A5: ENDEREÇO: RUA LUIZ PEREIRA DA SILVA, S/N, CENTRO, SOUSA-PB
A6: REFERÊNCIA: ORSE, SEINFRA-CE E SINAPI-PB(FEVEREIRO/2022) C/DESONERAÇÃO - ENCARGOS SOCIAIS : 86,59% (HORA) - 48,16 % (MÊS) | H6: BDI = 26,63%
A7: Empresa: COMPACTO CONSTRUÇÕES E SERVIÇOS - EIRELE - CNPJ: 09.545.520/0001-54 - Telefone: (83) 9 9117-7810 - Email: compactoconstrucoes1@gmail.com
A8: Responsável Técnico: LÚCIO LAURO BARBOSA - CREA/PB Nº 160.594.868-3
A9: ITEM | B9: FONTE | C9: CÓDIGO | D9: DISCRIMINAÇÃO DO SERVIÇOS | E9: UNID. | F9: QUANT. | G9: VALOR UNIT. (R$) | H9: VALOR TOTAL (R$)
A11: 1 | B11: SERVIÇOS PRELIMINARES | H11: =SUM(H12:H16) -> 18776.64 | J11: 0.965
A12: 1.1 | B12: ORSE | C12: 51 | D12: Placa de Obra em chapa de aço galvanizado, instalada - Rev 02 01/2022 | E12: m² | F12: 4.5 | G12: =L12 -> 334.14 | H12: =ROUND(F12*G12,2) -> 1503.63 | K12: 346.26 | L12: =ROUND(K12*$J$11,2) -> 334.14
A13: 1.2 | B13: SINAPI | C13: 97622 | D13: DEMOLIÇÃO DE ALVENARIA DE BLOCOFURADO, DE FORMA MANUAL, SEM REAPROVEITAMENTO | E13: m³ | F13: 63.41 | G13: =L13 -> 36.7 | H13: =ROUND(F13*G13,2) -> 2327.15 | K13: 38.03 | L13: =ROUND(K13*$J$11,2) -> 36.7
A14: 1.3 | B14: ORSE | C14: 3240 | D14: Demolição de piso de alta resistência | E14: m² | F14: 774.83 | G14: =L14 -> 16.44 | H14: =ROUND(F14*G14,2) -> 12738.21 | K14: 17.04 | L14: =ROUND(K14*$J$11,2) -> 16.44
A15: 1.4 | B15: SINAPI | C15: 97650 | D15: REMOÇÃO DE TRAMA DE MADEIRA PARA COBERTURA, DE FORMA MANUAL, SEM REAPROVEITAMENTO. AF 12/2017 | E15: m² | F15: 309.93 | G15: =L15 -> 4.75 | H15: =ROUND(F15*G15,2) -> 1472.17 | K15: 4.92 | L15: =ROUND(K15*$J$11,2) -> 4.75
A16: 1.5 | B16: SINAPI | C16: 100981 | D16: CARGA, MANOBRA E DESCARGA DE ENTULHO EM CAMINHÃO BASCULANTE 6 M³ - CARGA COM ESCAVADEIRA HIDRÁULICA (CAÇAMBA DE 0,80 M³/111 HP) E DESCARGA LIVRE (UNIDADE: M³). AF 07/2020 | E16: m³ | F16: 102.15 | G16: =L16 -> 7.2 | H16: =ROUND(F16*G16,2) -> 735.48 | K16: 7.46 | L16: =ROUND(K16*$J$11,2) -> 7.2
L17: =ROUND(K17*$J$11,2) -> 0
A18: 2 | B18: INFRA ESTRUTURA E SUPERESTRUTURA | H18: =SUM(H19:H34) -> 92960.22 | L18: =ROUND(K18*$J$11,2) -> 0
A19: 2.1 | B19: SINAPI | C19: 96523 | D19: ESCAVAÇÃO MANUAL PARA BLOCO DE COROAMENTO OU SAPATA (INCLUINDO ESCAVAÇÃO PARA COLOCAÇÃO DE FÔRMAS). AF_06/2017 | E19: m³ | F19: 28.86 | G19: =L19 -> 63.86 | H19: =ROUND(F19*G19,2) -> 1843 | K19: 66.18 | L19: =ROUND(K19*$J$11,2) -> 63.86
A20: 2.2 | B20: SINAPI | C20: 101964 | D20: LAJE PRÉ-MOLDADA UNIDIRECIONAL, BIAPOIADA, PARA FORRO, ENCHIMENTO EM CERÂMICA, VIGOTA CONVENCIONAL, ALTURA TOTAL DA LAJE (ENCHIMENTO+CAPA) = (8+3). AF_11/2020 | E20: m² | F20: 57.88 | G20: =L20 -> 141.66 | H20: =ROUND(F20*G20,2) -> 8199.28 | K20: 146.8 | L20: =ROUND(K20*$J$11,2) -> 141.66
A21: 2.3 | B21: SINAPI | C21: 96619 | D21: LASTRO DE CONCRETO MAGRO, APLICADO EM BLOCOS DE COROAMENTO OU SAPATAS, ESPESSURA DE 5 CM. AF_08/2017 | E21: m² | F21: 19.24 | G21: =L21 -> 22.75 | H21: =ROUND(F21*G21,2) -> 437.71 | K21: 23.57 | L21: =ROUND(K21*$J$11,2) -> 22.75
A22: 2.4 | B22: SINAPI | C22: 94971 | D22: CONCRETO FCK = 25MPA, TRAÇO 1:2,3:2,7 (EM MASSA SECA DE CIMENTO/ AREIA MÉDIA/ BRITA 1) - PREPARO MECÂNICO COM BETONEIRA 600 L. AF_05/2021 | E22: m³ | F22: 5.8 | G22: =L22 -> 353.29 | H22: =ROUND(F22*G22,2) -> 2049.08 | K22: 366.1 | L22: =ROUND(K22*$J$11,2) -> 353.29
A23: 2.5 | B23: SINAPI | C23: 94972 | D23: CONCRETO FCK = 30MPA, TRAÇO 1:2,1:2,5 (EM MASSA SECA DE CIMENTO/ AREIA MÉDIA/ BRITA 1) - PREPARO MECÂNICO COM BETONEIRA 600 L. AF_05/2021 | E23: m³ | F23: 30.1 | G23: =L23 -> 364.81 | H23: =ROUND(F23*G23,2) -> 10980.78 | K23: 378.04 | L23: =ROUND(K23*$J$11,2) -> 364.81
A24: 2.6 | B24: SINAPI | C24: 92873 | D24: LANÇAMENTO COM USO DE BALDES, ADENSAMENTO E ACABAMENTO DE CONCRETO EM ESTRUTURAS. AF_12/2015 | E24: m³ | F24: 35.9 | G24: =L24 -> 191.33 | H24: =ROUND(F24*G24,2) -> 6868.75 | K24: 198.27 | L24: =ROUND(K24*$J$11,2) -> 191.33
A25: 2.7 | B25: ORSE | C25: 90 | D25: Forma plana para fundações, em tábua de pinho, 07 usos. | E25: m² | F25: 19.3 | G25: =L25 -> 65.36 | H25: =ROUND(F25*G25,2) -> 1261.45 | K25: 67.73 | L25: =ROUND(K25*$J$11,2) -> 65.36
A26: 2.8 | B26: ORSE | C26: 3366 | D26: Forma plana para estruturas, em compensado plastificado de 12mm, 07 usos. | E26: m² | F26: 421.3 | G26: =L26 -> 55.18 | H26: =ROUND(F26*G26,2) -> 23247.33 | K26: 57.18 | L26: =ROUND(K26*$J$11,2) -> 55.18
A27: 2.9 | B27: SINAPI | C27: 92763 | D27: ARMAÇÃO DE PILAR OU VIGA DE UMA ESTRUTURA CONVENCIONAL DE CONCRETO ARMADO EM UM EDIFÍCIO DE MÚLTIPLOS PAVIMENTOS UTILIZANDO AÇO CA-50 DE 12,5 MM - MONTAGEM. AF_12/2015 | E27: kg | F27: 480.3 | G27: =L27 -> 10.32 | H27: =ROUND(F27*G27,2) -> 4956.7 | K27: 10.69 | L27: =ROUND(K27*$J$11,2) -> 10.32
A28: 2.10 | B28: SINAPI | C28: 92762 | D28: ARMAÇÃO DE PILAR OU VIGA DE UMA ESTRUTURA CONVENCIONAL DE CONCRETO ARMADO EM UM EDIFÍCIO DE MÚLTIPLOS PAVIMENTOS UTILIZANDO AÇO CA-50 DE 10,0 MM - MONTAGEM. AF_12/2015 | E28: kg | F28: 1608.2 | G28: =L28 -> 12.09 | H28: =ROUND(F28*G28,2) -> 19443.14 | K28: 12.53 | L28: =ROUND(K28*$J$11,2) -> 12.09
A29: 2.11 | B29: SINAPI | C29: 92764 | D29: ARMAÇÃO DE PILAR OU VIGA DE UMA ESTRUTURA CONVENCIONAL DE CONCRETO ARMADO EM UM EDIFÍCIO DE MÚLTIPLOS PAVIMENTOS UTILIZANDO AÇO CA-50 DE 16,0 MM - MONTAGEM. AF_12/2015 | E29: kg | F29: 63.1 | G29: =L29 -> 9.97 | H29: =ROUND(F29*G29,2) -> 629.11 | K29: 10.33 | L29: =ROUND(K29*$J$11,2) -> 9.97
A30: 2.12 | B30: SINAPI | C30: 92759 | D30: ARMAÇÃO DE PILAR OU VIGA DE UMA ESTRUTURA CONVENCIONAL DE CONCRETO ARMADO EM UM EDIFÍCIO DE MÚLTIPLOS PAVIMENTOS UTILIZANDO AÇO CA-60 DE 5,0 MM - MONTAGEM. AF_12/2015 | E30: kg | F30: 651.9 | G30: =L30 -> 13.99 | H30: =ROUND(F30*G30,2) -> 9120.08 | K30: 14.5 | L30: =ROUND(K30*$J$11,2) -> 13.99
... A34: 2.16 | B34: SINAPI | C34: 93194 | D34: CONTRAVERGA PRÉ-MOLDADA PARA VÃOS DE ATÉ 1,5 M DE COMPRIMENTO. AF_03/2016 | E34: m | F34: 16.9 | G34: =L34 -> 39.74 | H34: =ROUND(F34*G34,2) -> 671.61 | K34: 41.18 | L34: =ROUND(K34*$J$11,2) -> 39.74
L35: =ROUND(K35*$J$11,2) -> 0
A36: 3 | B36: ALVENARIA E VEDAÇÕES | H36: =SUM(H37:H38) -> 43303.58 | L36: =ROUND(K36*$J$11,2) -> 0
A37: 3.1 | B37: SINAPI | C37: 103326 | D37: ALVENARIA DE VEDAÇÃO DE BLOCOS CERÂMICOS FURADOS NA VERTICAL DE 19X19X39 CM (ESPESSURA 19 CM) E ARGAMASSA DE ASSENTAMENTO COM PREPARO EM BETONEIRA. AF_12/2021 | E37: m² | F37: 209.45 | G37: =L37 -> 61.96 | H37: =ROUND(F37*G37,2) -> 12977.52 | K37: 64.21 | L37: =ROUND(K37*$J$11,2) -> 61.96
A38: 3.2 | B38: ORSE | C38: 191 | D38: Divisória em granito cinza andorinha polido, e=2cm, inclusive com montagem em ferragem - Rev 02. | E38: m² | F38: 53.89 | G38: =L38 -> 562.74 | H38: =ROUND(F38*G38,2) -> 30326.06 | K38: 583.15 | L38: =ROUND(K38*$J$11,2) -> 562.74
L39: =ROUND(K39*$J$11,2) -> 0
A40: 4 | B40: IMPERMEABILIZAÇÕES | H40: =SUM(H41:H42) -> 6503.26 | L40: =ROUND(K40*$J$11,2) -> 0
A41: 4.1 | B41: SINAPI | C41: 98557 | D41: IMPERMEABILIZAÇÃO DE SUPERFÍCIE COM EMULSÃO ASFÁLTICA, 2 DEMÃOS AF_06/2018 | E41: m² | F41: 25.12 | G41: =L41 -> 38.52 | H41: =ROUND(F41*G41,2) -> 967.62 | K41: 39.92 | L41: =ROUND(K41*$J$11,2) -> 38.52
A42: 4.2 | B42: SINAPI | C42: 98546 | D42: IMPERMEABILIZAÇÃO DE SUPERFÍCIE COM MANTA ASFÁLTICA, UMA CAMADA, INCLUSIVE APLICAÇÃO DE PRIMER ASFÁLTICO, E=3MM. AF_06/2018 | E42: m² | F42: 57.88 | G42: =L42 -> 95.64 | H42: =ROUND(F42*G42,2) -> 5535.64 | K42: 99.11 | L42: =ROUND(K42*$J$11,2) -> 95.64
L43: =ROUND(K43*$J$11,2) -> 0
A44: 5 | B44: COBERTURAS E PROTEÇÕES | H44: =SUM(H45:H47) -> 51264.13 | L44: =ROUND(K44*$J$11,2) -> 0
A45: 5.1 | B45: SINAPI | C45: 92539 | D45: TRAMA DE MADEIRA COMPOSTA POR RIPAS, CAIBROS E TERÇAS PARA TELHADOS DE ATÉ 2 ÁGUAS PARA TELHA DE ENCAIXE DE CERÂMICA OU DE CONCRETO, INCLUSO TRANSPORTE VERTICAL. AF_07/2019 | E45: m² | F45: 309.93 | G45: =L45 -> 60.47 | H45: =ROUND(F45*G45,2) -> 18741.47 | K45: 62.66 | L45: =ROUND(K45*$J$11,2) -> 60.47
...

Sheet BM_04
C1: BM 04 - Boletim de Medição
B4: ESTADO DA PARAÍBA
B5: PREFEITURA MUNICIPAL DE SOUSA - PB
A6: Objetivo | G6: Agente Promotor | K6: Data de Emissão | L6: Nº BM
A7: CENTRO DE ONCOLOGIA DE SOUSA | G7: PREFEITURA MUNICIPAL DE SOUSA - PB | K7: 44600 | L7: 04
A9: Localização | G9: Contratada | K9: Início da Obra | L9: Termino da Obra
A10: RUA LUIZ PEREIRA DA SILVA, S/N, CENTRO, SOUSA-PB | G10: COMPACTO CONSTRUÇÕES EIRELI - EPP | K10: 44854 | L10: 45219
A12: Modalidade | C12: Nº de Contrato e Data de assinatura | G12: Valor do Contrato / PMS | K12: Período de medição
A13: CONCORRÊNCIA 06/2022 | C13: Nº 0701/2022 - 20/10/2022 | G13: =I219 -> 989890.37 | K13: 06/05/2023 a 11/06/2023
A16: Itens | B16: Discriminação dos serviços do orçamento | C16: Unid. | D16: Custo Unitário | F16: Quantidade | I16: Financeiro | L16: Desvio (%)
E17: Custo Unitário | F17: Prevista | G17: Medida no período | H17: Acumulada incluindo o período | I17: Prevista | J17: Medida no período | K17: Acumulada incluindo o período
A18: =ORÇAMENTO!A11 -> 1 | B18: SERVIÇOS PRELIMINARES
A19: =ORÇAMENTO!A12 -> 1.1 | B19: =ORÇAMENTO!D12 -> Placa de Obra em chapa de aço galvanizado, instalada - Rev 02 01/2022 | C19: =ORÇAMENTO!E12 -> m² | E19: =ORÇAMENTO!G12*26.63%+ORÇAMENTO!G12 -> 423.12148 | F19: =ORÇAMENTO!F12 -> 4.5 | H19: =G19+[1]BM_03!H19 -> 4.46 | I19: =ROUND(E19*F19,2) -> 1904.05 | J19: =ROUND(E19*G19,2) -> 0 | K19: =ROUND(E19*H19,2) -> 1887.12 | L19: =H19/F19 -> 0.99111111
A20: =ORÇAMENTO!A13 -> 1.2 | B20: DEMOLIÇÃO DE ALVENARIA DE BLOCOFURADO, DE FORMA MANUAL, SEM REAPROVEITAMENTO | C20: =ORÇAMENTO!E13 -> m³ | E20: =ORÇAMENTO!G13*26.63%+ORÇAMENTO!G13 -> 46.47321 | F20: =ORÇAMENTO!F13 -> 63.41 | G20: =MEM_04!L13 -> 3.0625 | H20: =G20+[1]BM_03!H20 -> 31.4125 | I20: =ROUND(E20*F20,2) -> 2946.87 | J20: =ROUND(E20*G20,2) -> 142.32 | K20: =ROUND(E20*H20,2) -> 1459.84 | L20: =H20/F20 -> 0.49538716
A21: =ORÇAMENTO!A14 -> 1.3 | B21: =ORÇAMENTO!D14 -> Demolição de piso de alta resistência | C21: =ORÇAMENTO!E14 -> m² | E21: =ORÇAMENTO!G14*26.63%+ORÇAMENTO!G14 -> 20.817972 | F21: =ORÇAMENTO!F14 -> 774.83 | G21: =MEM_04!L17 -> 202.28 | H21: =G21+[1]BM_03!H21 -> 336.83 | I21: =ROUND(E21*F21,2) -> 16130.39 | J21: =ROUND(E21*G21,2) -> 4211.06 | K21: =ROUND(E21*H21,2) -> 7012.12 | L21: =H21/F21 -> 0.43471471
A22: =ORÇAMENTO!A15 -> 1.4 | B22: =ORÇAMENTO!D15 -> REMOÇÃO DE TRAMA DE MADEIRA PARA COBERTURA, DE FORMA MANUAL, SEM REAPROVEITAMENTO. AF 12/2017 | C22: =ORÇAMENTO!E15 -> m² | E22: =ORÇAMENTO!G15*26.63%+ORÇAMENTO!G15 -> 6.014925 | F22: =ORÇAMENTO!F15 -> 309.93 | G22: =F22-444 -> -134.07 | H22: =G22+[1]BM_03!H22 -> 175.86 | I22: =ROUND(E22*F22,2) -> 1864.21 | J22: =ROUND(E22*G22,2) -> -806.42 | K22: =ROUND(E22*H22,2) -> 1057.78 | L22: =H22/F22 -> 0.56741845
A23: =ORÇAMENTO!A16 -> 1.5 | B23: =ORÇAMENTO!D16 -> CARGA, MANOBRA E DESCARGA DE ENTULHO EM CAMINHÃO BASCULANTE 6 M³ - CARGA COM ESCAVADEIRA HIDRÁULICA (CAÇAMBA DE 0,80 M³/111 HP) E DESCARGA LIVRE (UNIDADE: M³). AF 07/2020 | C23: =ORÇAMENTO!E16 -> m³ | E23: =ORÇAMENTO!G16*26.63%+ORÇAMENTO!G16 -> 9.11736 | F23: =ORÇAMENTO!F16 -> 102.15 | H23: =G23+[1]BM_03!H23 -> 102.15 | I23: =ROUND(E23*F23,2) -> 931.34 | J23: =ROUND(E23*G23,2) -> 0 | K23: =ROUND(E23*H23,2) -> 931.34 | L23: =H23/F23 -> 1
H24: =G24+[1]BM_03!H24 -> 0
A25: =ORÇAMENTO!A18 -> 2 | B25: INFRA ESTRUTURA E SUPERESTRUTURA | H25: =G25+[1]BM_03!H25 -> 0
A26: =ORÇAMENTO!A19 -> 2.1 | B26: =ORÇAMENTO!D19 -> ESCAVAÇÃO MANUAL PARA BLOCO DE COROAMENTO OU SAPATA (INCLUINDO ESCAVAÇÃO PARA COLOCAÇÃO DE FÔRMAS). AF_06/2017 | C26: =ORÇAMENTO!E19 -> m³ | E26: =ORÇAMENTO!G19*26.63%+ORÇAMENTO!G19 -> 80.865918 | F26: =ORÇAMENTO!F19 -> 28.86 | H26: =G26+[1]BM_03!H26 -> 16.41 | I26: =ROUND(E26*F26,2) -> 2333.79 | J26: =ROUND(E26*G26,2) -> 0 | K26: =ROUND(E26*H26,2) -> 1327.01 | L26: =H26/F26 -> 0.56860707
A27: =ORÇAMENTO!A20 -> 2.2 | B27: =ORÇAMENTO!D20 -> LAJE PRÉ-MOLDADA UNIDIRECIONAL, BIAPOIADA, PARA FORRO, ENCHIMENTO EM CERÂMICA, VIGOTA CONVENCIONAL, ALTURA TOTAL DA LAJE (ENCHIMENTO+CAPA) = (8+3). AF_11/2020 | C27: =ORÇAMENTO!E20 -> m² | E27: =ORÇAMENTO!G20*26.63%+ORÇAMENTO!G20 -> 179.38406 | F27: =ORÇAMENTO!F20 -> 57.88 | H27: =G27+[1]BM_03!H27 -> 0 | I27: =ROUND(E27*F27,2) -> 10382.75 | J27: =ROUND(E27*G27,2) -> 0 | K27: =ROUND(E27*H27,2) -> 0 | L27: =H27/F27 -> 0
A28: =ORÇAMENTO!A21 -> 2.3 | B28: =ORÇAMENTO!D21 -> LASTRO DE CONCRETO MAGRO, APLICADO EM BLOCOS DE COROAMENTO OU SAPATAS, ESPESSURA DE 5 CM. AF_08/2017 | C28: =ORÇAMENTO!E21 -> m² | E28: =ORÇAMENTO!G21*26.63%+ORÇAMENTO!G21 -> 28.808325 | F28: =ORÇAMENTO!F21 -> 19.24 | H28: =G28+[1]BM_03!H28 -> 19.24 | I28: =ROUND(E28*F28,2) -> 554.27 | J28: =ROUND(E28*G28,2) -> 0 | K28: =ROUND(E28*H28,2) -> 554.27 | L28: =H28/F28 -> 1
A29: =ORÇAMENTO!A22 -> 2.4 | B29: =ORÇAMENTO!D22 -> CONCRETO FCK = 25MPA, TRAÇO 1:2,3:2,7 (EM MASSA SECA DE CIMENTO/ AREIA MÉDIA/ BRITA 1) - PREPARO MECÂNICO COM BETONEIRA 600 L. AF_05/2021 | C29: =ORÇAMENTO!E22 -> m³ | E29: =ORÇAMENTO!G22*26.63%+ORÇAMENTO!G22 -> 447.37113 | F29: =ORÇAMENTO!F22 -> 5.8 | G29: =MEM_04!L36 -> 0.36 | H29: =G29+[1]BM_03!H29 -> 4.8 | I29: =ROUND(E29*F29,2) -> 2594.75 | J29: =ROUND(E29*G29,2) -> 161.05 | K29: =ROUND(E29*H29,2) -> 2147.38 | L29: =H29/F29 -> 0.82758621
A30: =ORÇAMENTO!A23 -> 2.5 | B30: =ORÇAMENTO!D23 -> CONCRETO FCK = 30MPA, TRAÇO 1:2,1:2,5 (EM MASSA SECA DE CIMENTO/ AREIA MÉDIA/ BRITA 1) - PREPARO MECÂNICO COM BETONEIRA 600 L. AF_05/2021 | C30: =ORÇAMENTO!E23 -> m³ | E30: =ORÇAMENTO!G23*26.63%+ORÇAMENTO!G23 -> 461.9589 | F30: =ORÇAMENTO!F23 -> 30.1 | G30: =MEM_04!L265 -> 8.66 | H30: =G30+[1]BM_03!H30 -> 14.76 | I30: =ROUND(E30*F30,2) -> 13904.96 | J30: =ROUND(E30*G30,2) -> 4000.56 | K30: =ROUND(E30*H30,2) -> 6818.51 | L30: =H30/F30 -> 0.49036545
A31: =ORÇAMENTO!A24 -> 2.6 | B31: =ORÇAMENTO!D24 -> LANÇAMENTO COM USO DE BALDES, ADENSAMENTO E ACABAMENTO DE CONCRETO EM ESTRUTURAS. AF_12/2015 | C31: =ORÇAMENTO!E24 -> m³ | E31: =ORÇAMENTO!G24*26.63%+ORÇAMENTO!G24 -> 242.28118 | F31: =ORÇAMENTO!F24 -> 35.9 | G31: =MEM_04!L333 -> 8.75 | H31: =G31+[1]BM_03!H31 -> 20.25 | I31: =ROUND(E31*F31,2) -> 8697.89 | J31: =ROUND(E31*G31,2) -> 2119.96 | K31: =ROUND(E31*H31,2) -> 4906.19 | L31: =H31/F31 -> 0.56406685
A32: =ORÇAMENTO!A25 -> 2.7 | B32: =ORÇAMENTO!D25 -> Forma plana para fundações, em tábua de pinho, 07 usos. | C32: =ORÇAMENTO!E25 -> m² | E32: =ORÇAMENTO!G25*26.63%+ORÇAMENTO!G25 -> 82.765368 | F32: =ORÇAMENTO!F25 -> 19.3 | G32: =MEM_04!L190 -> 0 | H32: =G32+[1]BM_03!H32 -> 19.3 | I32: =ROUND(E32*F32,2) -> 1597.37 | J32: =ROUND(E32*G32,2) -> 0 | K32: =ROUND(E32*H32,2) -> 1597.37 | L32: =H32/F32 -> 1
A33: =ORÇAMENTO!A26 -> 2.8 | B33: =ORÇAMENTO!D26 -> Forma plana para estruturas, em compensado plastificado de 12mm, 07 usos. | C33: =ORÇAMENTO!E26 -> m² | E33: =ORÇAMENTO!G26*26.63%+ORÇAMENTO!G26 -> 69.874434 | F33: =ORÇAMENTO!F26 -> 421.3 | G33: =MEM_04!L198 -> 157.947 | H33: =G33+[1]BM_03!H33 -> 239.687 | I33: =ROUND(E33*F33,2) -> 29438.1 | J33: =ROUND(E33*G33,2) -> 11036.46 | K33: =ROUND(E33*H33,2) -> 16747.99 | L33: =H33/F33 -> 0.56892238
A34: =ORÇAMENTO!A27 -> 2.9 | B34: =ORÇAMENTO!D27 -> ARMAÇÃO DE PILAR OU VIGA DE UMA ESTRUTURA CONVENCIONAL DE CONCRETO ARMADO EM UM EDIFÍCIO DE MÚLTIPLOS PAVIMENTOS UTILIZANDO AÇO CA-50 DE 12,5 MM - MONTAGEM. AF_12/2015 | C34: =ORÇAMENTO!E27 -> kg | E34: =ORÇAMENTO!G27*26.63%+ORÇAMENTO!G27 -> 13.068216 | F34: =ORÇAMENTO!F27 -> 480.3 | G34: =MEM_04!L179 -> 196.12 | H34: =G34+[1]BM_03!H34 -> 416.92 | I34: =ROUND(E34*F34,2) -> 6276.66 | J34: =ROUND(E34*G34,2) -> 2562.94 | K34: =ROUND(E34*H34,2) -> 5448.4 | L34: =H34/F34 -> 0.86804081
A35: =ORÇAMENTO!A28 -> 2.10 | B35: =ORÇAMENTO!D28 -> ARMAÇÃO DE PILAR OU VIGA DE UMA ESTRUTURA CONVENCIONAL DE CONCRETO ARMADO EM UM EDIFÍCIO DE MÚLTIPLOS PAVIMENTOS UTILIZANDO AÇO CA-50 DE 10,0 MM - MONTAGEM. AF_12/2015 | C35: =ORÇAMENTO!E28 -> kg | E35: =ORÇAMENTO!G28*26.63%+ORÇAMENTO!G28 -> 15.309567 | F35: =ORÇAMENTO!F28 -> 1608.2 | G35: =MEM_04!L109 -> 554.43 | H35: =G35+[1]BM_03!H35 -> 1136.98 | I35: =ROUND(E35*F35,2) -> 24620.85 | J35: =ROUND(E35*G35,2) -> 8488.08 | K35: =ROUND(E35*H35,2) -> 17406.67 | L35: =H35/F35 -> 0.70698918
A36: =ORÇAMENTO!A29 -> 2.11 | B36: =ORÇAMENTO!D29 -> ARMAÇÃO DE PILAR OU VIGA DE UMA ESTRUTURA CONVENCIONAL DE CONCRETO ARMADO EM UM EDIFÍCIO DE MÚLTIPLOS PAVIMENTOS UTILIZANDO AÇO CA-50 DE 16,0 MM - MONTAGEM. AF_12/2015 | C36: =ORÇAMENTO!E29 -> kg | E36: =ORÇAMENTO!G29*26.63%+ORÇAMENTO!G29 -> 12.625011 | F36: =ORÇAMENTO!F29 -> 63.1 | H36: =G36+[1]BM_03!H36 -> 0 | I36: =ROUND(E36*F36,2) -> 796.64 | J36: =ROUND(E36*G36,2) -> 0 | K36: =ROUND(E36*H36,2) -> 0 | L36: =H36/F36 -> 0
A37: =ORÇAMENTO!A30 -> 2.12 | B37: =ORÇAMENTO!D30 -> ARMAÇÃO DE PILAR OU VIGA DE UMA ESTRUTURA CONVENCIONAL DE CONCRETO ARMADO EM UM EDIFÍCIO DE MÚLTIPLOS PAVIMENTOS UTILIZANDO AÇO CA-60 DE 5,0 MM - MONTAGEM. AF_12/2015 | C37: =ORÇAMENTO!E30 -> kg | E37: =ORÇAMENTO!G30*26.63%+ORÇAMENTO!G30 -> 17.715537 | F37: =ORÇAMENTO!F30 -> 651.9 | G37: =MEM_04!L42 -> 216.27 | H37: =G37+[1]BM_03!H37 -> 317.93 | I37: =ROUND(E37*F37,2) -> 11548.76 | J37: =ROUND(E37*G37,2) -> 3831.34 | K37: =ROUND(E37*H37,2) -> 5632.3 | L37: =H37/F37 -> 0.4876975
A38: =ORÇAMENTO!A31 -> 2.13 | B38: =ORÇAMENTO!D31 -> REATERRO MANUAL APILOADO COM SOQUETE. AF_10/2017 | C38: =ORÇAMENTO!E31 -> m³ | E38: =ORÇAMENTO!G31*26.63%+ORÇAMENTO!G31 -> 42.775614 | F38: =ORÇAMENTO!F31 -> 24.3 | G38: =MEM_04!L401 -> 2.085 | H38: =G38+[1]BM_03!H38 -> 21.6826 | I38: =ROUND(E38*F38,2) -> 1039.45 | J38: =ROUND(E38*G38,2) -> 89.19 | K38: =ROUND(E38*H38,2) -> 927.49 | L38: =H38/F38 -> 0.89228807
A39: =ORÇAMENTO!A32 -> 2.14 | B39: =ORÇAMENTO!D32 -> VERGA PRÉ-MOLDADA PARA PORTAS COM ATÉ 1,5 M DE VÃO. AF_03/2016 | C39: =ORÇAMENTO!E32 -> m | E39: =ORÇAMENTO!G32*26.63%+ORÇAMENTO!G32 -> 37.786392 | F39: =ORÇAMENTO!F32 -> 58.14 | G39: =MEM_04!L407 -> 9 | H39: =G39+[1]BM_03!H39 -> 9 | I39: =ROUND(E39*F39,2) -> 2196.9 | J39: =ROUND(E39*G39,2) -> 340.08 | K39: =ROUND(E39*H39,2) -> 340.08 | L39: =H39/F39 -> 0.15479876
A40: =ORÇAMENTO!A33 -> 2.15 | B40: =ORÇAMENTO!D33 -> VERGA PRÉ-MOLDADA PARA JANELAS COM ATÉ 1,5 M DE VÃO. AF_03/2016 | C40: =ORÇAMENTO!E33 -> m | E40: =ORÇAMENTO!G33*26.63%+ORÇAMENTO!G33 -> 52.184223 | F40: =ORÇAMENTO!F33 -> 16.9 | G40: =MEM_04!L420 -> 3.85 | H40: =G40+[1]BM_03!H40 -> 3.85 | I40: =ROUND(E40*F40,2) -> 881.91 | J40: =ROUND(E40*G40,2) -> 200.91 | K40: =ROUND(E40*H40,2) -> 200.91 | L40: =H40/F40 -> 0.22781065
A41: =ORÇAMENTO!A34 -> 2.16 | B41: =ORÇAMENTO!D34 -> CONTRAVERGA PRÉ-MOLDADA PARA VÃOS DE ATÉ 1,5 M DE COMPRIMENTO. AF_03/2016 | C41: =ORÇAMENTO!E34 -> m | E41: =ORÇAMENTO!G34*26.63%+ORÇAMENTO!G34 -> 50.322762 | F41: =ORÇAMENTO!F34 -> 16.9 | G41: =MEM_04!L425 -> 3.85 | H41: =G41+[1]BM_03!H41 -> 3.85 | I41: =ROUND(E41*F41,2) -> 850.45 | J41: =ROUND(E41*G41,2) -> 193.74 | K41: =ROUND(E41*H41,2) -> 193.74 | L41: =H41/F41 -> 0.22781065
H42: =G42+[1]BM_03!H42 -> 0
A43: =ORÇAMENTO!A36 -> 3 | B43: ALVENARIA E VEDAÇÕES | H43: =G43+[1]BM_03!H43 -> 0
A44: =ORÇAMENTO!A37 -> 3.1 | B44: =ORÇAMENTO!D37 -> ALVENARIA DE VEDAÇÃO DE BLOCOS CERÂMICOS FURADOS NA VERTICAL DE 19X19X39 CM (ESPESSURA 19 CM) E ARGAMASSA DE ASSENTAMENTO COM PREPARO EM BETONEIRA. AF_12/2021 | C44: =ORÇAMENTO!E37 -> m² | E44: =ORÇAMENTO!G37*26.63%+ORÇAMENTO!G37 -> 78.459948 | F44: =ORÇAMENTO!F37 -> 209.45 | H44: =G44+[1]BM_03!H44 -> 0 | I44: =ROUND(E44*F44,2) -> 16433.44 | J44: =ROUND(E44*G44,2) -> 0 | K44: =ROUND(E44*H44,2) -> 0 | L44: =H44/F44 -> 0
A45: =ORÇAMENTO!A38 -> 3.2 | B45: =ORÇAMENTO!D38 -> Divisória em granito cinza andorinha polido, e=2cm, inclusive com montagem em ferragem - Rev 02. | C45: =ORÇAMENTO!E38 -> m² | E45: =ORÇAMENTO!G38*26.63%+ORÇAMENTO!G38 -> 712.59766 | F45: =ORÇAMENTO!F38 -> 53.89 | H45: =G45+[1]BM_03!H45 -> 0 | I45: =ROUND(E45*F45,2) -> 38401.89 | J45: =ROUND(E45*G45,2) -> 0 | K45: =ROUND(E45*H45,2) -> 0 | L45: =H45/F45 -> 0
H46: =G46+[1]BM_03!H46 -> 0
...

Sheet MEM_04
C1: MEMÓRIA DE CÁLCULO - QUANTIDADES
C2: Obra: | H2: Proprietário:
C3: CENTRO DE ONCOLOGIA DE SOUSA | H3: Prefeitura Municipal de Sousa
C4: Local: | H4: Responsável Técnico:
C5: RUA LUIZ PEREIRA DA SILVA, S/N, CENTRO, SOUSA-PB
A7: Item | B7: Descrição | D7: Vez | E7: Dados | K7: Resultado | M7: Un.
E8: X1 | F8: X2 | G8: Y1 | H8: Y2 | I8: Z1 | J8: Z2 | K8: Parcial | L8: Total
B10: SERVIÇOS PRELIMINARES
A12: 1.2 | B12: =BM_04!B20 -> DEMOLIÇÃO DE ALVENARIA DE BLOCOFURADO, DE FORMA MANUAL, SEM REAPROVEITAMENTO
L13: =SUM(L14) -> 3.0625
B14: RECEPÇÃO | D14: 1 | E14: 3.5 | G14: 2.5 | I14: 0.35 | K14: =E14*G14*I14 -> 3.0625 | L14: =K14*D14 -> 3.0625
A16: 1.3 | B16: =BM_04!B21 -> Demolição de piso de alta resistência | M16: M2
L17: =SUM(L18:L23) -> 202.28
B18: PEQUENOS PROCEDIMENTO | D18: 1 | E18: 5.2 | G18: 5.6 | K18: =E18*G18 -> 29.12 | L18: =K18*D18 -> 29.12
B19: SALA DE COLETA | D19: 1 | E19: 5.2 | G19: 5.6 | K19: =E19*G19 -> 29.12 | L19: =K19*D19 -> 29.12
B20: SALA DE OBSERVAÇÃO | D20: 1 | E20: 5.2 | G20: 5.6 | K20: =E20*G20 -> 29.12 | L20: =K20*D20 -> 29.12
B21: SALA DE OBSERVAÇÃO | D21: 1 | E21: 5.2 | G21: 5.6 | K21: =E21*G21 -> 29.12 | L21: =K21*D21 -> 29.12
B22: CIRCULAÇÃO | D22: 1 | E22: 2 | G22: 22.9 | K22: =E22*G22 -> 45.8 | L22: =K22*D22 -> 45.8
B23: CIRCULAÇÃO | D23: 1 | E23: 2 | G23: 20 | K23: =E23*G23 -> 40 | L23: =K23*D23 -> 40
B25: =BM_04!B25 -> INFRA ESTRUTURA E SUPERESTRUTURA
A27: 2.3 | B27: =BM_04!B28 -> LASTRO DE CONCRETO MAGRO, APLICADO EM BLOCOS DE COROAMENTO OU SAPATAS, ESPESSURA DE 5 CM. AF_08/2017 | L27: M²
A28: DEDUÇÃO PARA NÃO ULTRAPASSAR O CONTRATO | K28: =19.24-21.16 -> -1.92
L29: =K28+L30 -> -1.7763568e-15
L30: =SUM(L31:L33) -> 1.92
B31: S52 | D31: 1 | E31: 0.8 | G31: 0.8 | K31: =ROUND(E31*G31,2) -> 0.64 | L31: =K31*D31 -> 0.64
B32: S53 | D32: 1 | E32: 0.8 | G32: 0.8 | K32: =ROUND(E32*G32,2) -> 0.64 | L32: =K32*D32 -> 0.64
B33: S54 | D33: 1 | E33: 0.8 | G33: 0.8 | K33: =ROUND(E33*G33,2) -> 0.64 | L33: =K33*D33 -> 0.64
A35: 2.4 | B35: =BM_04!B29 -> CONCRETO FCK = 25MPA, TRAÇO 1:2,3:2,7 (EM MASSA SECA DE CIMENTO/ AREIA MÉDIA/ BRITA 1) - PREPARO MECÂNICO COM BETONEIRA 600 L. AF_05/2021 | L35: M³
B36: SAPATAS | L36: =SUM(L37:L39) -> 0.36
B37: S52 | D37: 1 | E37: 0.7 | G37: 0.7 | I37: 0.25 | K37: =ROUND(E37*G37*I37,2) -> 0.12 | L37: =K37*D37 -> 0.12
B38: S53 | D38: 1 | E38: 0.7 | G38: 0.7 | I38: 0.25 | K38: =ROUND(E38*G38*I38,2) -> 0.12 | L38: =K38*D38 -> 0.12
B39: S54 | D39: 1 | E39: 0.7 | G39: 0.7 | I39: 0.25 | K39: =ROUND(E39*G39*I39,2) -> 0.12 | L39: =K39*D39 -> 0.12
A41: 2.12 | B41: =BM_04!B37 -> ARMAÇÃO DE PILAR OU VIGA DE UMA ESTRUTURA CONVENCIONAL DE CONCRETO ARMADO EM UM EDIFÍCIO DE MÚLTIPLOS PAVIMENTOS UTILIZANDO AÇO CA-60 DE 5,0 MM - MONTAGEM. AF_12/2015
E42: PILAR | F42: TOCO | L42: =SUM(L43:L106) -> 216.27
A43: 1 | B43: P1 | D43: 1 | E43: 2.6 | G43: =0.15+0.15+0.35+0.35+0.05 -> 1.05 | K43: =ROUND((E43+F43)/0.15,2)*G43 -> 18.1965 | L43: =ROUND(K43*0.154,2) -> 2.8 | N43: P53 | P43: 1
A44: 2 | B44: P2 | D44: 1 | E44: 2.6 | G44: =0.15+0.15+0.35+0.35+0.05 -> 1.05 | K44: =ROUND((E44+F44)/0.15,2)*G44 -> 18.1965 | L44: =ROUND(K44*0.154,2) -> 2.8 | N44: P54 | P44: 1
A45: 4 | B45: P4 | D45: 1 | E45: 2.6 | G45: =0.25+0.25+0.07+0.07+0.05 -> 0.69 | K45: =ROUND((E45+F45)/0.15,2)*G45 -> 11.9577 | L45: =ROUND(K45*0.154,2) -> 1.84 | N45: P56 | P45: 1
A46: 5 | B46: P5 | D46: 1 | E46: 2.6 | G46: =0.25+0.25+0.07+0.07+0.05 -> 0.69 | K46: =ROUND((E46+F46)/0.15,2)*G46 -> 11.9577 | L46: =ROUND(K46*0.154,2) -> 1.84 | N46: P57 | P46: 1
A47: 6 | B47: P8 | D47: 1 | E47: 2.6 | G47: =0.25+0.25+0.07+0.07+0.05 -> 0.69 | K47: =ROUND((E47+F47)/0.15,2)*G47 -> 11.9577 | L47: =ROUND(K47*0.154,2) -> 1.84 | N47: P58 | P47: 1
A48: 7 | B48: P9 | D48: 1 | E48: 2.6 | G48: =0.25+0.25+0.15+0.15+0.05 -> 0.85 | K48: =ROUND((E48+F48)/0.15,2)*G48 -> 14.7305 | L48: =ROUND(K48*0.154,2) -> 2.27 | N48: P59 | P48: 1
...

Sheet RELATÓRIO FOTOGRAFICO
C1: RELATÓRIO FOTOGRÁFICO
C2: Obra: | H2: Proprietário:
C3: CENTRO DE ONCOLOGIA DE SOUSA | H3: Prefeitura Municipal de Sousa
C4: Local: | H4: Responsável Técnico:
C5: RUA LUIZ PEREIRA DA SILVA, S/N, CENTRO, SOUSA-PB
