Workbook

Sheet ORÇAMENTO
A2: PREFEITURA MUNICIPAL DE SOUSA
A3: PLANILHA ORÇAMENTÁRIA SINTÉTICA
A4: OBRA : CENTRO DE ONCOLOGIA DE SOUSA
A5: ENDEREÇO: RUA LUIZ PEREIRA DA SILVA, S/N, CENTRO, SOUSA-PB
A6: REFERÊNCIA: ORSE, SEINFRA-CE E SINAPI-PB(FEVEREIRO/2022) C/DESONERAÇÃO - ENCARGOS SOCIAIS : 86,59% (HORA) - 48,16 % (MÊS) | H6: BDI = 26,63%
A7: Empresa: COMPACTO CONSTRUÇÕES E SERVIÇOS - EIRELE - CNPJ: 09.545.520/0001-54 - Telefone: (83) 9 9117-7810 - Email: compactoconstrucoes1@gmail.com
A8: Responsável Técnico: LÚCIO LAURO BARBOSA - CREA/PB Nº 160.594.868-3
A9: ITEM | B9: FONTE | C9: CÓDIGO | D9: DISCRIMINAÇÃO DO SERVIÇOS | E9: UNID. | F9: QUANT. | G9: VALOR UNIT. (R$) | H9: VALOR TOTAL (R$)
A11: 1 | B11: SERVIÇOS PRELIMINARES | H11: =SUM(H12:H16) -> 18776.64 | J11: 0.965
A12: 1.1 | B12: ORSE | C12: 51 | D12: Placa de Obra em chapa de aço galvanizado, instalada - Rev 02 01/2022 | E12: m² | F12: 4.5 | G12: =L12 -> 334.14 | H12: =ROUND(F12*G12,2) -> 1503.63 | K12: 346.26 | L12: =ROUND(K12*$J$11,2) -> 334.14
A13: 1.2 | B13: SINAPI | C13: 97622 | D13: DEMOLIÇÃO DE ALVENARIA DE BLOCOFURADO, DE FORMA MANUAL, SEM REAPROVEITAMENTO | E13: m³ | F13: 63.41 | G13: =L13 -> 36.7 | H13: =ROUND(F13*G13,2) -> 2327.15 | K13: 38.03 | L13: =ROUND(K13*$J$11,2) -> 36.7
A14: 1.3 | B14: ORSE | C14: 3240 | D14: Demolição de piso de alta resistência | E14: m² | F14: 774.83 | G14: =L14 -> 16.44 | H14: =ROUND(F14*G14,2) -> 12738.21 | K14: 17.04 | L14: =ROUND(K14*$J$11,2) -> 16.44
A15: 1.4 | B15: SINAPI | C15: 97650 | D15: REMOÇÃO DE TRAMA DE MADEIRA PARA COBERTURA, DE FORMA MANUAL, SEM REAPROVEITAMENTO. AF 12/2017 | E15: m² | F15: 309.93 | G15: =L15 -> 4.75 | H15: =ROUND(F15*G15,2) -> 1472.17 | K15: 4.92 | L15: =ROUND(K15*$J$11,2) -> 4.75
A16: 1.5 | B16: SINAPI | C16: 100981 | D16: CARGA, MANOBRA E DESCARGA DE ENTULHO EM CAMINHÃO BASCULANTE 6 M³ - CARGA COM ESCAVADEIRA HIDRÁULICA (CAÇAMBA DE 0,80 M³/111 HP) E DESCARGA LIVRE (UNIDADE: M³). AF 07/2020 | E16: m³ | F16: 102.15 | G16: =L16 -> 7.2 | H16: =ROUND(F16*G16,2) -> 735.48 | K16: 7.46 | L16: =ROUND(K16*$J$11,2) -> 7.2
L17: =ROUND(K17*$J$11,2) -> 0
A18: 2 | B18: INFRA ESTRUTURA E SUPERESTRUTURA | H18: =SUM(H19:H34) -> 92960.22 | L18: =ROUND(K18*$J$11,2) -> 0
A19: 2.1 | B19: SINAPI | C19: 96523 | D19: ESCAVAÇÃO MANUAL PARA BLOCO DE COROAMENTO OU SAPATA (INCLUINDO ESCAVAÇÃO PARA COLOCAÇÃO DE FÔRMAS). AF_06/2017 | E19: m³ | F19: 28.86 | G19: =L19 -> 63.86 | H19: =ROUND(F19*G19,2) -> 1843 | K19: 66.18 | L19: =ROUND(K19*$J$11,2) -> 63.86
A20: 2.2 | B20: SINAPI | C20: 101964 | D20: LAJE PRÉ-MOLDADA UNIDIRECIONAL, BIAPOIADA, PARA FORRO, ENCHIMENTO EM CERÂMICA, VIGOTA CONVENCIONAL, ALTURA TOTAL DA LAJE (ENCHIMENTO+CAPA) = (8+3). AF_11/2020 | E20: m² | F20: 57.88 | G20: =L20 -> 141.66 | H20: =ROUND(F20*G20,2) -> 8199.28 | K20: 146.8 | L20: =ROUND(K20*$J$11,2) -> 141.66
A21: 2.3 | B21: SINAPI | C21: 96619 | D21: LASTRO DE CONCRETO MAGRO, APLICADO EM BLOCOS DE COROAMENTO OU SAPATAS, ESPESSURA DE 5 CM. AF_08/2017 | E21: m² | F21: 19.24 | G21: =L21 -> 22.75 | H21: =ROUND(F21*G21,2) -> 437.71 | K21: 23.57 | L21: =ROUND(K21*$J$11,2) -> 22.75
A22: 2.4 | B22: SINAPI | C22: 94971 | D22: CONCRETO FCK = 25MPA, TRAÇO 1:2,3:2,7 (EM MASSA SECA DE CIMENTO/ AREIA MÉDIA/ BRITA 1) - PREPARO MECÂNICO COM BETONEIRA 600 L. AF_05/2021 | E22: m³ | F22: 5.8 | G22: =L22 -> 353.29 | H22: =ROUND(F22*G22,2) -> 2049.08 | K22: 366.1 | L22: =ROUND(K22*$J$11,2) -> 353.29
A23: 2.5 | B23: SINAPI | C23: 94972 | D23: CONCRETO FCK = 30MPA, TRAÇO 1:2,1:2,5 (EM MASSA SECA DE CIMENTO/ AREIA MÉDIA/ BRITA 1) - PREPARO MECÂNICO COM BETONEIRA 600 L. AF_05/2021 | E23: m³ | F23: 30.1 | G23: =L23 -> 364.81 | H23: =ROUND(F23*G23,2) -> 10980.78 | K23: 378.04 | L23: =ROUND(K23*$J$11,2) -> 364.81
A24: 2.6 | B24: SINAPI | C24: 92873 | D24: LANÇAMENTO COM USO DE BALDES, ADENSAMENTO E ACABAMENTO DE CONCRETO EM ESTRUTURAS. AF_12/2015 | E24: m³ | F24: 35.9 | G24: =L24 -> 191.33 | H24: =ROUND(F24*G24,2) -> 6868.75 | K24: 198.27 | L24: =ROUND(K24*$J$11,2) -> 191.33
A25: 2.7 | B25: ORSE | C25: 90 | D25: Forma plana para fundações, em tábua de pinho, 07 usos. | E25: m² | F25: 19.3 | G25: =L25 -> 65.36 | H25: =ROUND(F25*G25,2) -> 1261.45 | K25: 67.73 | L25: =ROUND(K25*$J$11,2) -> 65.36
A26: 2.8 | B26: ORSE | C26: 3366 | D26: Forma plana para estruturas, em compensado plastificado de 12mm, 07 usos. | E26: m² | F26: 421.3 | G26: =L26 -> 55.18 | H26: =ROUND(F26*G26,2) -> 23247.33 | K26: 57.18 | L26: =ROUND(K26*$J$11,2) -> 55.18
A27: 2.9 | B27: SINAPI | C27: 92763 | D27: ARMAÇÃO DE PILAR OU VIGA DE UMA ESTRUTURA CONVENCIONAL DE CONCRETO ARMADO EM UM EDIFÍCIO DE MÚLTIPLOS PAVIMENTOS UTILIZANDO AÇO CA-50 DE 12,5 MM - MONTAGEM. AF_12/2015 | E27: kg | F27: 480.3 | G27: =L27 -> 10.32 | H27: =ROUND(F27*G27,2) -> 4956.7 | K27: 10.69 | L27: =ROUND(K27*$J$11,2) -> 10.32
A28: 2.10 | B28: SINAPI | C28: 92762 | D28: ARMAÇÃO DE PILAR OU VIGA DE UMA ESTRUTURA CONVENCIONAL DE CONCRETO ARMADO EM UM EDIFÍCIO DE MÚLTIPLOS PAVIMENTOS UTILIZANDO AÇO CA-50 DE 10,0 MM - MONTAGEM. AF_12/2015 | E28: kg | F28: 1608.2 | G28: =L28 -> 12.09 | H28: =ROUND(F28*G28,2) -> 19443.14 | K28: 12.53 | L28: =ROUND(K28*$J$11,2) -> 12.09
A29: 2.11 | B29: SINAPI | C29: 92764 | D29: ARMAÇÃO DE PILAR OU VIGA DE UMA ESTRUTURA CONVENCIONAL DE CONCRETO ARMADO EM UM EDIFÍCIO DE MÚLTIPLOS PAVIMENTOS UTILIZANDO AÇO CA-50 DE 16,0 MM - MONTAGEM. AF_12/2015 | E29: kg | F29: 63.1 | G29: =L29 -> 9.97 | H29: =ROUND(F29*G29,2) -> 629.11 | K29: 10.33 | L29: =ROUND(K29*$J$11,2) -> 9.97
A30: 2.12 | B30: SINAPI | C30: 92759 | D30: ARMAÇÃO DE PILAR OU VIGA DE UMA ESTRUTURA CONVENCIONAL DE CONCRETO ARMADO EM UM EDIFÍCIO DE MÚLTIPLOS PAVIMENTOS UTILIZANDO AÇO CA-60 DE 5,0 MM - MONTAGEM. AF_12/2015 | E30: kg | F30: 651.9 | G30: =L30 -> 13.99 | H30: =ROUND(F30*G30,2) -> 9120.08 | K30: 14.5 | L30: =ROUND(K30*$J$11,2) -> 13.99
... A34: 2.16 | B34: SINAPI | C34: 93194 | D34: CONTRAVERGA PRÉ-MOLDADA PARA VÃOS DE ATÉ 1,5 M DE COMPRIMENTO. AF_03/2016 | E34: m | F34: 16.9 | G34: =L34 -> 39.74 | H34: =ROUND(F34*G34,2) -> 671.61 | K34: 41.18 | L34: =ROUND(K34*$J$11,2) -> 39.74
L35: =ROUND(K35*$J$11,2) -> 0
A36: 3 | B36: ALVENARIA E VEDAÇÕES | H36: =SUM(H37:H38) -> 43303.58 | L36: =ROUND(K36*$J$11,2) -> 0
A37: 3.1 | B37: SINAPI | C37: 103326 | D37: ALVENARIA DE VEDAÇÃO DE BLOCOS CERÂMICOS FURADOS NA VERTICAL DE 19X19X39 CM (ESPESSURA 19 CM) E ARGAMASSA DE ASSENTAMENTO COM PREPARO EM BETONEIRA. AF_12/2021 | E37: m² | F37: 209.45 | G37: =L37 -> 61.96 | H37: =ROUND(F37*G37,2) -> 12977.52 | K37: 64.21 | L37: =ROUND(K37*$J$11,2) -> 61.96
A38: 3.2 | B38: ORSE | C38: 191 | D38: Divisória em granito cinza andorinha polido, e=2cm, inclusive com montagem em ferragem - Rev 02. | E38: m² | F38: 53.89 | G38: =L38 -> 562.74 | H38: =ROUND(F38*G38,2) -> 30326.06 | K38: 583.15 | L38: =ROUND(K38*$J$11,2) -> 562.74
L39: =ROUND(K39*$J$11,2) -> 0
A40: 4 | B40: IMPERMEABILIZAÇÕES | H40: =SUM(H41:H42) -> 6503.26 | L40: =ROUND(K40*$J$11,2) -> 0
A41: 4.1 | B41: SINAPI | C41: 98557 | D41: IMPERMEABILIZAÇÃO DE SUPERFÍCIE COM EMULSÃO ASFÁLTICA, 2 DEMÃOS AF_06/2018 | E41: m² | F41: 25.12 | G41: =L41 -> 38.52 | H41: =ROUND(F41*G41,2) -> 967.62 | K41: 39.92 | L41: =ROUND(K41*$J$11,2) -> 38.52
A42: 4.2 | B42: SINAPI | C42: 98546 | D42: IMPERMEABILIZAÇÃO DE SUPERFÍCIE COM MANTA ASFÁLTICA, UMA CAMADA, INCLUSIVE APLICAÇÃO DE PRIMER ASFÁLTICO, E=3MM. AF_06/2018 | E42: m² | F42: 57.88 | G42: =L42 -> 95.64 | H42: =ROUND(F42*G42,2) -> 5535.64 | K42: 99.11 | L42: =ROUND(K42*$J$11,2) -> 95.64
L43: =ROUND(K43*$J$11,2) -> 0
A44: 5 | B44: COBERTURAS E PROTEÇÕES | H44: =SUM(H45:H47) -> 51264.13 | L44: =ROUND(K44*$J$11,2) -> 0
A45: 5.1 | B45: SINAPI | C45: 92539 | D45: TRAMA DE MADEIRA COMPOSTA POR RIPAS, CAIBROS E TERÇAS PARA TELHADOS DE ATÉ 2 ÁGUAS PARA TELHA DE ENCAIXE DE CERÂMICA OU DE CONCRETO, INCLUSO TRANSPORTE VERTICAL. AF_07/2019 | E45: m² | F45: 309.93 | G45: =L45 -> 60.47 | H45: =ROUND(F45*G45,2) -> 18741.47 | K45: 62.66 | L45: =ROUND(K45*$J$11,2) -> 60.47
A46: 5.2 | B46: SINAPI | C46: 94201 | D46: TELHAMENTO COM TELHA CERÂMICA CAPA-CANAL, TIPO COLONIAL, COM ATÉ 2 ÁGUAS, INCLUSO TRANSPORTE VERTICAL. AF_07/2019 | E46: m² | F46: 309.93 | G46: =L46 -> 29.61 | H46: =ROUND(F46*G46,2) -> 9177.03 | K46: 30.68 | L46: =ROUND(K46*$J$11,2) -> 29.61
A47: 5.3 | B47: SINAPI | C47: 96113 | D47: FORRO EM PLACAS DE GESSO, PARA AMBIENTES COMERCIAIS. AF_05/2017_P | E47: m² | F47: 774.83 | G47: =L47 -> 30.13 | H47: =ROUND(F47*G47,2) -> 23345.63 | K47: 31.22 | L47: =ROUND(K47*$J$11,2) -> 30.13
L48: =ROUND(K48*$J$11,2) -> 0
A49: 6 | B49: ESQUADRIAS | H49: =H50+H62+H66 -> 90991.08 | L49: =ROUND(K49*$J$11,2) -> 0
A50: 6.1 | B50: METÁLICA, ALUMÍNIO C/ VIDRO E MADEIRA | H50: =SUM(H51:H60) -> 66276.94 | L50: =ROUND(K50*$J$11,2) -> 0
A51: 6.1.1 | B51: SINAPI | C51: 94570 | D51: JANELA DE ALUMÍNIO DE CORRER COM 2 FOLHAS PARA VIDROS, COM VIDROS, BATENTE, ACABAMENTO COM ACETATO OU BRILHANTE E FERRAGENS. EXCLUSIVE ALIZAR E CONTRAMARCO. FORNECIMENTO E INSTALAÇÃO. AF_12/2019 | E51: m² | F51: 16.56 | G51: =L51 -> 609.28 | H51: =ROUND(F51*G51,2) -> 10089.68 | K51: 631.38 | L51: =ROUND(K51*$J$11,2) -> 609.28
A52: 6.1.2 | B52: SINAPI | C52: 94569 | D52: JANELA DE ALUMÍNIO TIPO MAXIM-AR, COM VIDROS, BATENTE E FERRAGENS. EXCLUSIVE ALIZAR, ACABAMENTO E CONTRAMARCO. FORNECIMENTO E INSTALAÇÃO. AF_12/2019 | E52: m² | F52: 2.5 | G52: =L52 -> 1144.23 | H52: =ROUND(F52*G52,2) -> 2860.58 | K52: 1185.73 | L52: =ROUND(K52*$J$11,2) -> 1144.23
A53: 6.1.3 | B53: SINAPI | C53: 91341 | D53: PORTA EM ALUMÍNIO DE ABRIR TIPO VENEZIANA COM GUARNIÇÃO, FIXAÇÃO COM PARAFUSOS - FORNECIMENTO E INSTALAÇÃO. AF_12/2019 | E53: m² | F53: 7.92 | G53: =L53 -> 765.63 | H53: =ROUND(F53*G53,2) -> 6063.79 | K53: 793.4 | L53: =ROUND(K53*$J$11,2) -> 765.63
A54: 6.1.4 | B54: SINAPI | C54: 100701 | D54: PORTA DE FERRO, DE ABRIR, TIPO GRADE COM CHAPA, COM GUARNIÇÕES. AF_12/2019 | E54: m² | F54: 5.31 | G54: =L54 -> 571.84 | H54: =ROUND(F54*G54,2) -> 3036.47 | K54: 592.58 | L54: =ROUND(K54*$J$11,2) -> 571.84
A55: 6.1.5 | B55: ORSE | C55: 12036 | D55: Portão em ferro, em tubo de aço galvanizado 2" e tela ondulada, malha 3/8". | E55: m² | F55: 6.62 | G55: =L55 -> 743.01 | H55: =ROUND(F55*G55,2) -> 4918.73 | K55: 769.96 | L55: =ROUND(K55*$J$11,2) -> 743.01
A56: 6.1.6 | B56: SINAPI | C56: 90841 | D56: KIT DE PORTA DE MADEIRA PARA PINTURA, SEMI-OCA (LEVE OU MÉDIA), PADRÃO MÉDIO, 60X210CM, ESPESSURA DE 3,5CM, ITENS INCLUSOS: DOBRADIÇAS, MONTAGEM E INSTALAÇÃO DO BATENTE, FECHADURA COM EXECUÇÃO DO FURO - FORNECIMENTO E INSTALAÇÃO. AF_12/2019 | E56: unid | F56: 8 | G56: =L56 -> 800.72 | H56: =ROUND(F56*G56,2) -> 6405.76 | K56: 829.76 | L56: =ROUND(K56*$J$11,2) -> 800.72
A57: 6.1.7 | B57: SINAPI | C57: 90842 | D57: KIT DE PORTA DE MADEIRA PARA PINTURA, SEMI-OCA (LEVE OU MÉDIA), PADRÃO MÉDIO, 70X210CM, ESPESSURA DE 3,5CM, ITENS INCLUSOS: DOBRADIÇAS, MONTAGEM E INSTALAÇÃO DO BATENTE, FECHADURA COM EXECUÇÃO DO FURO - FORNECIMENTO E INSTALAÇÃO. AF_12/2019 | E57: unid | F57: 3 | G57: =L57 -> 807.21 | H57: =ROUND(F57*G57,2) -> 2421.63 | K57: 836.49 | L57: =ROUND(K57*$J$11,2) -> 807.21
A58: 6.1.8 | B58: SINAPI | C58: 90843 | D58: KIT DE PORTA DE MADEIRA PARA PINTURA, SEMI-OCA (LEVE OU MÉDIA), PADRÃO MÉDIO, 80X210CM, ESPESSURA DE 3,5CM, ITENS INCLUSOS: DOBRADIÇAS, MONTAGEM E INSTALAÇÃO DO BATENTE, FECHADURA COM EXECUÇÃO DO FURO - FORNECIMENTO E INSTALAÇÃO. AF_12/2019 | E58: unid | F58: 2 | G58: =L58 -> 843.46 | H58: =ROUND(F58*G58,2) -> 1686.92 | K58: 874.05 | L58: =ROUND(K58*$J$11,2) -> 843.46
A59: 6.1.9 | B59: SINAPI | C59: 90844 | D59: KIT DE PORTA DE MADEIRA PARA PINTURA, SEMI-OCA (LEVE OU MÉDIA), PADRÃO MÉDIO, 90X210CM, ESPESSURA DE 3,5CM, ITENS INCLUSOS: DOBRADIÇAS, MONTAGEM E INSTALAÇÃO DO BATENTE, FECHADURA COM EXECUÇÃO DO FURO - FORNECIMENTO E INSTALAÇÃO. AF_12/2019 | E59: unid | F59: 22 | G59: =L59 -> 907.58 | H59: =ROUND(F59*G59,2) -> 19966.76 | K59: 940.5 | L59: =ROUND(K59*$J$11,2) -> 907.58
A60: 6.1.10 | B60: ORSE | C60: 3629 | D60: Porta em madeira compensada (canela), lisa e semi-oca, 1,00 x 2,10 m, inclusive batentes e ferragens. | E60: unid | F60: 11 | G60: =L60 -> 802.42 | H60: =ROUND(F60*G60,2) -> 8826.62 | K60: 831.52 | L60: =ROUND(K60*$J$11,2) -> 802.42
L61: =ROUND(K61*$J$11,2) -> 0
A62: 6.2 | B62: VIDRO | H62: =SUM(H63:H64) -> 23917.04 | L62: =ROUND(K62*$J$11,2) -> 0
A63: 6.2.1 | B63: ORSE | C63: 13096 | D63: Porta em vidro temperado 10mm, incolor,inclusive ferragens de fixação e instalação, exclusive puxador. | E63: m² | F63: 23.1 | G63: =L63 -> 527.82 | H63: =ROUND(F63*G63,2) -> 12192.64 | K63: 546.96 | L63: =ROUND(K63*$J$11,2) -> 527.82
A64: 6.2.2 | B64: SINAPI | C64: 100702 | D64: PORTA DE CORRER DE ALUMÍNIO, COM DUAS FOLHAS PARA VIDRO, INCLUSO VIDRO LISO INCOLOR, FECHADURA E PUXADOR, SEM ALIZAR. AF_12/2019 | E64: m² | F64: 25.08 | G64: =L64 -> 467.48 | H64: =ROUND(F64*G64,2) -> 11724.4 | K64: 484.44 | L64: =ROUND(K64*$J$11,2) -> 467.48
L65: =ROUND(K65*$J$11,2) -> 0
A66: 6.3 | B66: FERRAGENS | H66: =SUM(H67:H68) -> 797.1 | L66: =ROUND(K66*$J$11,2) -> 0
A67: 6.3.1 | B67: ORSE | C67: 9733 | D67: Puxador duplo para porta, em alumínio polido, d = 1", I = 40mm, ref. 3008, Vesfer | E67: unid | F67: 2 | G67: =L67 -> 200.85 | H67: =ROUND(F67*G67,2) -> 401.7 | K67: 208.13 | L67: =ROUND(K67*$J$11,2) -> 200.85
A68: 6.3.2 | B68: SINAPI | C68: 100705 | D68: TARJETA TIPO LIVRE/OCUPADO PARA PORTA DE BANHEIRO. AF_12/2019 | E68: unid | F68: 6 | G68: =L68 -> 65.9 | H68: =ROUND(F68*G68,2) -> 395.4 | K68: 68.29 | L68: =ROUND(K68*$J$11,2) -> 65.9
L69: =ROUND(K69*$J$11,2) -> 0
A70: 7 | B70: REVESTIMENTO | H70: =SUM(H71:H74) -> 77673.48 | L70: =ROUND(K70*$J$11,2) -> 0
A71: 7.1 | B71: SINAPI | C71: 87529 | D71: MASSA ÚNICA, PARA RECEBIMENTO DE PINTURA, EM ARGAMASSA TRAÇO 1:2:8, PREPARO MECÂNICO COM BETONEIRA 400L, APLICADA MANUALMENTE EM FACES INTERNAS DE PAREDES, ESPESSURA DE 20MM, COM EXECUÇÃO DE TALISCAS. AF_06/2014 | E71: m² | F71: 418.9 | G71: =L71 -> 24.97 | H71: =ROUND(F71*G71,2) -> 10459.93 | K71: 25.88 | L71: =ROUND(K71*$J$11,2) -> 24.97
A72: 7.2 | B72: SINAPI | C72: 87879 | D72: CHAPISCO APLICADO EM ALVENARIAS E ESTRUTURAS DE CONCRETO INTERNAS, COM COLHER DE PEDREIRO. ARGAMASSA TRAÇO 1:3 COM PREPARO EM BETONEIRA 400L. AF_06/2014 | E72: m² | F72: 418.9 | G72: 2.99 | H72: =ROUND(F72*G72,2) -> 1252.51 | K72: 2099 | L72: =ROUND(K72*$J$11,2) -> 2025.54
A73: 7.3 | B73: SINAPI | C73: 87273 | E73: m² | F73: 423.52 | G73: =L73 -> 61.37 | H73: =ROUND(F73*G73,2) -> 25991.42 | K73: 63.6 | L73: =ROUND(K73*$J$11,2) -> 61.37
A74: 7.4 | B74: ORSE | C74: 12420 | E74: m² | F74: 99.65 | G74: =L74 -> 401.1 | H74: =ROUND(F74*G74,2) -> 39969.62 | K74: 415.65 | L74: =ROUND(K74*$J$11,2) -> 401.1
L75: =ROUND(K75*$J$11,2) -> 0
A76: 8 | B76: PAVIMENTAÇÃO | H76: =SUM(H77:H80) -> 139210.14 | L76: =ROUND(K76*$J$11,2) -> 0
A77: 8.1 | B77: SINAPI | C77: 87620 | D77: CONTRAPISO EM ARGAMASSA TRAÇO 1:4 (CIMENTO E AREIA), PREPARO MECÂNICO COM BETONEIRA 400 L, APLICADO EM ÁREAS SECAS SOBRE LAJE, ADERIDO, ACABAMENTO NÃO REFORÇADO, ESPESSURA 2CM. AF_07/2021 | E77: m² | F77: 774.83 | G77: =L77 -> 22.3 | H77: =ROUND(F77*G77,2) -> 17278.71 | K77: 23.11 | L77: =ROUND(K77*$J$11,2) -> 22.3
A78: 8.2 | B78: SINAPI | C78: 87263 | D78: REVESTIMENTO CERÂMICO PARA PISO COM PLACAS TIPO PORCELANATO DE DIMENSÕES 60X60 CM APLICADA EM AMBIENTES DE ÁREA MAIOR QUE 10 M². AF_06/2014 | E78: m² | F78: 774.83 | G78: =L78 -> 145.32 | H78: =ROUND(F78*G78,2) -> 112598.3 | K78: 150.59 | L78: =ROUND(K78*$J$11,2) -> 145.32
A79: 8.3 | B79: SINAPI | C79: 98504 | D79: PLANTIO DE GRAMA EM PLACAS. AF_05/2018 | E79: m² | F79: 176.89 | G79: =L79 -> 13.07 | H79: =ROUND(F79*G79,2) -> 2311.95 | K79: 13.54 | L79: =ROUND(K79*$J$11,2) -> 13.07
A80: 8.4 | B80: SINAPI | C80: 101819 | D80: RECOMPOSIÇÃO DE PAVIMENTO EM PARALELEPÍPEDOS, REJUNTAMENTO COM ARGAMASSA, COM REAPROVEITAMENTO DOS PARALELEPÍPEDOS, PARA O FECHAMENTO DE VALAS - INCLUSO RETIRADA E COLOCAÇÃO DO MATERIAL. AF_12/2020 | E80: m² | F80: 155.13 | G80: =L80 -> 45.26 | H80: =ROUND(F80*G80,2) -> 7021.18 | K80: 46.9 | L80: =ROUND(K80*$J$11,2) -> 45.26
L81: =ROUND(K81*$J$11,2) -> 0
A82: 9 | B82: INSTALAÇÕES HIDRO-SANITÁRIAS-PLUVIAL-INCÊNDIO | H82: =H83+H113+H139 -> 76924.92 | L82: =ROUND(K82*$J$11,2) -> 0
A83: 9.1 | B83: SISTEMA PREDIAL DE ESGOTO SANITÁRIO -NBR 9160 | H83: =SUM(H84:H111) -> 26869.97 | L83: =ROUND(K83*$J$11,2) -> 0
A84: 9.1.1 | B84: SINAPI | C84: 89707 | D84: CAIXA SIFONADA, PVC, DN 100 X 100 X 50 MM, JUNTA ELÁSTICA, FORNECIDA E INSTALADA EM RAMAL DE DESCARGA OU EM RAMAL DE ESGOTO SANITÁRIO. AF_12/2014 | E84: unid | F84: 28 | G84: 32.41 | H84: =ROUND(F84*G84,2) -> 907.48 | K84: 34.71 | L84: =ROUND(K84*$J$11,2) -> 33.5
A85: 9.1.2 | B85: SINAPI | C85: 89744 | D85: JOELHO 90 GRAUS, PVC, SERIE NORMAL, ESGOTO PREDIAL, DN 100 MM, JUNTA ELÁSTICA, FORNECIDO E INSTALADO EM RAMAL DE DESCARGA OU RAMAL DE ESGOTO SANITÁRIO. AF_12/2014 | E85: unid | F85: 13 | G85: =L85 -> 21 | H85: =ROUND(F85*G85,2) -> 273 | K85: 21.76 | L85: =ROUND(K85*$J$11,2) -> 21
A86: 9.1.3 | B86: SINAPI | C86: 89724 | D86: JOELHO 90 GRAUS, PVC, SERIE NORMAL, ESGOTO PREDIAL, DN 40 MM, JUNTA SOLDÁVEL, FORNECIDO E INSTALADO EM RAMAL DE DESCARGA OU RAMAL DE ESGOTO SANITÁRIO. AF_12/2014 | E86: unid | F86: 63 | G86: =L86 -> 8.46 | H86: =ROUND(F86*G86,2) -> 532.98 | K86: 8.77 | L86: =ROUND(K86*$J$11,2) -> 8.46
A87: 9.1.4 | B87: SINAPI | C87: 89731 | D87: JOELHO 90 GRAUS, PVC, SERIE NORMAL, ESGOTO PREDIAL, DN 50 MM, JUNTA ELÁSTICA, FORNECIDO E INSTALADO EM RAMAL DE DESCARGA OU RAMAL DE ESGOTO SANITÁRIO. AF_12/2014 | E87: unid | F87: 38 | G87: =L87 -> 8.92 | H87: =ROUND(F87*G87,2) -> 338.96 | K87: 9.24 | L87: =ROUND(K87*$J$11,2) -> 8.92
A88: 9.1.5 | B88: SINAPI | C88: 89726 | D88: JOELHO 45 GRAUS, PVC, SERIE NORMAL, ESGOTO PREDIAL, DN 40 MM, JUNTA SOLDÁVEL, FORNECIDO E INSTALADO EM RAMAL DE DESCARGA OU RAMAL DE ESGOTO SANITÁRIO. AF_12/2014 | E88: unid | F88: 30 | G88: =L88 -> 5.5 | H88: =ROUND(F88*G88,2) -> 165 | K88: 5.7 | L88: =ROUND(K88*$J$11,2) -> 5.5
A89: 9.1.6 | B89: SINAPI | C89: 89732 | D89: JOELHO 45 GRAUS, PVC, SERIE NORMAL, ESGOTO PREDIAL, DN 50 MM, JUNTA ELÁSTICA, FORNECIDO E INSTALADO EM RAMAL DE DESCARGA OU RAMAL DE ESGOTO SANITÁRIO. AF_12/2014 | E89: unid | F89: 25 | G89: =L89 -> 9.62 | H89: =ROUND(F89*G89,2) -> 240.5 | K89: 9.97 | L89: =ROUND(K89*$J$11,2) -> 9.62
A90: 9.1.7 | B90: SINAPI | C90: 89746 | D90: JOELHO 45 GRAUS, PVC, SERIE NORMAL, ESGOTO PREDIAL, DN 100 MM, JUNTA ELÁSTICA, FORNECIDO E INSTALADO EM RAMAL DE DESCARGA OU RAMAL DE ESGOTO SANITÁRIO. AF_12/2014 | E90: unid | F90: 11 | G90: =L90 -> 20.93 | H90: =ROUND(F90*G90,2) -> 230.23 | K90: 21.69 | L90: =ROUND(K90*$J$11,2) -> 20.93
A91: 9.1.8 | B91: SINAPI | C91: 89797 | D91: JUNÇÃO SIMPLES, PVC, SERIE NORMAL, ESGOTO PREDIAL, DN 100 X 100 MM, JUNTA ELÁSTICA, FORNECIDO E INSTALADO EM RAMAL DE DESCARGA OU RAMAL DE ESGOTO SANITÁRIO. AF_12/2014 | E91: unid | F91: 2 | G91: =L91 -> 42.5 | H91: =ROUND(F91*G91,2) -> 85 | K91: 44.04 | L91: =ROUND(K91*$J$11,2) -> 42.5
A92: 9.1.9 | B92: ORSE | C92: 1560 | D92: Junção simples em pvc rígido soldável, para esgoto primário, diâm = 75 x 50 mm. | E92: unid | F92: 3 | G92: =L92 -> 32.97 | H92: =ROUND(F92*G92,2) -> 98.91 | K92: 34.17 | L92: =ROUND(K92*$J$11,2) -> 32.97
A93: 9.1.10 | B93: ORSE | C93: 1562 | D93: Junção simples em pvc rígido soldável, para esgoto primário, diâm = 100 x 50 mm. | E93: unid | F93: 17 | G93: =L93 -> 41.31 | H93: =ROUND(F93*G93,2) -> 702.27 | K93: 42.81 | L93: =ROUND(K93*$J$11,2) -> 41.31
A94: 9.1.11 | B94: SINAPI | C94: 89784 | D94: TE, PVC, SERIE NORMAL, ESGOTO PREDIAL, DN 50 X 50 MM, JUNTA ELÁSTICA, FORNECIDO E INSTALADO EM RAMAL DE DESCARGA OU RAMAL DE ESGOTO SANITÁRIO. AF_12/2014 | E94: unid | F94: 28 | G94: =L94 -> 17.45 | H94: =ROUND(F94*G94,2) -> 488.6 | K94: 18.08 | L94: =ROUND(K94*$J$11,2) -> 17.45
A95: 9.1.12 | B95: SINAPI | C95: 89796 | D95: TE, PVC, SERIE NORMAL, ESGOTO PREDIAL, DN 100 X 100 MM, JUNTA ELÁSTICA, FORNECIDO E INSTALADO EM RAMAL DE DESCARGA OU RAMAL DE ESGOTO SANITÁRIO. AF_12/2014 | E95: unid | F95: 5 | G95: =L95 -> 36.06 | H95: =ROUND(F95*G95,2) -> 180.3 | K95: 37.37 | L95: =ROUND(K95*$J$11,2) -> 36.06
A96: 9.1.13 | B96: SINAPI | C96: 89714 | D96: TUBO PVC, SERIE NORMAL, ESGOTO PREDIAL, DN 100 MM, FORNECIDO E INSTALADO EM RAMAL DE DESCARGA OU RAMAL DE ESGOTO SANITÁRIO. AF_12/2014 | E96: m | F96: 190 | G96: =L96 -> 45.24 | H96: =ROUND(F96*G96,2) -> 8595.6 | K96: 46.88 | L96: =ROUND(K96*$J$11,2) -> 45.24
... A111: 9.1.28 | B111: SINAPI | C111: 89549 | D111: REDUÇÃO EXCÊNTRICA, PVC, SERIE R, ÁGUA PLUVIAL, DN 75 X 50 MM, JUNTA ELÁSTICA, FORNECIDO E INSTALADO EM RAMAL DE ENCAMINHAMENTO. AF_12/2014 | E111: unid | F111: 3 | G111: =L111 -> 14.04 | H111: =ROUND(F111*G111,2) -> 42.12 | K111: 14.55 | L111: =ROUND(K111*$J$11,2) -> 14.04
L112: =ROUND(K112*$J$11,2) -> 0
A113: 9.2 | B113: SISTEMA PREDIAL DE ÁGUA FRIA - NBR 5626 | H113: =SUM(H114:H137) -> 15338.21 | L113: =ROUND(K113*$J$11,2) -> 0
A114: 9.2.1 | B114: SINAPI | C114: 89450 | D114: TUBO, PVC, SOLDÁVEL, DN 60MM, INSTALADO EM PRUMADA DE ÁGUA - FORNECIMENTO E INSTALAÇÃO. AF_12/2014 | E114: m | F114: 23 | G114: =L114 -> 31.7 | H114: =ROUND(F114*G114,2) -> 729.1 | K114: 32.85 | L114: =ROUND(K114*$J$11,2) -> 31.7
A115: 9.2.2 | B115: SINAPI | C115: 89449 | D115: TUBO, PVC, SOLDÁVEL, DN 50MM, INSTALADO EM PRUMADA DE ÁGUA - FORNECIMENTO E INSTALAÇÃO. AF_12/2014 | E115: m | F115: 166 | G115: =L115 -> 19.05 | H115: =ROUND(F115*G115,2) -> 3162.3 | K115: 19.74 | L115: =ROUND(K115*$J$11,2) -> 19.05
A116: 9.2.3 | B116: SINAPI | C116: 89356 | D116: TUBO, PVC, SOLDÁVEL, DN 25MM, INSTALADO EM RAMAL OU SUB-RAMAL DE ÁGUA - FORNECIMENTO E INSTALAÇÃO. AF_12/2014 | E116: m | F116: 169 | G116: =L116 -> 16.29 | H116: =ROUND(F116*G116,2) -> 2753.01 | K116: 16.88 | L116: =ROUND(K116*$J$11,2) -> 16.29
A117: 9.2.4 | B117: SINAPI | C117: 89383 | D117: ADAPTADOR CURTO COM BOLSA E ROSCA PARA REGISTRO, PVC, SOLDÁVEL, DN 25MM X 3/4, INSTALADO EM RAMAL OU SUB-RAMAL DE ÁGUA - FORNECIMENTO E INSTALAÇÃO. AF_12/2014 | E117: unid | F117: 69 | G117: =L117 -> 4.94 | H117: =ROUND(F117*G117,2) -> 340.86 | K117: 5.12 | L117: =ROUND(K117*$J$11,2) -> 4.94
A118: 9.2.5 | B118: SINAPI | C118: 89605 | D118: LUVA DE REDUÇÃO, PVC, SOLDÁVEL, DN 60MM X 50MM, INSTALADO EM PRUMADA DE ÁGUA - FORNECIMENTO E INSTALAÇÃO. AF_12/2014 | E118: unid | F118: 1 | G118: =L118 -> 19.5 | H118: =ROUND(F118*G118,2) -> 19.5 | K118: 20.21 | L118: =ROUND(K118*$J$11,2) -> 19.5
A119: 9.2.6 | B119: SINAPI | C119: 89579 | D119: LUVA DE REDUÇÃO, PVC, SOLDÁVEL, DN 50MM X 25MM, INSTALADO EM PRUMADA DE ÁGUA FORNECIMENTO E INSTALAÇÃO. AF_12/2014 | E119: unid | F119: 1 | G119: =L119 -> 10.18 | H119: =ROUND(F119*G119,2) -> 10.18 | K119: 10.55 | L119: =ROUND(K119*$J$11,2) -> 10.18
...

Sheet BM_04
C1: BM 04 - Boletim de Medição
B4: ESTADO DA PARAÍBA
B5: PREFEITURA MUNICIPAL DE SOUSA - PB
A6: Objetivo | G6: Agente Promotor | K6: Data de Emissão | L6: Nº BM
A7: CENTRO DE ONCOLOGIA DE SOUSA | G7: PREFEITURA MUNICIPAL DE SOUSA - PB | K7: 44600 | L7: 04
A9: Localização | G9: Contratada | K9: Início da Obra | L9: Termino da Obra
A10: RUA LUIZ PEREIRA DA SILVA, S/N, CENTRO, SOUSA-PB | G10: COMPACTO CONSTRUÇÕES EIRELI - EPP | K10: 44854 | L10: 45219
A12: Modalidade | C12: Nº de Contrato e Data de assinatura | G12: Valor do Contrato / PMS | K12: Período de medição
A13: CONCORRÊNCIA 06/2022 | C13: Nº 0701/2022 - 20/10/2022 | G13: =I219 -> 989890.37 | K13: 06/05/2023 a 11/06/2023
A16: Itens | B16: Discriminação dos serviços do orçamento | C16: Unid. | D16: Custo Unitário | F16: Quantidade | I16: Financeiro | L16: Desvio (%)
E17: Custo Unitário | F17: Prevista | G17: Medida no período | H17: Acumulada incluindo o período | I17: Prevista | J17: Medida no período | K17: Acumulada incluindo o período
A18: =ORÇAMENTO!A11 -> 1 | B18: SERVIÇOS PRELIMINARES
A19: =ORÇAMENTO!A12 -> 1.1 | B19: =ORÇAMENTO!D12 -> Placa de Obra em chapa de aço galvanizado, instalada - Rev 02 01/2022 | C19: =ORÇAMENTO!E12 -> m² | E19: =ORÇAMENTO!G12*26.63%+ORÇAMENTO!G12 -> 423.12148 | F19: =ORÇAMENTO!F12 -> 4.5 | H19: =G19+[1]BM_03!H19 -> 4.46 | I19: =ROUND(E19*F19,2) -> 1904.05 | J19: =ROUND(E19*G19,2) -> 0 | K19: =ROUND(E19*H19,2) -> 1887.12 | L19: =H19/F19 -> 0.99111111
A20: =ORÇAMENTO!A13 -> 1.2 | B20: DEMOLIÇÃO DE ALVENARIA DE BLOCOFURADO, DE FORMA MANUAL, SEM REAPROVEITAMENTO | C20: =ORÇAMENTO!E13 -> m³ | E20: =ORÇAMENTO!G13*26.63%+ORÇAMENTO!G13 -> 46.47321 | F20: =ORÇAMENTO!F13 -> 63.41 | G20: =MEM_04!L13 -> 3.0625 | H20: =G20+[1]BM_03!H20 -> 31.4125 | I20: =ROUND(E20*F20,2) -> 2946.87 | J20: =ROUND(E20*G20,2) -> 142.32 | K20: =ROUND(E20*H20,2) -> 1459.84 | L20: =H20/F20 -> 0.49538716
A21: =ORÇAMENTO!A14 -> 1.3 | B21: =ORÇAMENTO!D14 -> Demolição de piso de alta resistência | C21: =ORÇAMENTO!E14 -> m² | E21: =ORÇAMENTO!G14*26.63%+ORÇAMENTO!G14 -> 20.817972 | F21: =ORÇAMENTO!F14 -> 774.83 | G21: =MEM_04!L17 -> 202.28 | H21: =G21+[1]BM_03!H21 -> 336.83 | I21: =ROUND(E21*F21,2) -> 16130.39 | J21: =ROUND(E21*G21,2) -> 4211.06 | K21: =ROUND(E21*H21,2) -> 7012.12 | L21: =H21/F21 -> 0.43471471
A22: =ORÇAMENTO!A15 -> 1.4 | B22: =ORÇAMENTO!D15 -> REMOÇÃO DE TRAMA DE MADEIRA PARA COBERTURA, DE FORMA MANUAL, SEM REAPROVEITAMENTO. AF 12/2017 | C22: =ORÇAMENTO!E15 -> m² | E22: =ORÇAMENTO!G15*26.63%+ORÇAMENTO!G15 -> 6.014925 | F22: =ORÇAMENTO!F15 -> 309.93 | G22: =F22-444 -> -134.07 | H22: =G22+[1]BM_03!H22 -> 175.86 | I22: =ROUND(E22*F22,2) -> 1864.21 | J22: =ROUND(E22*G22,2) -> -806.42 | K22: =ROUND(E22*H22,2) -> 1057.78 | L22: =H22/F22 -> 0.56741845
A23: =ORÇAMENTO!A16 -> 1.5 | B23: =ORÇAMENTO!D16 -> CARGA, MANOBRA E DESCARGA DE ENTULHO EM CAMINHÃO BASCULANTE 6 M³ - CARGA COM ESCAVADEIRA HIDRÁULICA (CAÇAMBA DE 0,80 M³/111 HP) E DESCARGA LIVRE (UNIDADE: M³). AF 07/2020 | C23: =ORÇAMENTO!E16 -> m³ | E23: =ORÇAMENTO!G16*26.63%+ORÇAMENTO!G16 -> 9.11736 | F23: =ORÇAMENTO!F16 -> 102.15 | H23: =G23+[1]BM_03!H23 -> 102.15 | I23: =ROUND(E23*F23,2) -> 931.34 | J23: =ROUND(E23*G23,2) -> 0 | K23: =ROUND(E23*H23,2) -> 931.34 | L23: =H23/F23 -> 1
H24: =G24+[1]BM_03!H24 -> 0
A25: =ORÇAMENTO!A18 -> 2 | B25: INFRA ESTRUTURA E SUPERESTRUTURA | H25: =G25+[1]BM_03!H25 -> 0
A26: =ORÇAMENTO!A19 -> 2.1 | B26: =ORÇAMENTO!D19 -> ESCAVAÇÃO MANUAL PARA BLOCO DE COROAMENTO OU SAPATA (INCLUINDO ESCAVAÇÃO PARA COLOCAÇÃO DE FÔRMAS). AF_06/2017 | C26: =ORÇAMENTO!E19 -> m³ | E26: =ORÇAMENTO!G19*26.63%+ORÇAMENTO!G19 -> 80.865918 | F26: =ORÇAMENTO!F19 -> 28.86 | H26: =G26+[1]BM_03!H26 -> 16.41 | I26: =ROUND(E26*F26,2) -> 2333.79 | J26: =ROUND(E26*G26,2) -> 0 | K26: =ROUND(E26*H26,2) -> 1327.01 | L26: =H26/F26 -> 0.56860707
A27: =ORÇAMENTO!A20 -> 2.2 | B27: =ORÇAMENTO!D20 -> LAJE PRÉ-MOLDADA UNIDIRECIONAL, BIAPOIADA, PARA FORRO, ENCHIMENTO EM CERÂMICA, VIGOTA CONVENCIONAL, ALTURA TOTAL DA LAJE (ENCHIMENTO+CAPA) = (8+3). AF_11/2020 | C27: =ORÇAMENTO!E20 -> m² | E27: =ORÇAMENTO!G20*26.63%+ORÇAMENTO!G20 -> 179.38406 | F27: =ORÇAMENTO!F20 -> 57.88 | H27: =G27+[1]BM_03!H27 -> 0 | I27: =ROUND(E27*F27,2) -> 10382.75 | J27: =ROUND(E27*G27,2) -> 0 | K27: =ROUND(E27*H27,2) -> 0 | L27: =H27/F27 -> 0
A28: =ORÇAMENTO!A21 -> 2.3 | B28: =ORÇAMENTO!D21 -> LASTRO DE CONCRETO MAGRO, APLICADO EM BLOCOS DE COROAMENTO OU SAPATAS, ESPESSURA DE 5 CM. AF_08/2017 | C28: =ORÇAMENTO!E21 -> m² | E28: =ORÇAMENTO!G21*26.63%+ORÇAMENTO!G21 -> 28.808325 | F28: =ORÇAMENTO!F21 -> 19.24 | H28: =G28+[1]BM_03!H28 -> 19.24 | I28: =ROUND(E28*F28,2) -> 554.27 | J28: =ROUND(E28*G28,2) -> 0 | K28: =ROUND(E28*H28,2) -> 554.27 | L28: =H28/F28 -> 1
A29: =ORÇAMENTO!A22 -> 2.4 | B29: =ORÇAMENTO!D22 -> CONCRETO FCK = 25MPA, TRAÇO 1:2,3:2,7 (EM MASSA SECA DE CIMENTO/ AREIA MÉDIA/ BRITA 1) - PREPARO MECÂNICO COM BETONEIRA 600 L. AF_05/2021 | C29: =ORÇAMENTO!E22 -> m³ | E29: =ORÇAMENTO!G22*26.63%+ORÇAMENTO!G22 -> 447.37113 | F29: =ORÇAMENTO!F22 -> 5.8 | G29: =MEM_04!L36 -> 0.36 | H29: =G29+[1]BM_03!H29 -> 4.8 | I29: =ROUND(E29*F29,2) -> 2594.75 | J29: =ROUND(E29*G29,2) -> 161.05 | K29: =ROUND(E29*H29,2) -> 2147.38 | L29: =H29/F29 -> 0.82758621
A30: =ORÇAMENTO!A23 -> 2.5 | B30: =ORÇAMENTO!D23 -> CONCRETO FCK = 30MPA, TRAÇO 1:2,1:2,5 (EM MASSA SECA DE CIMENTO/ AREIA MÉDIA/ BRITA 1) - PREPARO MECÂNICO COM BETONEIRA 600 L. AF_05/2021 | C30: =ORÇAMENTO!E23 -> m³ | E30: =ORÇAMENTO!G23*26.63%+ORÇAMENTO!G23 -> 461.9589 | F30: =ORÇAMENTO!F23 -> 30.1 | G30: =MEM_04!L265 -> 8.66 | H30: =G30+[1]BM_03!H30 -> 14.76 | I30: =ROUND(E30*F30,2) -> 13904.96 | J30: =ROUND(E30*G30,2) -> 4000.56 | K30: =ROUND(E30*H30,2) -> 6818.51 | L30: =H30/F30 -> 0.49036545
A31: =ORÇAMENTO!A24 -> 2.6 | B31: =ORÇAMENTO!D24 -> LANÇAMENTO COM USO DE BALDES, ADENSAMENTO E ACABAMENTO DE CONCRETO EM ESTRUTURAS. AF_12/2015 | C31: =ORÇAMENTO!E24 -> m³ | E31: =ORÇAMENTO!G24*26.63%+ORÇAMENTO!G24 -> 242.28118 | F31: =ORÇAMENTO!F24 -> 35.9 | G31: =MEM_04!L333 -> 8.75 | H31: =G31+[1]BM_03!H31 -> 20.25 | I31: =ROUND(E31*F31,2) -> 8697.89 | J31: =ROUND(E31*G31,2) -> 2119.96 | K31: =ROUND(E31*H31,2) -> 4906.19 | L31: =H31/F31 -> 0.56406685
A32: =ORÇAMENTO!A25 -> 2.7 | B32: =ORÇAMENTO!D25 -> Forma plana para fundações, em tábua de pinho, 07 usos. | C32: =ORÇAMENTO!E25 -> m² | E32: =ORÇAMENTO!G25*26.63%+ORÇAMENTO!G25 -> 82.765368 | F32: =ORÇAMENTO!F25 -> 19.3 | G32: =MEM_04!L190 -> 0 | H32: =G32+[1]BM_03!H32 -> 19.3 | I32: =ROUND(E32*F32,2) -> 1597.37 | J32: =ROUND(E32*G32,2) -> 0 | K32: =ROUND(E32*H32,2) -> 1597.37 | L32: =H32/F32 -> 1
A33: =ORÇAMENTO!A26 -> 2.8 | B33: =ORÇAMENTO!D26 -> Forma plana para estruturas, em compensado plastificado de 12mm, 07 usos. | C33: =ORÇAMENTO!E26 -> m² | E33: =ORÇAMENTO!G26*26.63%+ORÇAMENTO!G26 -> 69.874434 | F33: =ORÇAMENTO!F26 -> 421.3 | G33: =MEM_04!L198 -> 157.947 | H33: =G33+[1]BM_03!H33 -> 239.687 | I33: =ROUND(E33*F33,2) -> 29438.1 | J33: =ROUND(E33*G33,2) -> 11036.46 | K33: =ROUND(E33*H33,2) -> 16747.99 | L33: =H33/F33 -> 0.56892238
A34: =ORÇAMENTO!A27 -> 2.9 | B34: =ORÇAMENTO!D27 -> ARMAÇÃO DE PILAR OU VIGA DE UMA ESTRUTURA CONVENCIONAL DE CONCRETO ARMADO EM UM EDIFÍCIO DE MÚLTIPLOS PAVIMENTOS UTILIZANDO AÇO CA-50 DE 12,5 MM - MONTAGEM. AF_12/2015 | C34: =ORÇAMENTO!E27 -> kg | E34: =ORÇAMENTO!G27*26.63%+ORÇAMENTO!G27 -> 13.068216 | F34: =ORÇAMENTO!F27 -> 480.3 | G34: =MEM_04!L179 -> 196.12 | H34: =G34+[1]BM_03!H34 -> 416.92 | I34: =ROUND(E34*F34,2) -> 6276.66 | J34: =ROUND(E34*G34,2) -> 2562.94 | K34: =ROUND(E34*H34,2) -> 5448.4 | L34: =H34/F34 -> 0.86804081
A35: =ORÇAMENTO!A28 -> 2.10 | B35: =ORÇAMENTO!D28 -> ARMAÇÃO DE PILAR OU VIGA DE UMA ESTRUTURA CONVENCIONAL DE CONCRETO ARMADO EM UM EDIFÍCIO DE MÚLTIPLOS PAVIMENTOS UTILIZANDO AÇO CA-50 DE 10,0 MM - MONTAGEM. AF_12/2015 | C35: =ORÇAMENTO!E28 -> kg | E35: =ORÇAMENTO!G28*26.63%+ORÇAMENTO!G28 -> 15.309567 | F35: =ORÇAMENTO!F28 -> 1608.2 | G35: =MEM_04!L109 -> 554.43 | H35: =G35+[1]BM_03!H35 -> 1136.98 | I35: =ROUND(E35*F35,2) -> 24620.85 | J35: =ROUND(E35*G35,2) -> 8488.08 | K35: =ROUND(E35*H35,2) -> 17406.67 | L35: =H35/F35 -> 0.70698918
A36: =ORÇAMENTO!A29 -> 2.11 | B36: =ORÇAMENTO!D29 -> ARMAÇÃO DE PILAR OU VIGA DE UMA ESTRUTURA CONVENCIONAL DE CONCRETO ARMADO EM UM EDIFÍCIO DE MÚLTIPLOS PAVIMENTOS UTILIZANDO AÇO CA-50 DE 16,0 MM - MONTAGEM. AF_12/2015 | C36: =ORÇAMENTO!E29 -> kg | E36: =ORÇAMENTO!G29*26.63%+ORÇAMENTO!G29 -> 12.625011 | F36: =ORÇAMENTO!F29 -> 63.1 | H36: =G36+[1]BM_03!H36 -> 0 | I36: =ROUND(E36*F36,2) -> 796.64 | J36: =ROUND(E36*G36,2) -> 0 | K36: =ROUND(E36*H36,2) -> 0 | L36: =H36/F36 -> 0
A37: =ORÇAMENTO!A30 -> 2.12 | B37: =ORÇAMENTO!D30 -> ARMAÇÃO DE PILAR OU VIGA DE UMA ESTRUTURA CONVENCIONAL DE CONCRETO ARMADO EM UM EDIFÍCIO DE MÚLTIPLOS PAVIMENTOS UTILIZANDO AÇO CA-60 DE 5,0 MM - MONTAGEM. AF_12/2015 | C37: =ORÇAMENTO!E30 -> kg | E37: =ORÇAMENTO!G30*26.63%+ORÇAMENTO!G30 -> 17.715537 | F37: =ORÇAMENTO!F30 -> 651.9 | G37: =MEM_04!L42 -> 216.27 | H37: =G37+[1]BM_03!H37 -> 317.93 | I37: =ROUND(E37*F37,2) -> 11548.76 | J37: =ROUND(E37*G37,2) -> 3831.34 | K37: =ROUND(E37*H37,2) -> 5632.3 | L37: =H37/F37 -> 0.4876975
A38: =ORÇAMENTO!A31 -> 2.13 | B38: =ORÇAMENTO!D31 -> REATERRO MANUAL APILOADO COM SOQUETE. AF_10/2017 | C38: =ORÇAMENTO!E31 -> m³ | E38: =ORÇAMENTO!G31*26.63%+ORÇAMENTO!G31 -> 42.775614 | F38: =ORÇAMENTO!F31 -> 24.3 | G38: =MEM_04!L401 -> 2.085 | H38: =G38+[1]BM_03!H38 -> 21.6826 | I38: =ROUND(E38*F38,2) -> 1039.45 | J38: =ROUND(E38*G38,2) -> 89.19 | K38: =ROUND(E38*H38,2) -> 927.49 | L38: =H38/F38 -> 0.89228807
A39: =ORÇAMENTO!A32 -> 2.14 | B39: =ORÇAMENTO!D32 -> VERGA PRÉ-MOLDADA PARA PORTAS COM ATÉ 1,5 M DE VÃO. AF_03/2016 | C39: =ORÇAMENTO!E32 -> m | E39: =ORÇAMENTO!G32*26.63%+ORÇAMENTO!G32 -> 37.786392 | F39: =ORÇAMENTO!F32 -> 58.14 | G39: =MEM_04!L407 -> 9 | H39: =G39+[1]BM_03!H39 -> 9 | I39: =ROUND(E39*F39,2) -> 2196.9 | J39: =ROUND(E39*G39,2) -> 340.08 | K39: =ROUND(E39*H39,2) -> 340.08 | L39: =H39/F39 -> 0.15479876
A40: =ORÇAMENTO!A33 -> 2.15 | B40: =ORÇAMENTO!D33 -> VERGA PRÉ-MOLDADA PARA JANELAS COM ATÉ 1,5 M DE VÃO. AF_03/2016 | C40: =ORÇAMENTO!E33 -> m | E40: =ORÇAMENTO!G33*26.63%+ORÇAMENTO!G33 -> 52.184223 | F40: =ORÇAMENTO!F33 -> 16.9 | G40: =MEM_04!L420 -> 3.85 | H40: =G40+[1]BM_03!H40 -> 3.85 | I40: =ROUND(E40*F40,2) -> 881.91 | J40: =ROUND(E40*G40,2) -> 200.91 | K40: =ROUND(E40*H40,2) -> 200.91 | L40: =H40/F40 -> 0.22781065
A41: =ORÇAMENTO!A34 -> 2.16 | B41: =ORÇAMENTO!D34 -> CONTRAVERGA PRÉ-MOLDADA PARA VÃOS DE ATÉ 1,5 M DE COMPRIMENTO. AF_03/2016 | C41: =ORÇAMENTO!E34 -> m | E41: =ORÇAMENTO!G34*26.63%+ORÇAMENTO!G34 -> 50.322762 | F41: =ORÇAMENTO!F34 -> 16.9 | G41: =MEM_04!L425 -> 3.85 | H41: =G41+[1]BM_03!H41 -> 3.85 | I41: =ROUND(E41*F41,2) -> 850.45 | J41: =ROUND(E41*G41,2) -> 193.74 | K41: =ROUND(E41*H41,2) -> 193.74 | L41: =H41/F41 -> 0.22781065
H42: =G42+[1]BM_03!H42 -> 0
A43: =ORÇAMENTO!A36 -> 3 | B43: ALVENARIA E VEDAÇÕES | H43: =G43+[1]BM_03!H43 -> 0
A44: =ORÇAMENTO!A37 -> 3.1 | B44: =ORÇAMENTO!D37 -> ALVENARIA DE VEDAÇÃO DE BLOCOS CERÂMICOS FURADOS NA VERTICAL DE 19X19X39 CM (ESPESSURA 19 CM) E ARGAMASSA DE ASSENTAMENTO COM PREPARO EM BETONEIRA. AF_12/2021 | C44: =ORÇAMENTO!E37 -> m² | E44: =ORÇAMENTO!G37*26.63%+ORÇAMENTO!G37 -> 78.459948 | F44: =ORÇAMENTO!F37 -> 209.45 | H44: =G44+[1]BM_03!H44 -> 0 | I44: =ROUND(E44*F44,2) -> 16433.44 | J44: =ROUND(E44*G44,2) -> 0 | K44: =ROUND(E44*H44,2) -> 0 | L44: =H44/F44 -> 0
A45: =ORÇAMENTO!A38 -> 3.2 | B45: =ORÇAMENTO!D38 -> Divisória em granito cinza andorinha polido, e=2cm, inclusive com montagem em ferragem - Rev 02. | C45: =ORÇAMENTO!E38 -> m² | E45: =ORÇAMENTO!G38*26.63%+ORÇAMENTO!G38 -> 712.59766 | F45: =ORÇAMENTO!F38 -> 53.89 | H45: =G45+[1]BM_03!H45 -> 0 | I45: =ROUND(E45*F45,2) -> 38401.89 | J45: =ROUND(E45*G45,2) -> 0 | K45: =ROUND(E45*H45,2) -> 0 | L45: =H45/F45 -> 0
H46: =G46+[1]BM_03!H46 -> 0
A47: =ORÇAMENTO!A40 -> 4 | B47: IMPERMEABILIZAÇÕES | H47: =G47+[1]BM_03!H47 -> 0
A48: =ORÇAMENTO!A41 -> 4.1 | B48: =ORÇAMENTO!D41 -> IMPERMEABILIZAÇÃO DE SUPERFÍCIE COM EMULSÃO ASFÁLTICA, 2 DEMÃOS AF_06/2018 | C48: =ORÇAMENTO!E41 -> m² | E48: =ORÇAMENTO!G41*26.63%+ORÇAMENTO!G41 -> 48.777876 | F48: =ORÇAMENTO!F41 -> 25.12 | H48: =G48+[1]BM_03!H48 -> 0 | I48: =ROUND(E48*F48,2) -> 1225.3 | J48: =ROUND(E48*G48,2) -> 0 | K48: =ROUND(E48*H48,2) -> 0 | L48: =H48/F48 -> 0
A49: =ORÇAMENTO!A42 -> 4.2 | B49: =ORÇAMENTO!D42 -> IMPERMEABILIZAÇÃO DE SUPERFÍCIE COM MANTA ASFÁLTICA, UMA CAMADA, INCLUSIVE APLICAÇÃO DE PRIMER ASFÁLTICO, E=3MM. AF_06/2018 | C49: =ORÇAMENTO!E42 -> m² | E49: =ORÇAMENTO!G42*26.63%+ORÇAMENTO!G42 -> 121.10893 | F49: =ORÇAMENTO!F42 -> 57.88 | H49: =G49+[1]BM_03!H49 -> 0 | I49: =ROUND(E49*F49,2) -> 7009.78 | J49: =ROUND(E49*G49,2) -> 0 | K49: =ROUND(E49*H49,2) -> 0 | L49: =H49/F49 -> 0
H50: =G50+[1]BM_03!H50 -> 0
A51: =ORÇAMENTO!A44 -> 5 | B51: COBERTURAS E PROTEÇÕES | H51: =G51+[1]BM_03!H51 -> 0
A52: =ORÇAMENTO!A45 -> 5.1 | B52: =ORÇAMENTO!D45 -> TRAMA DE MADEIRA COMPOSTA POR RIPAS, CAIBROS E TERÇAS PARA TELHADOS DE ATÉ 2 ÁGUAS PARA TELHA DE ENCAIXE DE CERÂMICA OU DE CONCRETO, INCLUSO TRANSPORTE VERTICAL. AF_07/2019 | C52: =ORÇAMENTO!E45 -> m² | E52: =ORÇAMENTO!G45*26.63%+ORÇAMENTO!G45 -> 76.573161 | F52: =ORÇAMENTO!F45 -> 309.93 | G52: =MEM_04!L463 -> 45.12 | H52: =G52+[1]BM_03!H52 -> 45.12 | I52: =ROUND(E52*F52,2) -> 23732.32 | J52: =ROUND(E52*G52,2) -> 3454.98 | K52: =ROUND(E52*H52,2) -> 3454.98 | L52: =H52/F52 -> 0.14558126
A53: =ORÇAMENTO!A46 -> 5.2 | B53: =ORÇAMENTO!D46 -> TELHAMENTO COM TELHA CERÂMICA CAPA-CANAL, TIPO COLONIAL, COM ATÉ 2 ÁGUAS, INCLUSO TRANSPORTE VERTICAL. AF_07/2019 | C53: =ORÇAMENTO!E46 -> m² | E53: =ORÇAMENTO!G46*26.63%+ORÇAMENTO!G46 -> 37.495143 | F53: =ORÇAMENTO!F46 -> 309.93 | H53: =G53+[1]BM_03!H53 -> 0 | I53: =ROUND(E53*F53,2) -> 11620.87 | J53: =ROUND(E53*G53,2) -> 0 | K53: =ROUND(E53*H53,2) -> 0 | L53: =H53/F53 -> 0
A54: =ORÇAMENTO!A47 -> 5.3 | B54: =ORÇAMENTO!D47 -> FORRO EM PLACAS DE GESSO, PARA AMBIENTES COMERCIAIS. AF_05/2017_P | C54: =ORÇAMENTO!E47 -> m² | E54: =ORÇAMENTO!G47*26.63%+ORÇAMENTO!G47 -> 38.153619 | F54: =ORÇAMENTO!F47 -> 774.83 | H54: =G54+[1]BM_03!H54 -> 0 | I54: =ROUND(E54*F54,2) -> 29562.57 | J54: =ROUND(E54*G54,2) -> 0 | K54: =ROUND(E54*H54,2) -> 0 | L54: =H54/F54 -> 0
H55: =G55+[1]BM_03!H55 -> 0
A56: =ORÇAMENTO!A49 -> 6 | B56: ESQUADRIAS | H56: =G56+[1]BM_03!H56 -> 0
A57: =ORÇAMENTO!A50 -> 6.1 | B57: METÁLICA, ALUMÍNIO C/ VIDRO E MADEIRA | H57: =G57+[1]BM_03!H57 -> 0
A58: =ORÇAMENTO!A51 -> 6.1.1 | B58: =ORÇAMENTO!D51 -> JANELA DE ALUMÍNIO DE CORRER COM 2 FOLHAS PARA VIDROS, COM VIDROS, BATENTE, ACABAMENTO COM ACETATO OU BRILHANTE E FERRAGENS. EXCLUSIVE ALIZAR E CONTRAMARCO. FORNECIMENTO E INSTALAÇÃO. AF_12/2019 | C58: =ORÇAMENTO!E51 -> m² | E58: =ORÇAMENTO!G51*26.63%+ORÇAMENTO!G51 -> 771.53126 | F58: =ORÇAMENTO!F51 -> 16.56 | H58: =G58+[1]BM_03!H58 -> 0 | I58: =ROUND(E58*F58,2) -> 12776.56 | J58: =ROUND(E58*G58,2) -> 0 | K58: =ROUND(E58*H58,2) -> 0 | L58: =H58/F58 -> 0
A59: =ORÇAMENTO!A52 -> 6.1.2 | B59: =ORÇAMENTO!D52 -> JANELA DE ALUMÍNIO TIPO MAXIM-AR, COM VIDROS, BATENTE E FERRAGENS. EXCLUSIVE ALIZAR, ACABAMENTO E CONTRAMARCO. FORNECIMENTO E INSTALAÇÃO. AF_12/2019 | C59: =ORÇAMENTO!E52 -> m² | E59: =ORÇAMENTO!G52*26.63%+ORÇAMENTO!G52 -> 1448.9384 | F59: =ORÇAMENTO!F52 -> 2.5 | H59: =G59+[1]BM_03!H59 -> 0 | I59: =ROUND(E59*F59,2) -> 3622.35 | J59: =ROUND(E59*G59,2) -> 0 | K59: =ROUND(E59*H59,2) -> 0 | L59: =H59/F59 -> 0
A60: =ORÇAMENTO!A53 -> 6.1.3 | B60: =ORÇAMENTO!D53 -> PORTA EM ALUMÍNIO DE ABRIR TIPO VENEZIANA COM GUARNIÇÃO, FIXAÇÃO COM PARAFUSOS - FORNECIMENTO E INSTALAÇÃO. AF_12/2019 | C60: =ORÇAMENTO!E53 -> m² | E60: =ORÇAMENTO!G53*26.63%+ORÇAMENTO!G53 -> 969.51727 | F60: =ORÇAMENTO!F53 -> 7.92 | H60: =G60+[1]BM_03!H60 -> 0 | I60: =ROUND(E60*F60,2) -> 7678.58 | J60: =ROUND(E60*G60,2) -> 0 | K60: =ROUND(E60*H60,2) -> 0 | L60: =H60/F60 -> 0
A61: =ORÇAMENTO!A54 -> 6.1.4 | B61: =ORÇAMENTO!D54 -> PORTA DE FERRO, DE ABRIR, TIPO GRADE COM CHAPA, COM GUARNIÇÕES. AF_12/2019 | C61: =ORÇAMENTO!E54 -> m² | E61: =ORÇAMENTO!G54*26.63%+ORÇAMENTO!G54 -> 724.12099 | F61: =ORÇAMENTO!F54 -> 5.31 | H61: =G61+[1]BM_03!H61 -> 0 | I61: =ROUND(E61*F61,2) -> 3845.08 | J61: =ROUND(E61*G61,2) -> 0 | K61: =ROUND(E61*H61,2) -> 0 | L61: =H61/F61 -> 0
A62: =ORÇAMENTO!A55 -> 6.1.5 | B62: =ORÇAMENTO!D55 -> Portão em ferro, em tubo de aço galvanizado 2" e tela ondulada, malha 3/8". | C62: =ORÇAMENTO!E55 -> m² | E62: =ORÇAMENTO!G55*26.63%+ORÇAMENTO!G55 -> 940.87356 | F62: =ORÇAMENTO!F55 -> 6.62 | H62: =G62+[1]BM_03!H62 -> 0 | I62: =ROUND(E62*F62,2) -> 6228.58 | J62: =ROUND(E62*G62,2) -> 0 | K62: =ROUND(E62*H62,2) -> 0 | L62: =H62/F62 -> 0
A63: =ORÇAMENTO!A56 -> 6.1.6 | B63: =ORÇAMENTO!D56 -> KIT DE PORTA DE MADEIRA PARA PINTURA, SEMI-OCA (LEVE OU MÉDIA), PADRÃO MÉDIO, 60X210CM, ESPESSURA DE 3,5CM, ITENS INCLUSOS: DOBRADIÇAS, MONTAGEM E INSTALAÇÃO DO BATENTE, FECHADURA COM EXECUÇÃO DO FURO - FORNECIMENTO E INSTALAÇÃO. AF_12/2019 | C63: =ORÇAMENTO!E56 -> unid | E63: =ORÇAMENTO!G56*26.63%+ORÇAMENTO!G56 -> 1013.9517 | F63: =ORÇAMENTO!F56 -> 8 | H63: =G63+[1]BM_03!H63 -> 0 | I63: =ROUND(E63*F63,2) -> 8111.61 | J63: =ROUND(E63*G63,2) -> 0 | K63: =ROUND(E63*H63,2) -> 0 | L63: =H63/F63 -> 0
A64: =ORÇAMENTO!A57 -> 6.1.7 | B64: =ORÇAMENTO!D57 -> KIT DE PORTA DE MADEIRA PARA PINTURA, SEMI-OCA (LEVE OU MÉDIA), PADRÃO MÉDIO, 70X210CM, ESPESSURA DE 3,5CM, ITENS INCLUSOS: DOBRADIÇAS, MONTAGEM E INSTALAÇÃO DO BATENTE, FECHADURA COM EXECUÇÃO DO FURO - FORNECIMENTO E INSTALAÇÃO. AF_12/2019 | C64: =ORÇAMENTO!E57 -> unid | E64: =ORÇAMENTO!G57*26.63%+ORÇAMENTO!G57 -> 1022.17 | F64: =ORÇAMENTO!F57 -> 3 | H64: =G64+[1]BM_03!H64 -> 0 | I64: =ROUND(E64*F64,2) -> 3066.51 | J64: =ROUND(E64*G64,2) -> 0 | K64: =ROUND(E64*H64,2) -> 0 | L64: =H64/F64 -> 0
A65: =ORÇAMENTO!A58 -> 6.1.8 | B65: =ORÇAMENTO!D58 -> KIT DE PORTA DE MADEIRA PARA PINTURA, SEMI-OCA (LEVE OU MÉDIA), PADRÃO MÉDIO, 80X210CM, ESPESSURA DE 3,5CM, ITENS INCLUSOS: DOBRADIÇAS, MONTAGEM E INSTALAÇÃO DO BATENTE, FECHADURA COM EXECUÇÃO DO FURO - FORNECIMENTO E INSTALAÇÃO. AF_12/2019 | C65: =ORÇAMENTO!E58 -> unid | E65: =ORÇAMENTO!G58*26.63%+ORÇAMENTO!G58 -> 1068.0734 | F65: =ORÇAMENTO!F58 -> 2 | H65: =G65+[1]BM_03!H65 -> 0 | I65: =ROUND(E65*F65,2) -> 2136.15 | J65: =ROUND(E65*G65,2) -> 0 | K65: =ROUND(E65*H65,2) -> 0 | L65: =H65/F65 -> 0
A66: =ORÇAMENTO!A59 -> 6.1.9 | B66: =ORÇAMENTO!D59 -> KIT DE PORTA DE MADEIRA PARA PINTURA, SEMI-OCA (LEVE OU MÉDIA), PADRÃO MÉDIO, 90X210CM, ESPESSURA DE 3,5CM, ITENS INCLUSOS: DOBRADIÇAS, MONTAGEM E INSTALAÇÃO DO BATENTE, FECHADURA COM EXECUÇÃO DO FURO - FORNECIMENTO E INSTALAÇÃO. AF_12/2019 | C66: =ORÇAMENTO!E59 -> unid | E66: =ORÇAMENTO!G59*26.63%+ORÇAMENTO!G59 -> 1149.2686 | F66: =ORÇAMENTO!F59 -> 22 | H66: =G66+[1]BM_03!H66 -> 0 | I66: =ROUND(E66*F66,2) -> 25283.91 | J66: =ROUND(E66*G66,2) -> 0 | K66: =ROUND(E66*H66,2) -> 0 | L66: =H66/F66 -> 0
A67: =ORÇAMENTO!A60 -> 6.1.10 | B67: =ORÇAMENTO!D60 -> Porta em madeira compensada (canela), lisa e semi-oca, 1,00 x 2,10 m, inclusive batentes e ferragens. | C67: =ORÇAMENTO!E60 -> unid | E67: =ORÇAMENTO!G60*26.63%+ORÇAMENTO!G60 -> 1016.1044 | F67: =ORÇAMENTO!F60 -> 11 | H67: =G67+[1]BM_03!H67 -> 0 | I67: =ROUND(E67*F67,2) -> 11177.15 | J67: =ROUND(E67*G67,2) -> 0 | K67: =ROUND(E67*H67,2) -> 0 | L67: =H67/F67 -> 0
H68: =G68+[1]BM_03!H68 -> 0
A69: =ORÇAMENTO!A62 -> 6.2 | B69: VIDRO | H69: =G69+[1]BM_03!H69 -> 0
A70: =ORÇAMENTO!A63 -> 6.2.1 | B70: =ORÇAMENTO!D63 -> Porta em vidro temperado 10mm, incolor,inclusive ferragens de fixação e instalação, exclusive puxador. | C70: =ORÇAMENTO!E63 -> m² | E70: =ORÇAMENTO!G63*26.63%+ORÇAMENTO!G63 -> 668.37847 | F70: =ORÇAMENTO!F63 -> 23.1 | H70: =G70+[1]BM_03!H70 -> 0 | I70: =ROUND(E70*F70,2) -> 15439.54 | J70: =ROUND(E70*G70,2) -> 0 | K70: =ROUND(E70*H70,2) -> 0 | L70: =H70/F70 -> 0
A71: =ORÇAMENTO!A64 -> 6.2.2 | B71: =ORÇAMENTO!D64 -> PORTA DE CORRER DE ALUMÍNIO, COM DUAS FOLHAS PARA VIDRO, INCLUSO VIDRO LISO INCOLOR, FECHADURA E PUXADOR, SEM ALIZAR. AF_12/2019 | C71: =ORÇAMENTO!E64 -> m² | E71: =ORÇAMENTO!G64*26.63%+ORÇAMENTO!G64 -> 591.96992 | F71: =ORÇAMENTO!F64 -> 25.08 | H71: =G71+[1]BM_03!H71 -> 0 | I71: =ROUND(E71*F71,2) -> 14846.61 | J71: =ROUND(E71*G71,2) -> 0 | K71: =ROUND(E71*H71,2) -> 0 | L71: =H71/F71 -> 0
H72: =G72+[1]BM_03!H72 -> 0
A73: =ORÇAMENTO!A66 -> 6.3 | B73: FERRAGENS | H73: =G73+[1]BM_03!H73 -> 0
A74: =ORÇAMENTO!A67 -> 6.3.1 | B74: =ORÇAMENTO!D67 -> Puxador duplo para porta, em alumínio polido, d = 1", I = 40mm, ref. 3008, Vesfer | C74: =ORÇAMENTO!E67 -> unid | E74: =ORÇAMENTO!G67*26.63%+ORÇAMENTO!G67 -> 254.33635 | F74: =ORÇAMENTO!F67 -> 2 | H74: =G74+[1]BM_03!H74 -> 0 | I74: =ROUND(E74*F74,2) -> 508.67 | J74: =ROUND(E74*G74,2) -> 0 | K74: =ROUND(E74*H74,2) -> 0 | L74: =H74/F74 -> 0
A75: =ORÇAMENTO!A68 -> 6.3.2 | B75: =ORÇAMENTO!D68 -> TARJETA TIPO LIVRE/OCUPADO PARA PORTA DE BANHEIRO. AF_12/2019 | C75: =ORÇAMENTO!E68 -> unid | E75: =ORÇAMENTO!G68*26.63%+ORÇAMENTO!G68 -> 83.44917 | F75: =ORÇAMENTO!F68 -> 6 | H75: =G75+[1]BM_03!H75 -> 0 | I75: =ROUND(E75*F75,2) -> 500.7 | J75: =ROUND(E75*G75,2) -> 0 | K75: =ROUND(E75*H75,2) -> 0 | L75: =H75/F75 -> 0
H76: =G76+[1]BM_03!H76 -> 0
A77: =ORÇAMENTO!A70 -> 7 | B77: REVESTIMENTO | H77: =G77+[1]BM_03!H77 -> 0
A78: =ORÇAMENTO!A71 -> 7.1 | B78: =ORÇAMENTO!D71 -> MASSA ÚNICA, PARA RECEBIMENTO DE PINTURA, EM ARGAMASSA TRAÇO 1:2:8, PREPARO MECÂNICO COM BETONEIRA 400L, APLICADA MANUALMENTE EM FACES INTERNAS DE PAREDES, ESPESSURA DE 20MM, COM EXECUÇÃO DE TALISCAS. AF_06/2014 | C78: =ORÇAMENTO!E71 -> m² | E78: =ORÇAMENTO!G71*26.63%+ORÇAMENTO!G71 -> 31.619511 | F78: =ORÇAMENTO!F71 -> 418.9 | G78: =MEM_04!L472 -> 152.165 | H78: =G78+[1]BM_03!H78 -> 174.465 | I78: =ROUND(E78*F78,2) -> 13245.41 | J78: =ROUND(E78*G78,2) -> 4811.38 | K78: =ROUND(E78*H78,2) -> 5516.5 | L78: =H78/F78 -> 0.41648365
A79: =ORÇAMENTO!A72 -> 7.2 | B79: =ORÇAMENTO!D72 -> CHAPISCO APLICADO EM ALVENARIAS E ESTRUTURAS DE CONCRETO INTERNAS, COM COLHER DE PEDREIRO. ARGAMASSA TRAÇO 1:3 COM PREPARO EM BETONEIRA 400L. AF_06/2014 | C79: =ORÇAMENTO!E72 -> m² | E79: =ORÇAMENTO!G72*26.63%+ORÇAMENTO!G72 -> 3.786237 | F79: =ORÇAMENTO!F72 -> 418.9 | G79: =MEM_04!L472 -> 152.165 | H79: =G79+[1]BM_03!H79 -> 289.815 | I79: =ROUND(E79*F79,2) -> 1586.05 | J79: =ROUND(E79*G79,2) -> 576.13 | K79: =ROUND(E79*H79,2) -> 1097.31 | L79: =H79/F79 -> 0.6918477
A80: =ORÇAMENTO!A73 -> 7.3 | B80: procurar sinapi | C80: =ORÇAMENTO!E73 -> m² | E80: =ORÇAMENTO!G73*26.63%+ORÇAMENTO!G73 -> 77.712831 | F80: =ORÇAMENTO!F73 -> 423.52 | H80: =G80+[1]BM_03!H80 -> 0 | I80: =ROUND(E80*F80,2) -> 32912.94 | J80: =ROUND(E80*G80,2) -> 0 | K80: =ROUND(E80*H80,2) -> 0 | L80: =H80/F80 -> 0
A81: =ORÇAMENTO!A74 -> 7.4 | B81: procurar orsi | C81: =ORÇAMENTO!E74 -> m² | E81: =ORÇAMENTO!G74*26.63%+ORÇAMENTO!G74 -> 507.91293 | F81: =ORÇAMENTO!F74 -> 99.65 | H81: =G81+[1]BM_03!H81 -> 0 | I81: =ROUND(E81*F81,2) -> 50613.52 | J81: =ROUND(E81*G81,2) -> 0 | K81: =ROUND(E81*H81,2) -> 0 | L81: =H81/F81 -> 0
H82: =G82+[1]BM_03!H82 -> 0
A83: =ORÇAMENTO!A76 -> 8 | B83: PAVIMENTAÇÃO | H83: =G83+[1]BM_03!H83 -> 0
A84: =ORÇAMENTO!A77 -> 8.1 | B84: =ORÇAMENTO!D77 -> CONTRAPISO EM ARGAMASSA TRAÇO 1:4 (CIMENTO E AREIA), PREPARO MECÂNICO COM BETONEIRA 400 L, APLICADO EM ÁREAS SECAS SOBRE LAJE, ADERIDO, ACABAMENTO NÃO REFORÇADO, ESPESSURA 2CM. AF_07/2021 | C84: =ORÇAMENTO!E77 -> m² | E84: =ORÇAMENTO!G77*26.63%+ORÇAMENTO!G77 -> 28.23849 | F84: =ORÇAMENTO!F77 -> 774.83 | H84: =G84+[1]BM_03!H84 -> 0 | I84: =ROUND(E84*F84,2) -> 21880.03 | J84: =ROUND(E84*G84,2) -> 0 | K84: =ROUND(E84*H84,2) -> 0 | L84: =H84/F84 -> 0
A85: =ORÇAMENTO!A78 -> 8.2 | B85: =ORÇAMENTO!D78 -> REVESTIMENTO CERÂMICO PARA PISO COM PLACAS TIPO PORCELANATO DE DIMENSÕES 60X60 CM APLICADA EM AMBIENTES DE ÁREA MAIOR QUE 10 M². AF_06/2014 | C85: =ORÇAMENTO!E78 -> m² | E85: =ORÇAMENTO!G78*26.63%+ORÇAMENTO!G78 -> 184.01872 | F85: =ORÇAMENTO!F78 -> 774.83 | H85: =G85+[1]BM_03!H85 -> 0 | I85: =ROUND(E85*F85,2) -> 142583.22 | J85: =ROUND(E85*G85,2) -> 0 | K85: =ROUND(E85*H85,2) -> 0 | L85: =H85/F85 -> 0
A86: =ORÇAMENTO!A79 -> 8.3 | B86: =ORÇAMENTO!D79 -> PLANTIO DE GRAMA EM PLACAS. AF_05/2018 | C86: =ORÇAMENTO!E79 -> m² | E86: =ORÇAMENTO!G79*26.63%+ORÇAMENTO!G79 -> 16.550541 | F86: =ORÇAMENTO!F79 -> 176.89 | H86: =G86+[1]BM_03!H86 -> 0 | I86: =ROUND(E86*F86,2) -> 2927.63 | J86: =ROUND(E86*G86,2) -> 0 | K86: =ROUND(E86*H86,2) -> 0 | L86: =H86/F86 -> 0
A87: =ORÇAMENTO!A80 -> 8.4 | B87: =ORÇAMENTO!D80 -> RECOMPOSIÇÃO DE PAVIMENTO EM PARALELEPÍPEDOS, REJUNTAMENTO COM ARGAMASSA, COM REAPROVEITAMENTO DOS PARALELEPÍPEDOS, PARA O FECHAMENTO DE VALAS - INCLUSO RETIRADA E COLOCAÇÃO DO MATERIAL. AF_12/2020 | C87: =ORÇAMENTO!E80 -> m² | E87: =ORÇAMENTO!G80*26.63%+ORÇAMENTO!G80 -> 57.312738 | F87: =ORÇAMENTO!F80 -> 155.13 | H87: =G87+[1]BM_03!H87 -> 0 | I87: =ROUND(E87*F87,2) -> 8890.93 | J87: =ROUND(E87*G87,2) -> 0 | K87: =ROUND(E87*H87,2) -> 0 | L87: =H87/F87 -> 0
H88: =G88+[1]BM_03!H88 -> 0
A89: =ORÇAMENTO!A82 -> 9 | B89: INSTALAÇÕES HIDRO-SANITÁRIAS-PLUVIAL-INCÊNDIO | H89: =G89+[1]BM_03!H89 -> 0
A90: =ORÇAMENTO!A83 -> 9.1 | B90: SISTEMA PREDIAL DE ESGOTO SANITÁRIO -NBR 9160 | H90: =G90+[1]BM_03!H90 -> 0
A91: =ORÇAMENTO!A84 -> 9.1.1 | B91: =ORÇAMENTO!D84 -> CAIXA SIFONADA, PVC, DN 100 X 100 X 50 MM, JUNTA ELÁSTICA, FORNECIDA E INSTALADA EM RAMAL DE DESCARGA OU EM RAMAL DE ESGOTO SANITÁRIO. AF_12/2014 | C91: =ORÇAMENTO!E84 -> unid | E91: =ORÇAMENTO!G84*26.63%+ORÇAMENTO!G84 -> 41.040783 | F91: =ORÇAMENTO!F84 -> 28 | G91: =MEM_04!L41 -> 0 | H91: =G91+[1]BM_03!H91 -> 20 | I91: =ROUND(E91*F91,2) -> 1149.14 | J91: =ROUND(E91*G91,2) -> 0 | K91: =ROUND(E91*H91,2) -> 820.82 | L91: =H91/F91 -> 0.71428571
A92: =ORÇAMENTO!A85 -> 9.1.2 | B92: =ORÇAMENTO!D85 -> JOELHO 90 GRAUS, PVC, SERIE NORMAL, ESGOTO PREDIAL, DN 100 MM, JUNTA ELÁSTICA, FORNECIDO E INSTALADO EM RAMAL DE DESCARGA OU RAMAL DE ESGOTO SANITÁRIO. AF_12/2014 | C92: =ORÇAMENTO!E85 -> unid | E92: =ORÇAMENTO!G85*26.63%+ORÇAMENTO!G85 -> 26.5923 | F92: =ORÇAMENTO!F85 -> 13 | H92: =G92+[1]BM_03!H92 -> 10 | I92: =ROUND(E92*F92,2) -> 345.7 | J92: =ROUND(E92*G92,2) -> 0 | K92: =ROUND(E92*H92,2) -> 265.92 | L92: =H92/F92 -> 0.76923077
A93: =ORÇAMENTO!A86 -> 9.1.3 | B93: =ORÇAMENTO!D86 -> JOELHO 90 GRAUS, PVC, SERIE NORMAL, ESGOTO PREDIAL, DN 40 MM, JUNTA SOLDÁVEL, FORNECIDO E INSTALADO EM RAMAL DE DESCARGA OU RAMAL DE ESGOTO SANITÁRIO. AF_12/2014 | C93: =ORÇAMENTO!E86 -> unid | E93: =ORÇAMENTO!G86*26.63%+ORÇAMENTO!G86 -> 10.712898 | F93: =ORÇAMENTO!F86 -> 63 | H93: =G93+[1]BM_03!H93 -> 50 | I93: =ROUND(E93*F93,2) -> 674.91 | J93: =ROUND(E93*G93,2) -> 0 | K93: =ROUND(E93*H93,2) -> 535.64 | L93: =H93/F93 -> 0.79365079
A94: =ORÇAMENTO!A87 -> 9.1.4 | B94: =ORÇAMENTO!D87 -> JOELHO 90 GRAUS, PVC, SERIE NORMAL, ESGOTO PREDIAL, DN 50 MM, JUNTA ELÁSTICA, FORNECIDO E INSTALADO EM RAMAL DE DESCARGA OU RAMAL DE ESGOTO SANITÁRIO. AF_12/2014 | C94: =ORÇAMENTO!E87 -> unid | E94: =ORÇAMENTO!G87*26.63%+ORÇAMENTO!G87 -> 11.295396 | F94: =ORÇAMENTO!F87 -> 38 | H94: =G94+[1]BM_03!H94 -> 30 | I94: =ROUND(E94*F94,2) -> 429.23 | J94: =ROUND(E94*G94,2) -> 0 | K94: =ROUND(E94*H94,2) -> 338.86 | L94: =H94/F94 -> 0.78947368
A95: =ORÇAMENTO!A88 -> 9.1.5 | B95: =ORÇAMENTO!D88 -> JOELHO 45 GRAUS, PVC, SERIE NORMAL, ESGOTO PREDIAL, DN 40 MM, JUNTA SOLDÁVEL, FORNECIDO E INSTALADO EM RAMAL DE DESCARGA OU RAMAL DE ESGOTO SANITÁRIO. AF_12/2014 | C95: =ORÇAMENTO!E88 -> unid | E95: =ORÇAMENTO!G88*26.63%+ORÇAMENTO!G88 -> 6.96465 | F95: =ORÇAMENTO!F88 -> 30 | H95: =G95+[1]BM_03!H95 -> 20 | I95: =ROUND(E95*F95,2) -> 208.94 | J95: =ROUND(E95*G95,2) -> 0 | K95: =ROUND(E95*H95,2) -> 139.29 | L95: =H95/F95 -> 0.66666667
A96: =ORÇAMENTO!A89 -> 9.1.6 | B96: =ORÇAMENTO!D89 -> JOELHO 45 GRAUS, PVC, SERIE NORMAL, ESGOTO PREDIAL, DN 50 MM, JUNTA ELÁSTICA, FORNECIDO E INSTALADO EM RAMAL DE DESCARGA OU RAMAL DE ESGOTO SANITÁRIO. AF_12/2014 | C96: =ORÇAMENTO!E89 -> unid | E96: =ORÇAMENTO!G89*26.63%+ORÇAMENTO!G89 -> 12.181806 | F96: =ORÇAMENTO!F89 -> 25 | H96: =G96+[1]BM_03!H96 -> 20 | I96: =ROUND(E96*F96,2) -> 304.55 | J96: =ROUND(E96*G96,2) -> 0 | K96: =ROUND(E96*H96,2) -> 243.64 | L96: =H96/F96 -> 0.8
A97: =ORÇAMENTO!A90 -> 9.1.7 | B97: =ORÇAMENTO!D90 -> JOELHO 45 GRAUS, PVC, SERIE NORMAL, ESGOTO PREDIAL, DN 100 MM, JUNTA ELÁSTICA, FORNECIDO E INSTALADO EM RAMAL DE DESCARGA OU RAMAL DE ESGOTO SANITÁRIO. AF_12/2014 | C97: =ORÇAMENTO!E90 -> unid | E97: =ORÇAMENTO!G90*26.63%+ORÇAMENTO!G90 -> 26.503659 | F97: =ORÇAMENTO!F90 -> 11 | H97: =G97+[1]BM_03!H97 -> 6 | I97: =ROUND(E97*F97,2) -> 291.54 | J97: =ROUND(E97*G97,2) -> 0 | K97: =ROUND(E97*H97,2) -> 159.02 | L97: =H97/F97 -> 0.54545455
A98: =ORÇAMENTO!A91 -> 9.1.8 | B98: =ORÇAMENTO!D91 -> JUNÇÃO SIMPLES, PVC, SERIE NORMAL, ESGOTO PREDIAL, DN 100 X 100 MM, JUNTA ELÁSTICA, FORNECIDO E INSTALADO EM RAMAL DE DESCARGA OU RAMAL DE ESGOTO SANITÁRIO. AF_12/2014 | C98: =ORÇAMENTO!E91 -> unid | E98: =ORÇAMENTO!G91*26.63%+ORÇAMENTO!G91 -> 53.81775 | F98: =ORÇAMENTO!F91 -> 2 | H98: =G98+[1]BM_03!H98 -> 2 | I98: =ROUND(E98*F98,2) -> 107.64 | J98: =ROUND(E98*G98,2) -> 0 | K98: =ROUND(E98*H98,2) -> 107.64 | L98: =H98/F98 -> 1
A99: =ORÇAMENTO!A92 -> 9.1.9 | B99: =ORÇAMENTO!D92 -> Junção simples em pvc rígido soldável, para esgoto primário, diâm = 75 x 50 mm. | C99: =ORÇAMENTO!E92 -> unid | E99: =ORÇAMENTO!G92*26.63%+ORÇAMENTO!G92 -> 41.749911 | F99: =ORÇAMENTO!F92 -> 3 | H99: =G99+[1]BM_03!H99 -> 3 | I99: =ROUND(E99*F99,2) -> 125.25 | J99: =ROUND(E99*G99,2) -> 0 | K99: =ROUND(E99*H99,2) -> 125.25 | L99: =H99/F99 -> 1
A100: =ORÇAMENTO!A93 -> 9.1.10 | B100: =ORÇAMENTO!D93 -> Junção simples em pvc rígido soldável, para esgoto primário, diâm = 100 x 50 mm. | C100: =ORÇAMENTO!E93 -> unid | E100: =ORÇAMENTO!G93*26.63%+ORÇAMENTO!G93 -> 52.310853 | F100: =ORÇAMENTO!F93 -> 17 | H100: =G100+[1]BM_03!H100 -> 10 | I100: =ROUND(E100*F100,2) -> 889.28 | J100: =ROUND(E100*G100,2) -> 0 | K100: =ROUND(E100*H100,2) -> 523.11 | L100: =H100/F100 -> 0.58823529
A101: =ORÇAMENTO!A94 -> 9.1.11 | B101: =ORÇAMENTO!D94 -> TE, PVC, SERIE NORMAL, ESGOTO PREDIAL, DN 50 X 50 MM, JUNTA ELÁSTICA, FORNECIDO E INSTALADO EM RAMAL DE DESCARGA OU RAMAL DE ESGOTO SANITÁRIO. AF_12/2014 | C101: =ORÇAMENTO!E94 -> unid | E101: =ORÇAMENTO!G94*26.63%+ORÇAMENTO!G94 -> 22.096935 | F101: =ORÇAMENTO!F94 -> 28 | H101: =G101+[1]BM_03!H101 -> 20 | I101: =ROUND(E101*F101,2) -> 618.71 | J101: =ROUND(E101*G101,2) -> 0 | K101: =ROUND(E101*H101,2) -> 441.94 | L101: =H101/F101 -> 0.71428571
A102: =ORÇAMENTO!A95 -> 9.1.12 | B102: =ORÇAMENTO!D95 -> TE, PVC, SERIE NORMAL, ESGOTO PREDIAL, DN 100 X 100 MM, JUNTA ELÁSTICA, FORNECIDO E INSTALADO EM RAMAL DE DESCARGA OU RAMAL DE ESGOTO SANITÁRIO. AF_12/2014 | C102: =ORÇAMENTO!E95 -> unid | E102: =ORÇAMENTO!G95*26.63%+ORÇAMENTO!G95 -> 45.662778 | F102: =ORÇAMENTO!F95 -> 5 | H102: =G102+[1]BM_03!H102 -> 5 | I102: =ROUND(E102*F102,2) -> 228.31 | J102: =ROUND(E102*G102,2) -> 0 | K102: =ROUND(E102*H102,2) -> 228.31 | L102: =H102/F102 -> 1
A103: =ORÇAMENTO!A96 -> 9.1.13 | B103: =ORÇAMENTO!D96 -> TUBO PVC, SERIE NORMAL, ESGOTO PREDIAL, DN 100 MM, FORNECIDO E INSTALADO EM RAMAL DE DESCARGA OU RAMAL DE ESGOTO SANITÁRIO. AF_12/2014 | C103: =ORÇAMENTO!E96 -> m | E103: =ORÇAMENTO!G96*26.63%+ORÇAMENTO!G96 -> 57.287412 | F103: =ORÇAMENTO!F96 -> 190 | H103: =G103+[1]BM_03!H103 -> 130 | I103: =ROUND(E103*F103,2) -> 10884.61 | J103: =ROUND(E103*G103,2) -> 0 | K103: =ROUND(E103*H103,2) -> 7447.36 | L103: =H103/F103 -> 0.68421053
... A118: =ORÇAMENTO!A111 -> 9.1.28 | B118: =ORÇAMENTO!D111 -> REDUÇÃO EXCÊNTRICA, PVC, SERIE R, ÁGUA PLUVIAL, DN 75 X 50 MM, JUNTA ELÁSTICA, FORNECIDO E INSTALADO EM RAMAL DE ENCAMINHAMENTO. AF_12/2014 | C118: =ORÇAMENTO!E111 -> unid | E118: =ORÇAMENTO!G111*26.63%+ORÇAMENTO!G111 -> 17.778852 | F118: =ORÇAMENTO!F111 -> 3 | H118: =G118+[1]BM_03!H118 -> 0 | I118: =ROUND(E118*F118,2) -> 53.34 | J118: =ROUND(E118*G118,2) -> 0 | K118: =ROUND(E118*H118,2) -> 0 | L118: =H118/F118 -> 0
H119: =G119+[1]BM_03!H119 -> 0
A120: =ORÇAMENTO!A113 -> 9.2 | B120: SISTEMA PREDIAL DE ÁGUA FRIA - NBR 5626 | H120: =G120+[1]BM_03!H120 -> 0
...

Sheet MEM_04
C1: MEMÓRIA DE CÁLCULO - QUANTIDADES
C2: Obra: | H2: Proprietário:
C3: CENTRO DE ONCOLOGIA DE SOUSA | H3: Prefeitura Municipal de Sousa
C4: Local: | H4: Responsável Técnico:
C5: RUA LUIZ PEREIRA DA SILVA, S/N, CENTRO, SOUSA-PB
A7: Item | B7: Descrição | D7: Vez | E7: Dados | K7: Resultado | M7: Un.
E8: X1 | F8: X2 | G8: Y1 | H8: Y2 | I8: Z1 | J8: Z2 | K8: Parcial | L8: Total
B10: SERVIÇOS PRELIMINARES
A12: 1.2 | B12: =BM_04!B20 -> DEMOLIÇÃO DE ALVENARIA DE BLOCOFURADO, DE FORMA MANUAL, SEM REAPROVEITAMENTO
L13: =SUM(L14) -> 3.0625
B14: RECEPÇÃO | D14: 1 | E14: 3.5 | G14: 2.5 | I14: 0.35 | K14: =E14*G14*I14 -> 3.0625 | L14: =K14*D14 -> 3.0625
A16: 1.3 | B16: =BM_04!B21 -> Demolição de piso de alta resistência | M16: M2
L17: =SUM(L18:L23) -> 202.28
B18: PEQUENOS PROCEDIMENTO | D18: 1 | E18: 5.2 | G18: 5.6 | K18: =E18*G18 -> 29.12 | L18: =K18*D18 -> 29.12
B19: SALA DE COLETA | D19: 1 | E19: 5.2 | G19: 5.6 | K19: =E19*G19 -> 29.12 | L19: =K19*D19 -> 29.12
B20: SALA DE OBSERVAÇÃO | D20: 1 | E20: 5.2 | G20: 5.6 | K20: =E20*G20 -> 29.12 | L20: =K20*D20 -> 29.12
B21: SALA DE OBSERVAÇÃO | D21: 1 | E21: 5.2 | G21: 5.6 | K21: =E21*G21 -> 29.12 | L21: =K21*D21 -> 29.12
B22: CIRCULAÇÃO | D22: 1 | E22: 2 | G22: 22.9 | K22: =E22*G22 -> 45.8 | L22: =K22*D22 -> 45.8
B23: CIRCULAÇÃO | D23: 1 | E23: 2 | G23: 20 | K23: =E23*G23 -> 40 | L23: =K23*D23 -> 40
B25: =BM_04!B25 -> INFRA ESTRUTURA E SUPERESTRUTURA
A27: 2.3 | B27: =BM_04!B28 -> LASTRO DE CONCRETO MAGRO, APLICADO EM BLOCOS DE COROAMENTO OU SAPATAS, ESPESSURA DE 5 CM. AF_08/2017 | L27: M²
A28: DEDUÇÃO PARA NÃO ULTRAPASSAR O CONTRATO | K28: =19.24-21.16 -> -1.92
L29: =K28+L30 -> -1.7763568e-15
L30: =SUM(L31:L33) -> 1.92
B31: S52 | D31: 1 | E31: 0.8 | G31: 0.8 | K31: =ROUND(E31*G31,2) -> 0.64 | L31: =K31*D31 -> 0.64
B32: S53 | D32: 1 | E32: 0.8 | G32: 0.8 | K32: =ROUND(E32*G32,2) -> 0.64 | L32: =K32*D32 -> 0.64
B33: S54 | D33: 1 | E33: 0.8 | G33: 0.8 | K33: =ROUND(E33*G33,2) -> 0.64 | L33: =K33*D33 -> 0.64
A35: 2.4 | B35: =BM_04!B29 -> CONCRETO FCK = 25MPA, TRAÇO 1:2,3:2,7 (EM MASSA SECA DE CIMENTO/ AREIA MÉDIA/ BRITA 1) - PREPARO MECÂNICO COM BETONEIRA 600 L. AF_05/2021 | L35: M³
B36: SAPATAS | L36: =SUM(L37:L39) -> 0.36
B37: S52 | D37: 1 | E37: 0.7 | G37: 0.7 | I37: 0.25 | K37: =ROUND(E37*G37*I37,2) -> 0.12 | L37: =K37*D37 -> 0.12
B38: S53 | D38: 1 | E38: 0.7 | G38: 0.7 | I38: 0.25 | K38: =ROUND(E38*G38*I38,2) -> 0.12 | L38: =K38*D38 -> 0.12
B39: S54 | D39: 1 | E39: 0.7 | G39: 0.7 | I39: 0.25 | K39: =ROUND(E39*G39*I39,2) -> 0.12 | L39: =K39*D39 -> 0.12
A41: 2.12 | B41: =BM_04!B37 -> ARMAÇÃO DE PILAR OU VIGA DE UMA ESTRUTURA CONVENCIONAL DE CONCRETO ARMADO EM UM EDIFÍCIO DE MÚLTIPLOS PAVIMENTOS UTILIZANDO AÇO CA-60 DE 5,0 MM - MONTAGEM. AF_12/2015
E42: PILAR | F42: TOCO | L42: =SUM(L43:L106) -> 216.27
A43: 1 | B43: P1 | D43: 1 | E43: 2.6 | G43: =0.15+0.15+0.35+0.35+0.05 -> 1.05 | K43: =ROUND((E43+F43)/0.15,2)*G43 -> 18.1965 | L43: =ROUND(K43*0.154,2) -> 2.8 | N43: P53 | P43: 1
A44: 2 | B44: P2 | D44: 1 | E44: 2.6 | G44: =0.15+0.15+0.35+0.35+0.05 -> 1.05 | K44: =ROUND((E44+F44)/0.15,2)*G44 -> 18.1965 | L44: =ROUND(K44*0.154,2) -> 2.8 | N44: P54 | P44: 1
A45: 4 | B45: P4 | D45: 1 | E45: 2.6 | G45: =0.25+0.25+0.07+0.07+0.05 -> 0.69 | K45: =ROUND((E45+F45)/0.15,2)*G45 -> 11.9577 | L45: =ROUND(K45*0.154,2) -> 1.84 | N45: P56 | P45: 1
A46: 5 | B46: P5 | D46: 1 | E46: 2.6 | G46: =0.25+0.25+0.07+0.07+0.05 -> 0.69 | K46: =ROUND((E46+F46)/0.15,2)*G46 -> 11.9577 | L46: =ROUND(K46*0.154,2) -> 1.84 | N46: P57 | P46: 1
A47: 6 | B47: P8 | D47: 1 | E47: 2.6 | G47: =0.25+0.25+0.07+0.07+0.05 -> 0.69 | K47: =ROUND((E47+F47)/0.15,2)*G47 -> 11.9577 | L47: =ROUND(K47*0.154,2) -> 1.84 | N47: P58 | P47: 1
A48: 7 | B48: P9 | D48: 1 | E48: 2.6 | G48: =0.25+0.25+0.15+0.15+0.05 -> 0.85 | K48: =ROUND((E48+F48)/0.15,2)*G48 -> 14.7305 | L48: =ROUND(K48*0.154,2) -> 2.27 | N48: P59 | P48: 1
A49: 8 | B49: P10 | D49: 1 | E49: 2.6 | G49: =0.25+0.25+0.07+0.07+0.05 -> 0.69 | K49: =ROUND((E49+F49)/0.15,2)*G49 -> 11.9577 | L49: =ROUND(K49*0.154,2) -> 1.84 | N49: P60 | P49: 1
A50: 9 | B50: P11 | D50: 1 | E50: 2.6 | G50: =0.25+0.25+0.07+0.07+0.05 -> 0.69 | K50: =ROUND((E50+F50)/0.15,2)*G50 -> 11.9577 | L50: =ROUND(K50*0.154,2) -> 1.84 | N50: P61 | P50: 1
A51: 15 | B51: P19 | D51: 1 | E51: 2.6 | G51: =0.25+0.25+0.07+0.07+0.05 -> 0.69 | K51: =ROUND((E51+F51)/0.15,2)*G51 -> 11.9577 | L51: =ROUND(K51*0.154,2) -> 1.84
A52: 16 | B52: P20 | D52: 1 | E52: 2.6 | G52: =0.35+0.35+0.09+0.09+0.05 -> 0.93 | K52: =ROUND((E52+F52)/0.15,2)*G52 -> 16.1169 | L52: =ROUND(K52*0.154,2) -> 2.48
A53: 17 | B53: P21 | D53: 1 | E53: 2.6 | G53: =0.35+0.35+0.09+0.09+0.05 -> 0.93 | K53: =ROUND((E53+F53)/0.15,2)*G53 -> 16.1169 | L53: =ROUND(K53*0.154,2) -> 2.48
A54: 18 | B54: P22 | D54: 1 | E54: 2.6 | G54: =0.25+0.25+0.07+0.07+0.05 -> 0.69 | K54: =ROUND((E54+F54)/0.15,2)*G54 -> 11.9577 | L54: =ROUND(K54*0.154,2) -> 1.84
A55: 19 | B55: P23 | D55: 1 | E55: 2.6 | G55: =0.25+0.25+0.07+0.07+0.05 -> 0.69 | K55: =ROUND((E55+F55)/0.15,2)*G55 -> 11.9577 | L55: =ROUND(K55*0.154,2) -> 1.84
A56: 20 | B56: P24 | D56: 1 | E56: 2.6 | G56: =0.25+0.25+0.07+0.07+0.05 -> 0.69 | K56: =ROUND((E56+F56)/0.15,2)*G56 -> 11.9577 | L56: =ROUND(K56*0.154,2) -> 1.84
A57: 21 | B57: P25 | D57: 1 | E57: 2.6 | G57: =0.25+0.25+0.07+0.07+0.05 -> 0.69 | K57: =ROUND((E57+F57)/0.15,2)*G57 -> 11.9577 | L57: =ROUND(K57*0.154,2) -> 1.84
A58: 22 | B58: P26 | D58: 1 | E58: 2.6 | G58: =0.35+0.35+0.09+0.09+0.05 -> 0.93 | K58: =ROUND((E58+F58)/0.15,2)*G58 -> 16.1169 | L58: =ROUND(K58*0.154,2) -> 2.48
A59: 23 | B59: P27 | D59: 1 | E59: 2.6 | G59: =0.25+0.25+0.07+0.07+0.05 -> 0.69 | K59: =ROUND((E59+F59)/0.15,2)*G59 -> 11.9577 | L59: =ROUND(K59*0.154,2) -> 1.84
A60: 24 | B60: P28 | D60: 1 | E60: 2.6 | G60: =0.25+0.25+0.07+0.07+0.05 -> 0.69 | K60: =ROUND((E60+F60)/0.15,2)*G60 -> 11.9577 | L60: =ROUND(K60*0.154,2) -> 1.84
A61: 25 | B61: P29 | D61: 1 | E61: 2.6 | G61: =0.25+0.25+0.07+0.07+0.05 -> 0.69 | K61: =ROUND((E61+F61)/0.15,2)*G61 -> 11.9577 | L61: =ROUND(K61*0.154,2) -> 1.84
A62: 26 | B62: P30 | D62: 1 | E62: 2.6 | G62: =0.25+0.25+0.07+0.07+0.05 -> 0.69 | K62: =ROUND((E62+F62)/0.15,2)*G62 -> 11.9577 | L62: =ROUND(K62*0.154,2) -> 1.84
A63: 27 | B63: P36 | D63: 1 | E63: 2.6 | G63: =0.35+0.35+0.09+0.09+0.05 -> 0.93 | K63: =ROUND((E63+F63)/0.15,2)*G63 -> 16.1169 | L63: =ROUND(K63*0.154,2) -> 2.48
A64: 28 | B64: P38 | D64: 1 | E64: 2.6 | G64: =0.35+0.35+0.09+0.09+0.05 -> 0.93 | K64: =ROUND((E64+F64)/0.15,2)*G64 -> 16.1169 | L64: =ROUND(K64*0.154,2) -> 2.48
A65: 29 | B65: P40 | D65: 1 | E65: 2.6 | G65: =0.35+0.35+0.09+0.09+0.05 -> 0.93 | K65: =ROUND((E65+F65)/0.15,2)*G65 -> 16.1169 | L65: =ROUND(K65*0.154,2) -> 2.48
A66: 30 | B66: P43 | D66: 1 | E66: 2.6 | G66: =0.35+0.35+0.09+0.09+0.05 -> 0.93 | K66: =ROUND((E66+F66)/0.15,2)*G66 -> 16.1169 | L66: =ROUND(K66*0.154,2) -> 2.48
A67: 31 | B67: P44 | D67: 1 | E67: 2.6 | G67: =0.35+0.35+0.09+0.09+0.05 -> 0.93 | K67: =ROUND((E67+F67)/0.15,2)*G67 -> 16.1169 | L67: =ROUND(K67*0.154,2) -> 2.48
A68: 32 | B68: P45 | D68: 1 | E68: 2.6 | G68: =0.35+0.35+0.09+0.09+0.05 -> 0.93 | K68: =ROUND((E68+F68)/0.15,2)*G68 -> 16.1169 | L68: =ROUND(K68*0.154,2) -> 2.48
A69: 33 | B69: P46 | D69: 1 | E69: 2.6 | G69: =0.35+0.35+0.09+0.09+0.05 -> 0.93 | K69: =ROUND((E69+F69)/0.15,2)*G69 -> 16.1169 | L69: =ROUND(K69*0.154,2) -> 2.48
A70: 34 | B70: P47 | D70: 1 | E70: 2.6 | G70: =0.35+0.35+0.09+0.09+0.05 -> 0.93 | K70: =ROUND((E70+F70)/0.15,2)*G70 -> 16.1169 | L70: =ROUND(K70*0.154,2) -> 2.48
A71: 37 | B71: P51 | D71: 1 | E71: 3 | G71: =0.35+0.35+0.09+0.09+0.05 -> 0.93 | K71: =ROUND((E71+F71)/0.15,2)*G71 -> 18.6 | L71: =ROUND(K71*0.154,2) -> 2.86
B72: P52 | D72: 1 | E72: 2.6 | F72: 1.5 | G72: =0.25+0.25+0.07+0.07+0.05 -> 0.69 | K72: =ROUND((E72+F72)/0.15,2)*G72 -> 18.8577 | L72: =ROUND(K72*0.154,2) -> 2.9
B73: P53 | D73: 1 | E73: 2.6 | F73: 1.5 | G73: =0.25+0.25+0.07+0.07+0.05 -> 0.69 | K73: =ROUND((E73+F73)/0.15,2)*G73 -> 18.8577 | L73: =ROUND(K73*0.154,2) -> 2.9
B74: P54 | D74: 1 | E74: 2.6 | F74: 1.5 | G74: =0.25+0.25+0.07+0.07+0.05 -> 0.69 | K74: =ROUND((E74+F74)/0.15,2)*G74 -> 18.8577 | L74: =ROUND(K74*0.154,2) -> 2.9
B76: VIGA SUPERIOR
D77: 1 | E77: 4.2 | G77: =0.15+0.15+0.15+0.15+0.05 -> 0.65 | K77: =ROUND(E77/0.15,2)*G77 -> 18.2 | L77: =ROUND(K77*0.154,2) -> 2.8
D78: 2 | E78: 2.5 | G78: =0.15+0.15+0.15+0.15+0.05 -> 0.65 | K78: =ROUND(E78/0.15,2)*G78 -> 10.8355 | L78: =ROUND(K78*0.154,2) -> 1.67
D79: 1 | E79: 6 | G79: =0.15+0.15+0.15+0.15+0.05 -> 0.65 | K79: =ROUND(E79/0.15,2)*G79 -> 26 | L79: =ROUND(K79*0.154,2) -> 4
D80: 1 | E80: 6 | G80: =0.15+0.15+0.15+0.15+0.05 -> 0.65 | K80: =ROUND(E80/0.15,2)*G80 -> 26 | L80: =ROUND(K80*0.154,2) -> 4
D81: 1 | E81: 2.1 | G81: =0.15+0.15+0.15+0.15+0.05 -> 0.65 | K81: =ROUND(E81/0.15,2)*G81 -> 9.1 | L81: =ROUND(K81*0.154,2) -> 1.4
D82: 1 | E82: 2.1 | G82: =0.15+0.15+0.15+0.15+0.05 -> 0.65 | K82: =ROUND(E82/0.15,2)*G82 -> 9.1 | L82: =ROUND(K82*0.154,2) -> 1.4
D83: 1 | E83: 2.1 | G83: =0.15+0.15+0.15+0.15+0.05 -> 0.65 | K83: =ROUND(E83/0.15,2)*G83 -> 9.1 | L83: =ROUND(K83*0.154,2) -> 1.4
D84: 1 | E84: 4.5 | G84: =0.15+0.15+0.15+0.15+0.05 -> 0.65 | K84: =ROUND(E84/0.15,2)*G84 -> 19.5 | L84: =ROUND(K84*0.154,2) -> 3
D85: 1 | E85: 4 | G85: =0.15+0.15+0.15+0.15+0.05 -> 0.65 | K85: =ROUND(E85/0.15,2)*G85 -> 17.3355 | L85: =ROUND(K85*0.154,2) -> 2.67
D86: 1 | E86: 2.3 | G86: =0.15+0.15+0.15+0.15+0.05 -> 0.65 | K86: =ROUND(E86/0.15,2)*G86 -> 9.9645 | L86: =ROUND(K86*0.154,2) -> 1.53
D87: 1 | E87: 2.75 | G87: =0.15+0.15+0.15+0.15+0.05 -> 0.65 | K87: =ROUND(E87/0.15,2)*G87 -> 11.9145 | L87: =ROUND(K87*0.154,2) -> 1.83
D88: 1 | E88: 2.75 | G88: =0.15+0.15+0.15+0.15+0.05 -> 0.65 | K88: =ROUND(E88/0.15,2)*G88 -> 11.9145 | L88: =ROUND(K88*0.154,2) -> 1.83
... D94: 1 | E94: 2.4 | G94: =0.15+0.15+0.15+0.15+0.05 -> 0.65 | K94: =ROUND(E94/0.15,2)*G94 -> 10.4 | L94: =ROUND(K94*0.154,2) -> 1.6
B95: RECEPÇÃO
B96: V19 | D96: 1 | E96: 4.4 | G96: 1.27 | K96: =ROUND(E96/0.12,2)*G96 -> 46.5709 | L96: =ROUND(K96*0.154,2) -> 7.17
B97: V20 | D97: 1 | E97: 3.95 | G97: 1.27 | K97: =ROUND(E97/0.12,2)*G97 -> 41.8084 | L97: =ROUND(K97*0.154,2) -> 6.44
B98: V21 | D98: 1 | E98: 20 | G98: 1.27 | K98: =ROUND(E98/0.12,2)*G98 -> 211.6709 | L98: =ROUND(K98*0.154,2) -> 32.6
B99: V23 | D99: 1 | E99: 6.62 | G99: 1.27 | K99: =ROUND(E99/0.12,2)*G99 -> 70.0659 | L99: =ROUND(K99*0.154,2) -> 10.79
B100: V35 | D100: 1 | E100: 4.56 | G100: 1.27 | K100: =ROUND(E100/0.12,2)*G100 -> 48.26 | L100: =ROUND(K100*0.154,2) -> 7.43
B101: V37 | D101: 1 | E101: 4.48 | G101: 1.27 | K101: =ROUND(E101/0.12,2)*G101 -> 47.4091 | L101: =ROUND(K101*0.154,2) -> 7.3
B102: V39 | D102: 1 | E102: 6.7 | G102: 1.27 | K102: =ROUND(E102/0.12,2)*G102 -> 70.9041 | L102: =ROUND(K102*0.154,2) -> 10.92
D103: 1 | E103: 2.5 | G103: 1.27 | K103: =ROUND(E103/0.12,2)*G103 -> 26.4541 | L103: =ROUND(K103*0.154,2) -> 4.07
D104: 1 | E104: 6.4 | G104: 1.27 | K104: =ROUND(E104/0.12,2)*G104 -> 67.7291 | L104: =ROUND(K104*0.154,2) -> 10.43
D105: 1 | E105: 4.1 | G105: 0.47 | K105: =ROUND(E105/0.12,2)*G105 -> 16.0599 | L105: =ROUND(K105*0.154,2) -> 2.47
B106: Verga | D106: 1 | E106: 1.65 | G106: 0.47 | K106: =ROUND(E106/0.12,2)*G106 -> 6.4625 | L106: =ROUND(K106*0.154,2) -> 1
A108: 2.10 | B108: =BM_04!B35 -> ARMAÇÃO DE PILAR OU VIGA DE UMA ESTRUTURA CONVENCIONAL DE CONCRETO ARMADO EM UM EDIFÍCIO DE MÚLTIPLOS PAVIMENTOS UTILIZANDO AÇO CA-50 DE 10,0 MM - MONTAGEM. AF_12/2015
E109: Altura PILAR | F109: Altura TOCO | G109: quanti. Barras | L109: =SUM(L110:L176) -> 554.43
A110: 1 | B110: P1 | D110: 1 | E110: 2.6 | G110: 4 | K110: =ROUND((E110+F110)*G110,2) -> 10.4 | L110: =ROUND(K110*0.617,2) -> 6.42
A111: 2 | B111: P2 | D111: 1 | E111: 2.6 | G111: 6 | K111: =ROUND((E111+F111)*G111,2) -> 15.6 | L111: =ROUND(K111*0.617,2) -> 9.63
A112: 4 | B112: P4 | D112: 1 | E112: 2.6 | G112: 4 | K112: =ROUND((E112+F112)*G112,2) -> 10.4 | L112: =ROUND(K112*0.617,2) -> 6.42
A113: 5 | B113: P5 | D113: 1 | E113: 2.6 | G113: 4 | K113: =ROUND((E113+F113)*G113,2) -> 10.4 | L113: =ROUND(K113*0.617,2) -> 6.42
A114: 6 | B114: P8 | D114: 1 | E114: 2.6 | G114: 4 | K114: =ROUND((E114+F114)*G114,2) -> 10.4 | L114: =ROUND(K114*0.617,2) -> 6.42
A115: 7 | B115: P9 | D115: 1 | E115: 2.6 | G115: 6 | K115: =ROUND((E115+F115)*G115,2) -> 15.6 | L115: =ROUND(K115*0.617,2) -> 9.63
...

Sheet RELATÓRIO FOTOGRAFICO
C1: RELATÓRIO FOTOGRÁFICO
C2: Obra: | H2: Proprietário:
C3: CENTRO DE ONCOLOGIA DE SOUSA | H3: Prefeitura Municipal de Sousa
C4: Local: | H4: Responsável Técnico:
C5: RUA LUIZ PEREIRA DA SILVA, S/N, CENTRO, SOUSA-PB
