Workbook

Sheet ORÇAMENTO
A2: PREFEITURA MUNICIPAL DE SOUSA
A3: PLANILHA ORÇAMENTÁRIA SINTÉTICA
A4: OBRA : CENTRO DE ONCOLOGIA DE SOUSA
A5: ENDEREÇO: RUA LUIZ PEREIRA DA SILVA, S/N, CENTRO, SOUSA-PB
A6: REFERÊNCIA: ORSE, SEINFRA-CE E SINAPI-PB(FEVEREIRO/2022) C/DESONERAÇÃO - ENCARGOS SOCIAIS : 86,59% (HORA) - 48,16 % (MÊS) | H6: BDI = 26,63%
A7: Empresa: COMPACTO CONSTRUÇÕES E SERVIÇOS - EIRELE - CNPJ: 09.545.520/0001-54 - Telefone: (83) 9 9117-7810 - Email: compactoconstrucoes1@gmail.com
A8: Responsável Técnico: LÚCIO LAURO BARBOSA - CREA/PB Nº 160.594.868-3
A9: ITEM | B9: FONTE | C9: CÓDIGO | D9: DISCRIMINAÇÃO DO SERVIÇOS | E9: UNID. | F9: QUANT. | G9: VALOR UNIT. (R$) | H9: VALOR TOTAL (R$)
A11: 1 | B11: SERVIÇOS PRELIMINARES | H11: =SUM(H12:H16) -> 18776.64 | J11: 0.965
A12: 1.1 | B12: ORSE | C12: 51 | D12: Placa de Obra em chapa de aço galvanizado, instalada - Rev 02 01/2022 | E12: m² | F12: 4.5 | G12: =L12 -> 334.14 | H12: =ROUND(F12*G12,2) -> 1503.63 | K12: 346.26 | L12: =ROUND(K12*$J$11,2) -> 334.14
A13: 1.2 | B13: SINAPI | C13: 97622 | D13: DEMOLIÇÃO DE ALVENARIA DE BLOCOFURADO, DE FORMA MANUAL, SEM REAPROVEITAMENTO | E13: m³ | F13: 63.41 | G13: =L13 -> 36.7 | H13: =ROUND(F13*G13,2) -> 2327.15 | K13: 38.03 | L13: =ROUND(K13*$J$11,2) -> 36.7
A14: 1.3 | B14: ORSE | C14: 3240 | D14: Demolição de piso de alta resistência | E14: m² | F14: 774.83 | G14: =L14 -> 16.44 | H14: =ROUND(F14*G14,2) -> 12738.21 | K14: 17.04 | L14: =ROUND(K14*$J$11,2) -> 16.44
A15: 1.4 | B15: SINAPI | C15: 97650 | D15: REMOÇÃO DE TRAMA DE MADEIRA PARA COBERTURA, DE FORMA MANUAL, SEM REAPROVEITAMENTO. AF 12/2017 | E15: m² | F15: 309.93 | G15: =L15 -> 4.75 | H15: =ROUND(F15*G15,2) -> 1472.17 | K15: 4.92 | L15: =ROUND(K15*$J$11,2) -> 4.75
A16: 1.5 | B16: SINAPI | C16: 100981 | D16: CARGA, MANOBRA E DESCARGA DE ENTULHO EM CAMINHÃO BASCULANTE 6 M³ - CARGA COM ESCAVADEIRA HIDRÁULICA (CAÇAMBA DE 0,80 M³/111 HP) E DESCARGA LIVRE (UNIDADE: M³). AF 07/2020 | E16: m³ | F16: 102.15 | G16: =L16 -> 7.2 | H16: =ROUND(F16*G16,2) -> 735.48 | K16: 7.46 | L16: =ROUND(K16*$J$11,2) -> 7.2
L17: =ROUND(K17*$J$11,2) -> 0
A18: 2 | B18: INFRA ESTRUTURA E SUPERESTRUTURA | H18: =SUM(H19:H34) -> 92960.22 | L18: =ROUND(K18*$J$11,2) -> 0
A19: 2.1 | B19: SINAPI | C19: 96523 | D19: ESCAVAÇÃO MANUAL PARA BLOCO DE COROAMENTO OU SAPATA (INCLUINDO ESCAVAÇÃO PARA COLOCAÇÃO DE FÔRMAS). AF_06/2017 | E19: m³ | F19: 28.86 | G19: =L19 -> 63.86 | H19: =ROUND(F19*G19,2) -> 1843 | K19: 66.18 | L19: =ROUND(K19*$J$11,2) -> 63.86
A20: 2.2 | B20: SINAPI | C20: 101964 | D20: LAJE PRÉ-MOLDADA UNIDIRECIONAL, BIAPOIADA, PARA FORRO, ENCHIMENTO EM CERÂMICA, VIGOTA CONVENCIONAL, ALTURA TOTAL DA LAJE (ENCHIMENTO+CAPA) = (8+3). AF_11/2020 | E20: m² | F20: 57.88 | G20: =L20 -> 141.66 | H20: =ROUND(F20*G20,2) -> 8199.28 | K20: 146.8 | L20: =ROUND(K20*$J$11,2) -> 141.66
A21: 2.3 | B21: SINAPI | C21: 96619 | D21: LASTRO DE CONCRETO MAGRO, APLICADO EM BLOCOS DE COROAMENTO OU SAPATAS, ESPESSURA DE 5 CM. AF_08/2017 | E21: m² | F21: 19.24 | G21: =L21 -> 22.75 | H21: =ROUND(F21*G21,2) -> 437.71 | K21: 23.57 | L21: =ROUND(K21*$J$11,2) -> 22.75
A22: 2.4 | B22: SINAPI | C22: 94971 | D22: CONCRETO FCK = 25MPA, TRAÇO 1:2,3:2,7 (EM MASSA SECA DE CIMENTO/ AREIA MÉDIA/ BRITA 1) - PREPARO MECÂNICO COM BETONEIRA 600 L. AF_05/2021 | E22: m³ | F22: 5.8 | G22: =L22 -> 353.29 | H22: =ROUND(F22*G22,2) -> 2049.08 | K22: 366.1 | L22: =ROUND(K22*$J$11,2) -> 353.29
A23: 2.5 | B23: SINAPI | C23: 94972 | D23: CONCRETO FCK = 30MPA, TRAÇO 1:2,1:2,5 (EM MASSA SECA DE CIMENTO/ AREIA MÉDIA/ BRITA 1) - PREPARO MECÂNICO COM BETONEIRA 600 L. AF_05/2021 | E23: m³ | F23: 30.1 | G23: =L23 -> 364.81 | H23: =ROUND(F23*G23,2) -> 10980.78 | K23: 378.04 | L23: =ROUND(K23*$J$11,2) -> 364.81
A24: 2.6 | B24: SINAPI | C24: 92873 | D24: LANÇAMENTO COM USO DE BALDES, ADENSAMENTO E ACABAMENTO DE CONCRETO EM ESTRUTURAS. AF_12/2015 | E24: m³ | F24: 35.9 | G24: =L24 -> 191.33 | H24: =ROUND(F24*G24,2) -> 6868.75 | K24: 198.27 | L24: =ROUND(K24*$J$11,2) -> 191.33
A25: 2.7 | B25: ORSE | C25: 90 | D25: Forma plana para fundações, em tábua de pinho, 07 usos. | E25: m² | F25: 19.3 | G25: =L25 -> 65.36 | H25: =ROUND(F25*G25,2) -> 1261.45 | K25: 67.73 | L25: =ROUND(K25*$J$11,2) -> 65.36
A26: 2.8 | B26: ORSE | C26: 3366 | D26: Forma plana para estruturas, em compensado plastificado de 12mm, 07 usos. | E26: m² | F26: 421.3 | G26: =L26 -> 55.18 | H26: =ROUND(F26*G26,2) -> 23247.33 | K26: 57.18 | L26: =ROUND(K26*$J$11,2) -> 55.18
A27: 2.9 | B27: SINAPI | C27: 92763 | D27: ARMAÇÃO DE PILAR OU VIGA DE UMA ESTRUTURA CONVENCIONAL DE CONCRETO ARMADO EM UM EDIFÍCIO DE MÚLTIPLOS PAVIMENTOS UTILIZANDO AÇO CA-50 DE 12,5 MM - MONTAGEM. AF_12/2015 | E27: kg | F27: 480.3 | G27: =L27 -> 10.32 | H27: =ROUND(F27*G27,2) -> 4956.7 | K27: 10.69 | L27: =ROUND(K27*$J$11,2) -> 10.32
A28: 2.10 | B28: SINAPI | C28: 92762 | D28: ARMAÇÃO DE PILAR OU VIGA DE UMA ESTRUTURA CONVENCIONAL DE CONCRETO ARMADO EM UM EDIFÍCIO DE MÚLTIPLOS PAVIMENTOS UTILIZANDO AÇO CA-50 DE 10,0 MM - MONTAGEM. AF_12/2015 | E28: kg | F28: 1608.2 | G28: =L28 -> 12.09 | H28: =ROUND(F28*G28,2) -> 19443.14 | K28: 12.53 | L28: =ROUND(K28*$J$11,2) -> 12.09
A29: 2.11 | B29: SINAPI | C29: 92764 | D29: ARMAÇÃO DE PILAR OU VIGA DE UMA ESTRUTURA CONVENCIONAL DE CONCRETO ARMADO EM UM EDIFÍCIO DE MÚLTIPLOS PAVIMENTOS UTILIZANDO AÇO CA-50 DE 16,0 MM - MONTAGEM. AF_12/2015 | E29: kg | F29: 63.1 | G29: =L29 -> 9.97 | H29: =ROUND(F29*G29,2) -> 629.11 | K29: 10.33 | L29: =ROUND(K29*$J$11,2) -> 9.97
A30: 2.12 | B30: SINAPI | C30: 92759 | D30: ARMAÇÃO DE PILAR OU VIGA DE UMA ESTRUTURA CONVENCIONAL DE CONCRETO ARMADO EM UM EDIFÍCIO DE MÚLTIPLOS PAVIMENTOS UTILIZANDO AÇO CA-60 DE 5,0 MM - MONTAGEM. AF_12/2015 | E30: kg | F30: 651.9 | G30: =L30 -> 13.99 | H30: =ROUND(F30*G30,2) -> 9120.08 | K30: 14.5 | L30: =ROUND(K30*$J$11,2) -> 13.99
... A34: 2.16 | B34: SINAPI | C34: 93194 | D34: CONTRAVERGA PRÉ-MOLDADA PARA VÃOS DE ATÉ 1,5 M DE COMPRIMENTO. AF_03/2016 | E34: m | F34: 16.9 | G34: =L34 -> 39.74 | H34: =ROUND(F34*G34,2) -> 671.61 | K34: 41.18 | L34: =ROUND(K34*$J$11,2) -> 39.74
L35: =ROUND(K35*$J$11,2) -> 0
A36: 3 | B36: ALVENARIA E VEDAÇÕES | H36: =SUM(H37:H38) -> 43303.58 | L36: =ROUND(K36*$J$11,2) -> 0
A37: 3.1 | B37: SINAPI | C37: 103326 | D37: ALVENARIA DE VEDAÇÃO DE BLOCOS CERÂMICOS FURADOS NA VERTICAL DE 19X19X39 CM (ESPESSURA 19 CM) E ARGAMASSA DE ASSENTAMENTO COM PREPARO EM BETONEIRA. AF_12/2021 | E37: m² | F37: 209.45 | G37: =L37 -> 61.96 | H37: =ROUND(F37*G37,2) -> 12977.52 | K37: 64.21 | L37: =ROUND(K37*$J$11,2) -> 61.96
A38: 3.2 | B38: ORSE | C38: 191 | D38: Divisória em granito cinza andorinha polido, e=2cm, inclusive com montagem em ferragem - Rev 02. | E38: m² | F38: 53.89 | G38: =L38 -> 562.74 | H38: =ROUND(F38*G38,2) -> 30326.06 | K38: 583.15 | L38: =ROUND(K38*$J$11,2) -> 562.74
L39: =ROUND(K39*$J$11,2) -> 0
A40: 4 | B40: IMPERMEABILIZAÇÕES | H40: =SUM(H41:H42) -> 6503.26 | L40: =ROUND(K40*$J$11,2) -> 0
A41: 4.1 | B41: SINAPI | C41: 98557 | D41: IMPERMEABILIZAÇÃO DE SUPERFÍCIE COM EMULSÃO ASFÁLTICA, 2 DEMÃOS AF_06/2018 | E41: m² | F41: 25.12 | G41: =L41 -> 38.52 | H41: =ROUND(F41*G41,2) -> 967.62 | K41: 39.92 | L41: =ROUND(K41*$J$11,2) -> 38.52
A42: 4.2 | B42: SINAPI | C42: 98546 | D42: IMPERMEABILIZAÇÃO DE SUPERFÍCIE COM MANTA ASFÁLTICA, UMA CAMADA, INCLUSIVE APLICAÇÃO DE PRIMER ASFÁLTICO, E=3MM. AF_06/2018 | E42: m² | F42: 57.88 | G42: =L42 -> 95.64 | H42: =ROUND(F42*G42,2) -> 5535.64 | K42: 99.11 | L42: =ROUND(K42*$J$11,2) -> 95.64
L43: =ROUND(K43*$J$11,2) -> 0
A44: 5 | B44: COBERTURAS E PROTEÇÕES | H44: =SUM(H45:H47) -> 51264.13 | L44: =ROUND(K44*$J$11,2) -> 0
A45: 5.1 | B45: SINAPI | C45: 92539 | D45: TRAMA DE MADEIRA COMPOSTA POR RIPAS, CAIBROS E TERÇAS PARA TELHADOS DE ATÉ 2 ÁGUAS PARA TELHA DE ENCAIXE DE CERÂMICA OU DE CONCRETO, INCLUSO TRANSPORTE VERTICAL. AF_07/2019 | E45: m² | F45: 309.93 | G45: =L45 -> 60.47 | H45: =ROUND(F45*G45,2) -> 18741.47 | K45: 62.66 | L45: =ROUND(K45*$J$11,2) -> 60.47
...

Sheet REPROGRAMAÇÃO
A1: ESTADO DA PARAÍBA
A2: PREFEITURA MUNICIPAL DE SOUSA
A3: TOMADA DE PREÇO - CONTRATO Nº
A4: OBRA : CENTRO DE ONCOLOGIA DE SOUSA
A6: REPROGRAMAÇÃO
A7: ITEM | B7: REFERÊNCIA | C7: DESCRIÇÃO DOS SERVIÇOS | D7: ORIGEM | E7: UND. | F7: QUANTIDADES | J7: PREÇO UNITÁRIO COM BDI | K7: PREÇO TOTAL R$
F8: LICITADA | G8: ACRESCIDO | H8: SUPRIMIDO | I8: REPROGRAMADA | K8: LICITADO | L8: ACRESCIDO | M8: SUPRIMIDO | N8: REPROGRAMADO
C9: =[1]ORÇAMENTO!B11 -> SERVIÇOS PRELIMINARES
A10: =[1]ORÇAMENTO!A12 -> 1.1 | B10: =[1]ORÇAMENTO!C12 -> 51 | C10: =[1]ORÇAMENTO!D12 -> Placa de Obra em chapa de aço galvanizado, instalada - Rev 02 01/2022 | D10: =[1]ORÇAMENTO!B12 -> ORSE | E10: =[1]ORÇAMENTO!E12 -> m² | F10: =[1]ORÇAMENTO!F12 -> 4.5 | J10: =[1]ORÇAMENTO!G12*26.63%+[1]ORÇAMENTO!G12 -> 423.12148 | K10: =ROUND(F10*J10,2) -> 1904.05
A11: =[1]ORÇAMENTO!A13 -> 1.2 | B11: =[1]ORÇAMENTO!C13 -> 97622 | C11: =[1]ORÇAMENTO!D13 -> DEMOLIÇÃO DE ALVENARIA DE BLOCOFURADO, DE FORMA MANUAL, SEM REAPROVEITAMENTO | D11: =[1]ORÇAMENTO!B13 -> SINAPI | E11: =[1]ORÇAMENTO!E13 -> m³ | F11: =[1]ORÇAMENTO!F13 -> 63.41 | J11: =[1]ORÇAMENTO!G13*26.63%+[1]ORÇAMENTO!G13 -> 46.47321 | K11: =ROUND(F11*J11,2) -> 2946.87
A12: =[1]ORÇAMENTO!A14 -> 1.3 | B12: =[1]ORÇAMENTO!C14 -> 3240 | C12: =[1]ORÇAMENTO!D14 -> Demolição de piso de alta resistência | D12: =[1]ORÇAMENTO!B14 -> ORSE | E12: =[1]ORÇAMENTO!E14 -> m² | F12: =[1]ORÇAMENTO!F14 -> 774.83 | J12: =[1]ORÇAMENTO!G14*26.63%+[1]ORÇAMENTO!G14 -> 20.817972 | K12: =ROUND(F12*J12,2) -> 16130.39
A13: =[1]ORÇAMENTO!A15 -> 1.4 | B13: =[1]ORÇAMENTO!C15 -> 97650 | C13: =[1]ORÇAMENTO!D15 -> REMOÇÃO DE TRAMA DE MADEIRA PARA COBERTURA, DE FORMA MANUAL, SEM REAPROVEITAMENTO. AF 12/2017 | D13: =[1]ORÇAMENTO!B15 -> SINAPI | E13: =[1]ORÇAMENTO!E15 -> m² | F13: =[1]ORÇAMENTO!F15 -> 309.93 | J13: =[1]ORÇAMENTO!G15*26.63%+[1]ORÇAMENTO!G15 -> 6.014925 | K13: =ROUND(F13*J13,2) -> 1864.21
A14: =[1]ORÇAMENTO!A16 -> 1.5 | B14: =[1]ORÇAMENTO!C16 -> 100981 | C14: =[1]ORÇAMENTO!D16 -> CARGA, MANOBRA E DESCARGA DE ENTULHO EM CAMINHÃO BASCULANTE 6 M³ - CARGA COM ESCAVADEIRA HIDRÁULICA (CAÇAMBA DE 0,80 M³/111 HP) E DESCARGA LIVRE (UNIDADE: M³). AF 07/2020 | D14: =[1]ORÇAMENTO!B16 -> SINAPI | E14: =[1]ORÇAMENTO!E16 -> m³ | F14: =[1]ORÇAMENTO!F16 -> 102.15 | J14: =[1]ORÇAMENTO!G16*26.63%+[1]ORÇAMENTO!G16 -> 9.11736 | K14: =ROUND(F14*J14,2) -> 931.34
A15: 1.6 | B15: 7725 | C15: Remoção de pintura látex (raspagem e/ou lixamento e/ou escovação) | D15: ORSE | E15: m2 | G15: =[1]MEM!L12 -> 1218.784 | I15: 2115 | J15: ='[1]ITENS NOVOS'!I7 -> 7.46 | L15: =G15*J15 -> 9092.1286 | N15: =I15*J15 -> 15777.9
A16: 1.7 | B16: 90447 | C16: RASGO EM ALVENARIA PARA ELETRODUTOS COM DIAMETROS MENORES OU IGUAIS A 40 MM. AF_05/2015 | D16: SINAPI | E16: M | G16: =[1]MEM!L43 -> 247.3 | I16: =G16 -> 247.3 | J16: ='[1]ITENS NOVOS'!I8 -> 5.45 | L16: =G16*J16 -> 1347.785 | N16: =I16*J16 -> 1347.785
A17: 1.8 | B17: 3141 | C17: Remoção de caixão de madeira (aduela) | D17: ORSE | E17: un | G17: =[1]MEM!L74 -> 36 | I17: =G17 -> 36 | J17: ='[1]ITENS NOVOS'!I9 -> 8.09 | L17: =G17*J17 -> 291.24 | N17: =I17*J17 -> 291.24
A18: 1.9 | B18: 97645 | C18: REMOÇÃO DE JANELAS, DE FORMA MANUAL, SEM REAPROVEITAMENTO. AF_12/2017 | D18: SINAPI | E18: M2 | G18: =[1]MEM!L103 -> 14 | I18: =G18 -> 14 | J18: ='[1]ITENS NOVOS'!I10 -> 29.92 | L18: =G18*J18 -> 418.88 | N18: =I18*J18 -> 418.88
A19: 1.10 | B19: 97641 | C19: REMOÇÃO DE FORRO DE GESSO, DE FORMA MANUAL, SEM REAPROVEITAMENTO. AF_12/2017 | D19: SINAPI | E19: M2 | G19: =[1]MEM!L125 -> 396.84 | I19: =G19 -> 396.84 | J19: ='[1]ITENS NOVOS'!I11 -> 4.06 | L19: =G19*J19 -> 1611.1704 | N19: =I19*J19 -> 1611.1704
A20: 1.11 | B20: 97628 | C20: DEMOLIÇÃO DE LAJES, DE FORMA MANUAL, SEM REAPROVEITAMENTO. AF_12/2017 | D20: SINAPI | E20: M3 | G20: =[1]MEM!L137 -> 35.364 | I20: =G20 -> 35.364 | J20: ='[1]ITENS NOVOS'!I12 -> 229.97 | L20: =G20*J20 -> 8132.6591 | N20: =I20*J20 -> 8132.6591
A21: 1.14 | B21: 97647 | C21: REMOÇÃO DE TELHAS, DE FIBROCIMENTO, METÁLICA E CERÂMICA, DE FORMA MANUAL, SEM REAPROVEITAMENTO. AF_12/2017 | D21: SINAPI | E21: M2 | G21: =[1]MEM!L164 -> 636.84 | I21: =G21 -> 636.84 | J21: ='[1]ITENS NOVOS'!I15 -> 2.79 | L21: =G21*J21 -> 1776.7836 | N21: =I21*J21 -> 1776.7836
A22: 1.16 | B22: 26 | C22: Coleta e carga manuais de entulho | D22: ORSE | E22: M3 | G22: =[1]MEM!L172 -> 165.3964 | I22: =G22 -> 165.3964 | J22: ='[1]ITENS NOVOS'!I35 -> 18.65 | L22: =G22*J22 -> 3084.6429 | N22: =I22*J22 -> 3084.6429
A24: =[1]ORÇAMENTO!A18 -> 2 | C24: =[1]ORÇAMENTO!B18 -> INFRA ESTRUTURA E SUPERESTRUTURA
A25: =[1]ORÇAMENTO!A19 -> 2.1 | B25: =[1]ORÇAMENTO!C19 -> 96523 | C25: =[1]ORÇAMENTO!D19 -> ESCAVAÇÃO MANUAL PARA BLOCO DE COROAMENTO OU SAPATA (INCLUINDO ESCAVAÇÃO PARA COLOCAÇÃO DE FÔRMAS). AF_06/2017 | D25: =[1]ORÇAMENTO!B19 -> SINAPI | E25: =[1]ORÇAMENTO!E19 -> m³ | F25: =[1]ORÇAMENTO!F19 -> 28.86 | J25: =[1]ORÇAMENTO!G19*26.63%+[1]ORÇAMENTO!G19 -> 80.865918 | K25: =ROUND(F25*J25,2) -> 2333.79
A26: =[1]ORÇAMENTO!A20 -> 2.2 | B26: =[1]ORÇAMENTO!C20 -> 101964 | C26: =[1]ORÇAMENTO!D20 -> LAJE PRÉ-MOLDADA UNIDIRECIONAL, BIAPOIADA, PARA FORRO, ENCHIMENTO EM CERÂMICA, VIGOTA CONVENCIONAL, ALTURA TOTAL DA LAJE (ENCHIMENTO+CAPA) = (8+3). AF_11/2020 | D26: =[1]ORÇAMENTO!B20 -> SINAPI | E26: =[1]ORÇAMENTO!E20 -> m² | F26: =[1]ORÇAMENTO!F20 -> 57.88 | J26: =[1]ORÇAMENTO!G20*26.63%+[1]ORÇAMENTO!G20 -> 179.38406 | K26: =ROUND(F26*J26,2) -> 10382.75
A27: =[1]ORÇAMENTO!A21 -> 2.3 | B27: =[1]ORÇAMENTO!C21 -> 96619 | C27: =[1]ORÇAMENTO!D21 -> LASTRO DE CONCRETO MAGRO, APLICADO EM BLOCOS DE COROAMENTO OU SAPATAS, ESPESSURA DE 5 CM. AF_08/2017 | D27: =[1]ORÇAMENTO!B21 -> SINAPI | E27: =[1]ORÇAMENTO!E21 -> m² | F27: =[1]ORÇAMENTO!F21 -> 19.24 | J27: =[1]ORÇAMENTO!G21*26.63%+[1]ORÇAMENTO!G21 -> 28.808325 | K27: =ROUND(F27*J27,2) -> 554.27
A28: =[1]ORÇAMENTO!A22 -> 2.4 | B28: =[1]ORÇAMENTO!C22 -> 94971 | C28: =[1]ORÇAMENTO!D22 -> CONCRETO FCK = 25MPA, TRAÇO 1:2,3:2,7 (EM MASSA SECA DE CIMENTO/ AREIA MÉDIA/ BRITA 1) - PREPARO MECÂNICO COM BETONEIRA 600 L. AF_05/2021 | D28: =[1]ORÇAMENTO!B22 -> SINAPI | E28: =[1]ORÇAMENTO!E22 -> m³ | F28: =[1]ORÇAMENTO!F22 -> 5.8 | J28: =[1]ORÇAMENTO!G22*26.63%+[1]ORÇAMENTO!G22 -> 447.37113 | K28: =ROUND(F28*J28,2) -> 2594.75
A29: =[1]ORÇAMENTO!A23 -> 2.5 | B29: =[1]ORÇAMENTO!C23 -> 94972 | C29: =[1]ORÇAMENTO!D23 -> CONCRETO FCK = 30MPA, TRAÇO 1:2,1:2,5 (EM MASSA SECA DE CIMENTO/ AREIA MÉDIA/ BRITA 1) - PREPARO MECÂNICO COM BETONEIRA 600 L. AF_05/2021 | D29: =[1]ORÇAMENTO!B23 -> SINAPI | E29: =[1]ORÇAMENTO!E23 -> m³ | F29: =[1]ORÇAMENTO!F23 -> 30.1 | G29: =[1]MEM!L221 -> 12.2958 | I29: =F29+G29 -> 42.3958 | J29: =[1]ORÇAMENTO!G23*26.63%+[1]ORÇAMENTO!G23 -> 461.9589 | K29: =ROUND(F29*J29,2) -> 13904.96 | L29: =G29*J29 -> 5680.1543 | N29: =I29*J29 -> 19585.117
A30: =[1]ORÇAMENTO!A24 -> 2.6 | B30: =[1]ORÇAMENTO!C24 -> 92873 | C30: =[1]ORÇAMENTO!D24 -> LANÇAMENTO COM USO DE BALDES, ADENSAMENTO E ACABAMENTO DE CONCRETO EM ESTRUTURAS. AF_12/2015 | D30: =[1]ORÇAMENTO!B24 -> SINAPI | E30: =[1]ORÇAMENTO!E24 -> m³ | F30: =[1]ORÇAMENTO!F24 -> 35.9 | J30: =[1]ORÇAMENTO!G24*26.63%+[1]ORÇAMENTO!G24 -> 242.28118 | K30: =ROUND(F30*J30,2) -> 8697.89
A31: =[1]ORÇAMENTO!A25 -> 2.7 | B31: =[1]ORÇAMENTO!C25 -> 90 | C31: =[1]ORÇAMENTO!D25 -> Forma plana para fundações, em tábua de pinho, 07 usos. | D31: =[1]ORÇAMENTO!B25 -> ORSE | E31: =[1]ORÇAMENTO!E25 -> m² | F31: =[1]ORÇAMENTO!F25 -> 19.3 | J31: =[1]ORÇAMENTO!G25*26.63%+[1]ORÇAMENTO!G25 -> 82.765368 | K31: =ROUND(F31*J31,2) -> 1597.37
A32: =[1]ORÇAMENTO!A26 -> 2.8 | B32: =[1]ORÇAMENTO!C26 -> 3366 | C32: =[1]ORÇAMENTO!D26 -> Forma plana para estruturas, em compensado plastificado de 12mm, 07 usos. | D32: =[1]ORÇAMENTO!B26 -> ORSE | E32: =[1]ORÇAMENTO!E26 -> m² | F32: =[1]ORÇAMENTO!F26 -> 421.3 | J32: =[1]ORÇAMENTO!G26*26.63%+[1]ORÇAMENTO!G26 -> 69.874434 | K32: =ROUND(F32*J32,2) -> 29438.1
A33: =[1]ORÇAMENTO!A27 -> 2.9 | B33: =[1]ORÇAMENTO!C27 -> 92763 | C33: =[1]ORÇAMENTO!D27 -> ARMAÇÃO DE PILAR OU VIGA DE UMA ESTRUTURA CONVENCIONAL DE CONCRETO ARMADO EM UM EDIFÍCIO DE MÚLTIPLOS PAVIMENTOS UTILIZANDO AÇO CA-50 DE 12,5 MM - MONTAGEM. AF_12/2015 | D33: =[1]ORÇAMENTO!B27 -> SINAPI | E33: =[1]ORÇAMENTO!E27 -> kg | F33: =[1]ORÇAMENTO!F27 -> 480.3 | G33: =[1]MEM!L249 -> 99.05 | I33: =F33+G33 -> 579.35 | J33: =[1]ORÇAMENTO!G27*26.63%+[1]ORÇAMENTO!G27 -> 13.068216 | K33: =ROUND(F33*J33,2) -> 6276.66 | L33: =G33*J33 -> 1294.4068 | N33: =I33*J33 -> 7571.0709
A34: =[1]ORÇAMENTO!A28 -> 2.10 | B34: =[1]ORÇAMENTO!C28 -> 92762 | C34: =[1]ORÇAMENTO!D28 -> ARMAÇÃO DE PILAR OU VIGA DE UMA ESTRUTURA CONVENCIONAL DE CONCRETO ARMADO EM UM EDIFÍCIO DE MÚLTIPLOS PAVIMENTOS UTILIZANDO AÇO CA-50 DE 10,0 MM - MONTAGEM. AF_12/2015 | D34: =[1]ORÇAMENTO!B28 -> SINAPI | E34: =[1]ORÇAMENTO!E28 -> kg | F34: =[1]ORÇAMENTO!F28 -> 1608.2 | G34: =[1]MEM!L259 -> 446.57226 | I34: =F34+G34 -> 2054.7723 | J34: =[1]ORÇAMENTO!G28*26.63%+[1]ORÇAMENTO!G28 -> 15.309567 | K34: =ROUND(F34*J34,2) -> 24620.85 | L34: =G34*J34 -> 6836.8279 | N34: =I34*J34 -> 31457.674
A35: =[1]ORÇAMENTO!A29 -> 2.11 | B35: =[1]ORÇAMENTO!C29 -> 92764 | C35: =[1]ORÇAMENTO!D29 -> ARMAÇÃO DE PILAR OU VIGA DE UMA ESTRUTURA CONVENCIONAL DE CONCRETO ARMADO EM UM EDIFÍCIO DE MÚLTIPLOS PAVIMENTOS UTILIZANDO AÇO CA-50 DE 16,0 MM - MONTAGEM. AF_12/2015 | D35: =[1]ORÇAMENTO!B29 -> SINAPI | E35: =[1]ORÇAMENTO!E29 -> kg | F35: =[1]ORÇAMENTO!F29 -> 63.1 | J35: =[1]ORÇAMENTO!G29*26.63%+[1]ORÇAMENTO!G29 -> 12.625011 | K35: =ROUND(F35*J35,2) -> 796.64
A36: =[1]ORÇAMENTO!A30 -> 2.12 | B36: =[1]ORÇAMENTO!C30 -> 92759 | C36: =[1]ORÇAMENTO!D30 -> ARMAÇÃO DE PILAR OU VIGA DE UMA ESTRUTURA CONVENCIONAL DE CONCRETO ARMADO EM UM EDIFÍCIO DE MÚLTIPLOS PAVIMENTOS UTILIZANDO AÇO CA-60 DE 5,0 MM - MONTAGEM. AF_12/2015 | D36: =[1]ORÇAMENTO!B30 -> SINAPI | E36: =[1]ORÇAMENTO!E30 -> kg | F36: =[1]ORÇAMENTO!F30 -> 651.9 | J36: =[1]ORÇAMENTO!G30*26.63%+[1]ORÇAMENTO!G30 -> 17.715537 | K36: =ROUND(F36*J36,2) -> 11548.76
A37: =[1]ORÇAMENTO!A31 -> 2.13 | B37: =[1]ORÇAMENTO!C31 -> 96995 | C37: =[1]ORÇAMENTO!D31 -> REATERRO MANUAL APILOADO COM SOQUETE. AF_10/2017 | D37: =[1]ORÇAMENTO!B31 -> SINAPI | E37: =[1]ORÇAMENTO!E31 -> m³ | F37: =[1]ORÇAMENTO!F31 -> 24.3 | J37: =[1]ORÇAMENTO!G31*26.63%+[1]ORÇAMENTO!G31 -> 42.775614 | K37: =ROUND(F37*J37,2) -> 1039.45
A38: =[1]ORÇAMENTO!A32 -> 2.14 | B38: =[1]ORÇAMENTO!C32 -> 93184 | C38: =[1]ORÇAMENTO!D32 -> VERGA PRÉ-MOLDADA PARA PORTAS COM ATÉ 1,5 M DE VÃO. AF_03/2016 | D38: =[1]ORÇAMENTO!B32 -> SINAPI | E38: =[1]ORÇAMENTO!E32 -> m | F38: =[1]ORÇAMENTO!F32 -> 58.14 | J38: =[1]ORÇAMENTO!G32*26.63%+[1]ORÇAMENTO!G32 -> 37.786392 | K38: =ROUND(F38*J38,2) -> 2196.9
A39: =[1]ORÇAMENTO!A33 -> 2.15 | B39: =[1]ORÇAMENTO!C33 -> 93182 | C39: =[1]ORÇAMENTO!D33 -> VERGA PRÉ-MOLDADA PARA JANELAS COM ATÉ 1,5 M DE VÃO. AF_03/2016 | D39: =[1]ORÇAMENTO!B33 -> SINAPI | E39: =[1]ORÇAMENTO!E33 -> m | F39: =[1]ORÇAMENTO!F33 -> 16.9 | J39: =[1]ORÇAMENTO!G33*26.63%+[1]ORÇAMENTO!G33 -> 52.184223 | K39: =ROUND(F39*J39,2) -> 881.91
A40: =[1]ORÇAMENTO!A34 -> 2.16 | B40: =[1]ORÇAMENTO!C34 -> 93194 | C40: =[1]ORÇAMENTO!D34 -> CONTRAVERGA PRÉ-MOLDADA PARA VÃOS DE ATÉ 1,5 M DE COMPRIMENTO. AF_03/2016 | D40: =[1]ORÇAMENTO!B34 -> SINAPI | E40: =[1]ORÇAMENTO!E34 -> m | F40: =[1]ORÇAMENTO!F34 -> 16.9 | J40: =[1]ORÇAMENTO!G34*26.63%+[1]ORÇAMENTO!G34 -> 50.322762 | K40: =ROUND(F40*J40,2) -> 850.45
A41: 2.17 | B41: 101616 | C41: PREPARO DE FUNDO DE VALA COM LARGURA MENOR QUE 1,5 M (ACERTO DO SOLO NATURAL). AF_08/2020 | D41: SINAPI | E41: M2 | G41: =[1]MEM!L274 -> 29.88 | I41: =G41 -> 29.88 | J41: ='[1]ITENS NOVOS'!I36 -> 5.18 | L41: =G41*J41 -> 154.7784 | N41: =I41*J41 -> 154.7784
A43: =[1]ORÇAMENTO!A36 -> 3 | C43: =[1]ORÇAMENTO!B36 -> ALVENARIA E VEDAÇÕES
...

Sheet BM_06
C1: BM 06 - Boletim de Medição
B4: ESTADO DA PARAÍBA
B5: PREFEITURA MUNICIPAL DE SOUSA - PB
A6: Objetivo | G6: Agente Promotor | K6: Data de Emissão | L6: Nº BM
A7: CENTRO DE ONCOLOGIA DE SOUSA | G7: PREFEITURA MUNICIPAL DE SOUSA - PB | K7: 44600 | L7: 06
A9: Localização | G9: Contratada | K9: Início da Obra | L9: Termino da Obra
A10: RUA LUIZ PEREIRA DA SILVA, S/N, CENTRO, SOUSA-PB | G10: COMPACTO CONSTRUÇÕES EIRELI - EPP | K10: 44854 | L10: 45219
A12: Modalidade | C12: Nº de Contrato e Data de assinatura | G12: Valor do Contrato / PMS | I12: Valor da medição - R$ | K12: Período de medição
A13: CONCORRÊNCIA 06/2022 | C13: Nº 0701/2022 - 20/10/2022 | G13: =I230 -> 1140356.9 | I13: =J230 -> 143113.48
A16: Itens | B16: Discriminação dos serviços do orçamento | C16: Unid. | D16: Custo Unitário | F16: Quantidade | I16: Financeiro | L16: Desvio (%)
E17: Custo Unitário | F17: Prevista | G17: Medida no período | H17: Acumulada incluindo o período | I17: Prevista | J17: Medida no período | K17: Acumulada incluindo o período
A18: =ORÇAMENTO!A11 -> 1 | B18: SERVIÇOS PRELIMINARES
A19: =ORÇAMENTO!A12 -> 1.1 | B19: =ORÇAMENTO!D12 -> Placa de Obra em chapa de aço galvanizado, instalada - Rev 02 01/2022 | C19: =ORÇAMENTO!E12 -> m² | E19: =ORÇAMENTO!G12*26.63%+ORÇAMENTO!G12 -> 423.12148 | F19: =ORÇAMENTO!F12 -> 4.5 | H19: 4.46 | I19: =ROUND(E19*F19,2) -> 1904.05 | J19: =ROUND(E19*G19,2) -> 0 | K19: =ROUND(E19*H19,2) -> 1887.12 | L19: =K19/I19 -> 0.99110843
A20: =ORÇAMENTO!A13 -> 1.2 | B20: DEMOLIÇÃO DE ALVENARIA DE BLOCOFURADO, DE FORMA MANUAL, SEM REAPROVEITAMENTO | C20: =ORÇAMENTO!E13 -> m³ | E20: =ORÇAMENTO!G13*26.63%+ORÇAMENTO!G13 -> 46.47321 | F20: =ORÇAMENTO!F13 -> 63.41 | H20: 31.41 | I20: =ROUND(E20*F20,2) -> 2946.87 | J20: =ROUND(E20*G20,2) -> 0 | K20: =ROUND(E20*H20,2) -> 1459.72 | L20: =K20/I20 -> 0.49534591
A21: =ORÇAMENTO!A14 -> 1.3 | B21: =ORÇAMENTO!D14 -> Demolição de piso de alta resistência | C21: =ORÇAMENTO!E14 -> m² | E21: =ORÇAMENTO!G14*26.63%+ORÇAMENTO!G14 -> 20.817972 | F21: =ORÇAMENTO!F14 -> 774.83 | G21: 72.12 | H21: =644.61+G21 -> 716.73 | I21: =ROUND(E21*F21,2) -> 16130.39 | J21: =ROUND(E21*G21,2) -> 1501.39 | K21: =ROUND(E21*H21,2) -> 14920.87 | L21: =K21/I21 -> 0.92501607
A22: =ORÇAMENTO!A15 -> 1.4 | B22: =ORÇAMENTO!D15 -> REMOÇÃO DE TRAMA DE MADEIRA PARA COBERTURA, DE FORMA MANUAL, SEM REAPROVEITAMENTO. AF 12/2017 | C22: =ORÇAMENTO!E15 -> m² | E22: =ORÇAMENTO!G15*26.63%+ORÇAMENTO!G15 -> 6.014925 | F22: =ORÇAMENTO!F15 -> 309.93 | H22: 175.86 | I22: =ROUND(E22*F22,2) -> 1864.21 | J22: =ROUND(E22*G22,2) -> 0 | K22: =ROUND(E22*H22,2) -> 1057.78 | L22: =K22/I22 -> 0.56741462
A23: =ORÇAMENTO!A16 -> 1.5 | B23: =ORÇAMENTO!D16 -> CARGA, MANOBRA E DESCARGA DE ENTULHO EM CAMINHÃO BASCULANTE 6 M³ - CARGA COM ESCAVADEIRA HIDRÁULICA (CAÇAMBA DE 0,80 M³/111 HP) E DESCARGA LIVRE (UNIDADE: M³). AF 07/2020 | C23: =ORÇAMENTO!E16 -> m³ | E23: =ORÇAMENTO!G16*26.63%+ORÇAMENTO!G16 -> 9.11736 | F23: =ORÇAMENTO!F16 -> 102.15 | H23: 102.15 | I23: =ROUND(E23*F23,2) -> 931.34 | J23: =ROUND(E23*G23,2) -> 0 | K23: =ROUND(E23*H23,2) -> 931.34 | L23: =K23/I23 -> 1
A24: 1.6 | B24: Remoção de caixão de madeira (aduela) | C24: un | E24: =REPROGRAMAÇÃO!J17 -> 8.09 | F24: =REPROGRAMAÇÃO!G17 -> 36 | G24: =MEM!L43 -> 36 | H24: =G24 -> 36 | I24: =ROUND(E24*F24,2) -> 291.24 | J24: =ROUND(E24*G24,2) -> 291.24 | K24: =ROUND(E24*H24,2) -> 291.24 | L24: =K24/I24 -> 1
A25: 1.7 | B25: REMOÇÃO DE JANELAS, DE FORMA MANUAL, SEM REAPROVEITAMENTO. AF_12/2017 | C25: M2 | E25: =REPROGRAMAÇÃO!J18 -> 29.92 | F25: =REPROGRAMAÇÃO!G18 -> 14 | G25: =MEM!L72 -> 14 | H25: =G25 -> 14 | I25: =ROUND(E25*F25,2) -> 418.88 | J25: =ROUND(E25*G25,2) -> 418.88 | K25: =ROUND(E25*H25,2) -> 418.88 | L25: =K25/I25 -> 1
A26: 1.8 | B26: REMOÇÃO DE FORRO DE GESSO, DE FORMA MANUAL, SEM REAPROVEITAMENTO. AF_12/2017 | C26: M2 | E26: =REPROGRAMAÇÃO!J19 -> 4.06 | F26: =REPROGRAMAÇÃO!G19 -> 396.84 | G26: =MEM!L94 -> 396.84 | H26: =G26 -> 396.84 | I26: =ROUND(E26*F26,2) -> 1611.17 | J26: =ROUND(E26*G26,2) -> 1611.17 | K26: =ROUND(E26*H26,2) -> 1611.17 | L26: =K26/I26 -> 1
A27: 1.9 | B27: DEMOLIÇÃO DE LAJES, DE FORMA MANUAL, SEM REAPROVEITAMENTO. AF_12/2017 | C27: M3 | E27: =REPROGRAMAÇÃO!J20 -> 229.97 | F27: =REPROGRAMAÇÃO!G20 -> 35.364 | G27: =MEM!L106 -> 28.95 | H27: =G27 -> 28.95 | I27: =ROUND(E27*F27,2) -> 8132.66 | J27: =ROUND(E27*G27,2) -> 6657.63 | K27: =ROUND(E27*H27,2) -> 6657.63 | L27: =K27/I27 -> 0.81862884
A28: 1.10 | B28: REMOÇÃO DE TELHAS, DE FIBROCIMENTO, METÁLICA E CERÂMICA, DE FORMA MANUAL, SEM REAPROVEITAMENTO. AF_12/2017 | C28: M2 | E28: 2.79 | F28: =REPROGRAMAÇÃO!G21 -> 636.84 | G28: =MEM!L116 -> 636.84 | H28: =G28 -> 636.84 | I28: =ROUND(E28*F28,2) -> 1776.78 | J28: =ROUND(E28*G28,2) -> 1776.78 | K28: =ROUND(E28*H28,2) -> 1776.78 | L28: =K28/I28 -> 1
A29: =ORÇAMENTO!A18 -> 2 | B29: INFRA ESTRUTURA E SUPERESTRUTURA
A30: =ORÇAMENTO!A19 -> 2.1 | B30: =ORÇAMENTO!D19 -> ESCAVAÇÃO MANUAL PARA BLOCO DE COROAMENTO OU SAPATA (INCLUINDO ESCAVAÇÃO PARA COLOCAÇÃO DE FÔRMAS). AF_06/2017 | C30: =ORÇAMENTO!E19 -> m³ | E30: =ORÇAMENTO!G19*26.63%+ORÇAMENTO!G19 -> 80.865918 | F30: =ORÇAMENTO!F19 -> 28.86 | H30: 16.41 | I30: =ROUND(E30*F30,2) -> 2333.79 | J30: =ROUND(E30*G30,2) -> 0 | K30: =ROUND(E30*H30,2) -> 1327.01 | L30: =K30/I30 -> 0.56860729
A31: =ORÇAMENTO!A20 -> 2.2 | B31: =ORÇAMENTO!D20 -> LAJE PRÉ-MOLDADA UNIDIRECIONAL, BIAPOIADA, PARA FORRO, ENCHIMENTO EM CERÂMICA, VIGOTA CONVENCIONAL, ALTURA TOTAL DA LAJE (ENCHIMENTO+CAPA) = (8+3). AF_11/2020 | C31: =ORÇAMENTO!E20 -> m² | E31: =ORÇAMENTO!G20*26.63%+ORÇAMENTO!G20 -> 179.38406 | F31: =ORÇAMENTO!F20 -> 57.88 | I31: =ROUND(E31*F31,2) -> 10382.75 | J31: =ROUND(E31*G31,2) -> 0 | K31: =ROUND(E31*H31,2) -> 0 | L31: =K31/I31 -> 0
A32: =ORÇAMENTO!A21 -> 2.3 | B32: =ORÇAMENTO!D21 -> LASTRO DE CONCRETO MAGRO, APLICADO EM BLOCOS DE COROAMENTO OU SAPATAS, ESPESSURA DE 5 CM. AF_08/2017 | C32: =ORÇAMENTO!E21 -> m² | E32: =ORÇAMENTO!G21*26.63%+ORÇAMENTO!G21 -> 28.808325 | F32: =ORÇAMENTO!F21 -> 19.24 | H32: 19.24 | I32: =ROUND(E32*F32,2) -> 554.27 | J32: =ROUND(E32*G32,2) -> 0 | K32: =ROUND(E32*H32,2) -> 554.27 | L32: =K32/I32 -> 1
A33: =ORÇAMENTO!A22 -> 2.4 | B33: =ORÇAMENTO!D22 -> CONCRETO FCK = 25MPA, TRAÇO 1:2,3:2,7 (EM MASSA SECA DE CIMENTO/ AREIA MÉDIA/ BRITA 1) - PREPARO MECÂNICO COM BETONEIRA 600 L. AF_05/2021 | C33: =ORÇAMENTO!E22 -> m³ | E33: =ORÇAMENTO!G22*26.63%+ORÇAMENTO!G22 -> 447.37113 | F33: =ORÇAMENTO!F22 -> 5.8 | H33: 4.8 | I33: =ROUND(E33*F33,2) -> 2594.75 | J33: =ROUND(E33*G33,2) -> 0 | K33: =ROUND(E33*H33,2) -> 2147.38 | L33: =K33/I33 -> 0.82758647
A34: =ORÇAMENTO!A23 -> 2.5 | B34: =ORÇAMENTO!D23 -> CONCRETO FCK = 30MPA, TRAÇO 1:2,1:2,5 (EM MASSA SECA DE CIMENTO/ AREIA MÉDIA/ BRITA 1) - PREPARO MECÂNICO COM BETONEIRA 600 L. AF_05/2021 | C34: =ORÇAMENTO!E23 -> m³ | E34: =ORÇAMENTO!G23*26.63%+ORÇAMENTO!G23 -> 461.9589 | F34: =REPROGRAMAÇÃO!I29 -> 42.3958 | G34: =13.92-1.93 -> 11.99 | H34: =23.91+G34 -> 35.9 | I34: =ROUND(E34*F34,2) -> 19585.12 | J34: =ROUND(E34*G34,2) -> 5538.89 | K34: =ROUND(E34*H34,2) -> 16584.32 | L34: =K34/I34 -> 0.84678164
A35: =ORÇAMENTO!A24 -> 2.6 | B35: =ORÇAMENTO!D24 -> LANÇAMENTO COM USO DE BALDES, ADENSAMENTO E ACABAMENTO DE CONCRETO EM ESTRUTURAS. AF_12/2015 | C35: =ORÇAMENTO!E24 -> m³ | E35: =ORÇAMENTO!G24*26.63%+ORÇAMENTO!G24 -> 242.28118 | F35: =REPROGRAMAÇÃO!F30 -> 35.9 | G35: 6.49 | H35: =29.41+G35 -> 35.9 | I35: =ROUND(E35*F35,2) -> 8697.89 | J35: =ROUND(E35*G35,2) -> 1572.4 | K35: =ROUND(E35*H35,2) -> 8697.89 | L35: =K35/I35 -> 1
A36: =ORÇAMENTO!A25 -> 2.7 | B36: =ORÇAMENTO!D25 -> Forma plana para fundações, em tábua de pinho, 07 usos. | C36: =ORÇAMENTO!E25 -> m² | E36: =ORÇAMENTO!G25*26.63%+ORÇAMENTO!G25 -> 82.765368 | F36: =REPROGRAMAÇÃO!F31 -> 19.3 | H36: 19.3 | I36: =ROUND(E36*F36,2) -> 1597.37 | J36: =ROUND(E36*G36,2) -> 0 | K36: =ROUND(E36*H36,2) -> 1597.37 | L36: =K36/I36 -> 1
A37: =ORÇAMENTO!A26 -> 2.8 | B37: =ORÇAMENTO!D26 -> Forma plana para estruturas, em compensado plastificado de 12mm, 07 usos. | C37: =ORÇAMENTO!E26 -> m² | E37: =ORÇAMENTO!G26*26.63%+ORÇAMENTO!G26 -> 69.874434 | F37: =REPROGRAMAÇÃO!F32 -> 421.3 | G37: 105.61 | H37: =315.69+G37 -> 421.3 | I37: =ROUND(E37*F37,2) -> 29438.1 | J37: =ROUND(E37*G37,2) -> 7379.44 | K37: =ROUND(E37*H37,2) -> 29438.1 | L37: =K37/I37 -> 1
A38: =ORÇAMENTO!A27 -> 2.9 | B38: =ORÇAMENTO!D27 -> ARMAÇÃO DE PILAR OU VIGA DE UMA ESTRUTURA CONVENCIONAL DE CONCRETO ARMADO EM UM EDIFÍCIO DE MÚLTIPLOS PAVIMENTOS UTILIZANDO AÇO CA-50 DE 12,5 MM - MONTAGEM. AF_12/2015 | C38: =ORÇAMENTO!E27 -> kg | E38: =ORÇAMENTO!G27*26.63%+ORÇAMENTO!G27 -> 13.068216 | F38: =REPROGRAMAÇÃO!I33 -> 579.35 | G38: =MEM!L183 -> 95.088 | H38: =480.3+G38 -> 575.388 | I38: =ROUND(E38*F38,2) -> 7571.07 | J38: =ROUND(E38*G38,2) -> 1242.63 | K38: =ROUND(E38*H38,2) -> 7519.29 | L38: =K38/I38 -> 0.99316081
A39: =ORÇAMENTO!A28 -> 2.10 | B39: =ORÇAMENTO!D28 -> ARMAÇÃO DE PILAR OU VIGA DE UMA ESTRUTURA CONVENCIONAL DE CONCRETO ARMADO EM UM EDIFÍCIO DE MÚLTIPLOS PAVIMENTOS UTILIZANDO AÇO CA-50 DE 10,0 MM - MONTAGEM. AF_12/2015 | C39: =ORÇAMENTO!E28 -> kg | E39: =ORÇAMENTO!G28*26.63%+ORÇAMENTO!G28 -> 15.309567 | F39: =REPROGRAMAÇÃO!I34 -> 2054.7723 | G39: =MEM!L193 -> 446.57226 | H39: =1462.17+G39 -> 1908.7423 | I39: =ROUND(E39*F39,2) -> 31457.67 | J39: =ROUND(E39*G39,2) -> 6836.83 | K39: =ROUND(E39*H39,2) -> 29222.02 | L39: =K39/I39 -> 0.92893148
A40: =ORÇAMENTO!A29 -> 2.11 | B40: =ORÇAMENTO!D29 -> ARMAÇÃO DE PILAR OU VIGA DE UMA ESTRUTURA CONVENCIONAL DE CONCRETO ARMADO EM UM EDIFÍCIO DE MÚLTIPLOS PAVIMENTOS UTILIZANDO AÇO CA-50 DE 16,0 MM - MONTAGEM. AF_12/2015 | C40: =ORÇAMENTO!E29 -> kg | E40: =ORÇAMENTO!G29*26.63%+ORÇAMENTO!G29 -> 12.625011 | F40: =ORÇAMENTO!F29 -> 63.1 | H40: =G40 -> 0 | I40: =ROUND(E40*F40,2) -> 796.64 | J40: =ROUND(E40*G40,2) -> 0 | K40: =ROUND(E40*H40,2) -> 0 | L40: =K40/I40 -> 0
A41: =ORÇAMENTO!A30 -> 2.12 | B41: =ORÇAMENTO!D30 -> ARMAÇÃO DE PILAR OU VIGA DE UMA ESTRUTURA CONVENCIONAL DE CONCRETO ARMADO EM UM EDIFÍCIO DE MÚLTIPLOS PAVIMENTOS UTILIZANDO AÇO CA-60 DE 5,0 MM - MONTAGEM. AF_12/2015 | C41: =ORÇAMENTO!E30 -> kg | E41: =ORÇAMENTO!G30*26.63%+ORÇAMENTO!G30 -> 17.715537 | F41: =ORÇAMENTO!F30 -> 651.9 | G41: =MEM!L207 -> 159.77 | H41: =441.29+G41 -> 601.06 | I41: =ROUND(E41*F41,2) -> 11548.76 | J41: =ROUND(E41*G41,2) -> 2830.41 | K41: =ROUND(E41*H41,2) -> 10648.1 | L41: =K41/I41 -> 0.92201241
A42: =ORÇAMENTO!A31 -> 2.13 | B42: =ORÇAMENTO!D31 -> REATERRO MANUAL APILOADO COM SOQUETE. AF_10/2017 | C42: =ORÇAMENTO!E31 -> m³ | E42: =ORÇAMENTO!G31*26.63%+ORÇAMENTO!G31 -> 42.775614 | F42: =ORÇAMENTO!F31 -> 24.3 | H42: 21.68 | I42: =ROUND(E42*F42,2) -> 1039.45 | J42: =ROUND(E42*G42,2) -> 0 | K42: =ROUND(E42*H42,2) -> 927.38 | L42: =K42/I42 -> 0.89218337
A43: =ORÇAMENTO!A32 -> 2.14 | B43: =ORÇAMENTO!D32 -> VERGA PRÉ-MOLDADA PARA PORTAS COM ATÉ 1,5 M DE VÃO. AF_03/2016 | C43: =ORÇAMENTO!E32 -> m | E43: =ORÇAMENTO!G32*26.63%+ORÇAMENTO!G32 -> 37.786392 | F43: =ORÇAMENTO!F32 -> 58.14 | H43: 9 | I43: =ROUND(E43*F43,2) -> 2196.9 | J43: =ROUND(E43*G43,2) -> 0 | K43: =ROUND(E43*H43,2) -> 340.08 | L43: =K43/I43 -> 0.15479995
A44: =ORÇAMENTO!A33 -> 2.15 | B44: =ORÇAMENTO!D33 -> VERGA PRÉ-MOLDADA PARA JANELAS COM ATÉ 1,5 M DE VÃO. AF_03/2016 | C44: =ORÇAMENTO!E33 -> m | E44: =ORÇAMENTO!G33*26.63%+ORÇAMENTO!G33 -> 52.184223 | F44: =ORÇAMENTO!F33 -> 16.9 | H44: 3.85 | I44: =ROUND(E44*F44,2) -> 881.91 | J44: =ROUND(E44*G44,2) -> 0 | K44: =ROUND(E44*H44,2) -> 200.91 | L44: =K44/I44 -> 0.22781236
A45: =ORÇAMENTO!A34 -> 2.16 | B45: =ORÇAMENTO!D34 -> CONTRAVERGA PRÉ-MOLDADA PARA VÃOS DE ATÉ 1,5 M DE COMPRIMENTO. AF_03/2016 | C45: =ORÇAMENTO!E34 -> m | E45: =ORÇAMENTO!G34*26.63%+ORÇAMENTO!G34 -> 50.322762 | F45: =ORÇAMENTO!F34 -> 16.9 | H45: 3.85 | I45: =ROUND(E45*F45,2) -> 850.45 | J45: =ROUND(E45*G45,2) -> 0 | K45: =ROUND(E45*H45,2) -> 193.74 | L45: =K45/I45 -> 0.22780881
A47: =ORÇAMENTO!A36 -> 3 | B47: ALVENARIA E VEDAÇÕES
...

Sheet MEM
C1: MEMÓRIA DE CÁLCULO - QUANTIDADES
C2: Obra: | H2: Proprietário:
C3: CENTRO DE ONCOLOGIA DE SOUSA | H3: Prefeitura Municipal de Sousa
C4: Local: | H4: Responsável Técnico:
C5: RUA LUIZ PEREIRA DA SILVA, S/N, CENTRO, SOUSA-PB
A7: Item | B7: Descrição | D7: Vez | E7: Dados | K7: Resultado | M7: Un.
E8: X1 | F8: X2 | G8: Y1 | H8: Y2 | I8: Z1 | J8: Z2 | K8: Parcial | L8: Total
A10: 1.0 | B10: =[1]REPROGRAMAÇÃO!C9 -> SERVIÇOS PRELIMINARES
A12: 1.3 | B12: =BM_06!B21 -> Demolição de piso de alta resistência | M12: M2
F13: BANHEIRO | H13: BANHEIRO | K13: TOTAL= | L13: =SUM(L16:L40) -> 736.73
K14: ACUMULADO | L14: 664.61
K15: BM06= | L15: =L13-L14 -> 72.12
B16: PEQUENOS PROCEDIMENTO | D16: 1 | E16: 5.2 | G16: 5.6 | K16: =(E16*G16)+(F16*H16) -> 29.12 | L16: =K16*D16 -> 29.12
B17: SALA DE COLETA | D17: 1 | E17: 5.2 | G17: 5.6 | K17: =(E17*G17)+(F17*H17) -> 29.12 | L17: =K17*D17 -> 29.12
B18: SALA DE OBSERVAÇÃO | D18: 1 | E18: 5.2 | G18: 5.6 | K18: =(E18*G18)+(F18*H18) -> 29.12 | L18: =K18*D18 -> 29.12
B19: SALA DE OBSERVAÇÃO | D19: 1 | E19: 5.2 | G19: 5.6 | K19: =(E19*G19)+(F19*H19) -> 29.12 | L19: =K19*D19 -> 29.12
B20: CIRCULAÇÃO ESQUEDA | D20: 1 | E20: 2 | G20: 20 | K20: =(E20*G20)+(F20*H20) -> 40 | L20: =K20*D20 -> 40
B21: CIRCULAÇÃO ATRAS | D21: 1 | E21: 2 | G21: 34.7 | K21: =(E21*G21)+(F21*H21) -> 69.4 | L21: =K21*D21 -> 69.4
K22: =(E22*G22)+(F22*H22) -> 0 | L22: =K22*D22 -> 0
B23: SALA DE TELEMEDICINA | D23: 1 | E23: 4.3 | G23: 3 | K23: =(E23*G23)+(F23*H23) -> 12.9 | L23: =K23*D23 -> 12.9
B24: SALA DE QUIMIOTERAPIA | D24: 1 | E24: 8.7 | G24: 6 | K24: =(E24*G24)+(F24*H24) -> 52.2 | L24: =K24*D24 -> 52.2
B25: SALA FISIOTERAPIA | D25: 1 | E25: 7.5 | G25: 4 | K25: =(E25*G25)+(F25*H25) -> 30 | L25: =K25*D25 -> 30
B26: CIRCULAÇÃO CENTRAL | D26: 1 | E26: 14.6 | G26: 2.7 | K26: =(E26*G26)+(F26*H26) -> 39.42 | L26: =K26*D26 -> 39.42
B27: CONSULTÓRIO MÉDICO 01 | D27: 1 | E27: 6.3 | F27: 3.9 | G27: 3.9 | H27: 1.4 | K27: =(E27*G27)+(F27*H27) -> 30.03 | L27: =K27*D27 -> 30.03
B28: CONSULTÓRIO MÉDICO 02 | D28: 1 | E28: 6.3 | G28: 3.9 | K28: =(E28*G28)+(F28*H28) -> 24.57 | L28: =K28*D28 -> 24.57
B29: SALA FINANCEIRO | D29: 1 | E29: 3.2 | G29: 3.5 | K29: =(E29*G29)+(F29*H29) -> 11.2 | L29: =K29*D29 -> 11.2
B30: DEPÓSITO | D30: 1 | E30: 5 | G30: 4.2 | K30: =(E30*G30)+(F30*H30) -> 21 | L30: =K30*D30 -> 21
B31: SALA DIRETORIA | D31: 1 | E31: 3.5 | F31: 1.5 | G31: 3 | H31: 1.6 | K31: =(E31*G31)+(F31*H31) -> 12.9 | L31: =K31*D31 -> 12.9
B32: LAVANDERIA | D32: 1 | E32: 4.2 | G32: 3.1 | K32: =(E32*G32)+(F32*H32) -> 13.02 | L32: =K32*D32 -> 13.02
B33: LAVAGEM,ROTULAÇÃO,BARREIRA | D33: 1 | E33: 7 | G33: 4.6 | K33: =(E33*G33)+(F33*H33) -> 32.2 | L33: =K33*D33 -> 32.2
B34: REFEITÓRIO | D34: 1 | E34: 3.7 | G34: 4.2 | K34: =(E34*G34)+(F34*H34) -> 15.54 | L34: =K34*D34 -> 15.54
B35: CIRCULAÇÃO LADO DIREITO | D35: 1 | E35: 34.7 | G35: 1.9 | K35: =(E35*G35)+(F35*H35) -> 65.93 | L35: =K35*D35 -> 65.93
B36: BANHEIRO LADO DIREITO | D36: 1 | E36: 3.5 | G36: 2.7 | K36: =(E36*G36)+(F36*H36) -> 9.45 | L36: =K36*D36 -> 9.45
B37: ASSISTENCIA SOCIAL | D37: 1 | E37: 3.4 | F37: 2.2 | G37: 3.1 | H37: 1 | K37: =(E37*G37)+(F37*H37) -> 12.74 | L37: =K37*D37 -> 12.74
B38: BANHEIRO RECEPÇÃO | D38: 1 | E38: 2.2 | G38: 1 | K38: =(E38*G38)+(F38*H38) -> 2.2 | L38: =K38*D38 -> 2.2
B39: BANHEIRO RECEPÇÃO | D39: 1 | E39: 5.9 | G39: 4.5 | K39: =(E39*G39)+(F39*H39) -> 26.55 | L39: =K39*D39 -> 26.55
B40: RECEPÇÃO | D40: 1 | E40: 15 | G40: 6.6 | K40: =(E40*G40)+(F40*H40) -> 99 | L40: =K40*D40 -> 99
A43: 1.6 | B43: ='[1]ITENS NOVOS'!D9 -> Remoção de caixão de madeira (aduela) | L43: =SUM(L45:L69) -> 36 | M43: UND
B45: PEQUENOS PROCEDIMENTOS | D45: 1 | E45: 2 | L45: =E45*D45 -> 2
B46: SALA DE COLETA | D46: 1 | E46: 1 | L46: =E46*D46 -> 1
...

Sheet relatório fotográfico
C1: RELATÓRIO FOTOGRÁFICO
A2: ESTADO DA PARAÍBA
A3: PREFEITURA MUNICIPAL DE SOUSA - PB
A6: Objetivo | G6: Agente Promotor | K6: Data de Emissão | L6: Nº BM
A7: CENTRO DE ONCOLOGIA DE SOUSA | G7: PREFEITURA MUNICIPAL DE SOUSA - PB | K7: 44600 | L7: 06
A9: Localização | G9: Contratada | K9: Início da Obra | L9: Termino da Obra
A10: RUA LUIZ PEREIRA DA SILVA, S/N, CENTRO, SOUSA-PB | G10: COMPACTO CONSTRUÇÕES EIRELI - EPP | K10: 44854 | L10: 45219
A12: Modalidade | C12: Nº de Contrato e Data de assinatura | G12: Valor do Contrato / PMS | I12: Valor da medição - R$ | K12: Período de medição
A13: CONCORRÊNCIA 06/2022 | C13: Nº 0701/2022 - 20/10/2022

Sheet MEM_
C1: MEMÓRIA DE CÁLCULO - QUANTIDADES
C2: Obra: | H2: Proprietário:
C3: CENTRO DE ONCOLOGIA DE SOUSA | H3: Prefeitura Municipal de Sousa
C4: Local: | H4: Responsável Técnico:
C5: RUA LUIZ PEREIRA DA SILVA, S/N, CENTRO, SOUSA-PB
A7: Item | B7: Descrição | D7: Vez | E7: Dados | K7: Resultado | M7: Un.
E8: X1 | F8: X2 | G8: Y1 | H8: Y2 | I8: Z1 | J8: Z2 | K8: Parcial | L8: Total
B10: SERVIÇOS PRELIMINARES
A12: 1.3 | B12: =BM_06!B21 -> Demolição de piso de alta resistência | M12: M2
F13: BANHEIRO | H13: BANHEIRO | K13: TOTAL= | L13: =SUM(L16:L40) -> 736.73
K14: ACUMULADO | L14: 608.61
K15: BM06= | L15: =L13-L14 -> 128.12
B16: PEQUENOS PROCEDIMENTO | D16: 1 | E16: 5.2 | G16: 5.6 | K16: =(E16*G16)+(F16*H16) -> 29.12 | L16: =K16*D16 -> 29.12
B17: SALA DE COLETA | D17: 1 | E17: 5.2 | G17: 5.6 | K17: =(E17*G17)+(F17*H17) -> 29.12 | L17: =K17*D17 -> 29.12
B18: SALA DE OBSERVAÇÃO | D18: 1 | E18: 5.2 | G18: 5.6 | K18: =(E18*G18)+(F18*H18) -> 29.12 | L18: =K18*D18 -> 29.12
B19: SALA DE OBSERVAÇÃO | D19: 1 | E19: 5.2 | G19: 5.6 | K19: =(E19*G19)+(F19*H19) -> 29.12 | L19: =K19*D19 -> 29.12
B20: CIRCULAÇÃO ESQUEDA | D20: 1 | E20: 2 | G20: 20 | K20: =(E20*G20)+(F20*H20) -> 40 | L20: =K20*D20 -> 40
B21: CIRCULAÇÃO ATRAS | D21: 1 | E21: 2 | G21: 34.7 | K21: =(E21*G21)+(F21*H21) -> 69.4 | L21: =K21*D21 -> 69.4
K22: =(E22*G22)+(F22*H22) -> 0 | L22: =K22*D22 -> 0
B23: SALA DE TELEMEDICINA | D23: 1 | E23: 4.3 | G23: 3 | K23: =(E23*G23)+(F23*H23) -> 12.9 | L23: =K23*D23 -> 12.9
B24: SALA DE QUIMIOTERAPIA | D24: 1 | E24: 8.7 | G24: 6 | K24: =(E24*G24)+(F24*H24) -> 52.2 | L24: =K24*D24 -> 52.2
B25: SALA FISIOTERAPIA | D25: 1 | E25: 7.5 | G25: 4 | K25: =(E25*G25)+(F25*H25) -> 30 | L25: =K25*D25 -> 30
B26: CIRCULAÇÃO CENTRAL | D26: 1 | E26: 14.6 | G26: 2.7 | K26: =(E26*G26)+(F26*H26) -> 39.42 | L26: =K26*D26 -> 39.42
B27: CONSULTÓRIO MÉDICO 01 | D27: 1 | E27: 6.3 | F27: 3.9 | G27: 3.9 | H27: 1.4 | K27: =(E27*G27)+(F27*H27) -> 30.03 | L27: =K27*D27 -> 30.03
B28: CONSULTÓRIO MÉDICO 02 | D28: 1 | E28: 6.3 | G28: 3.9 | K28: =(E28*G28)+(F28*H28) -> 24.57 | L28: =K28*D28 -> 24.57
B29: SALA FINANCEIRO | D29: 1 | E29: 3.2 | G29: 3.5 | K29: =(E29*G29)+(F29*H29) -> 11.2 | L29: =K29*D29 -> 11.2
B30: DEPÓSITO | D30: 1 | E30: 5 | G30: 4.2 | K30: =(E30*G30)+(F30*H30) -> 21 | L30: =K30*D30 -> 21
B31: SALA DIRETORIA | D31: 1 | E31: 3.5 | F31: 1.5 | G31: 3 | H31: 1.6 | K31: =(E31*G31)+(F31*H31) -> 12.9 | L31: =K31*D31 -> 12.9
B32: LAVANDERIA | D32: 1 | E32: 4.2 | G32: 3.1 | K32: =(E32*G32)+(F32*H32) -> 13.02 | L32: =K32*D32 -> 13.02
B33: LAVAGEM,ROTULAÇÃO,BARREIRA | D33: 1 | E33: 7 | G33: 4.6 | K33: =(E33*G33)+(F33*H33) -> 32.2 | L33: =K33*D33 -> 32.2
B34: REFEITÓRIO | D34: 1 | E34: 3.7 | G34: 4.2 | K34: =(E34*G34)+(F34*H34) -> 15.54 | L34: =K34*D34 -> 15.54
B35: CIRCULAÇÃO LADO DIREITO | D35: 1 | E35: 34.7 | G35: 1.9 | K35: =(E35*G35)+(F35*H35) -> 65.93 | L35: =K35*D35 -> 65.93
B36: BANHEIRO LADO DIREITO | D36: 1 | E36: 3.5 | G36: 2.7 | K36: =(E36*G36)+(F36*H36) -> 9.45 | L36: =K36*D36 -> 9.45
B37: ASSISTENCIA SOCIAL | D37: 1 | E37: 3.4 | F37: 2.2 | G37: 3.1 | H37: 1 | K37: =(E37*G37)+(F37*H37) -> 12.74 | L37: =K37*D37 -> 12.74
B38: BANHEIRO RECEPÇÃO | D38: 1 | E38: 2.2 | G38: 1 | K38: =(E38*G38)+(F38*H38) -> 2.2 | L38: =K38*D38 -> 2.2
B39: BANHEIRO RECEPÇÃO | D39: 1 | E39: 5.9 | G39: 4.5 | K39: =(E39*G39)+(F39*H39) -> 26.55 | L39: =K39*D39 -> 26.55
B40: RECEPÇÃO | D40: 1 | E40: 15 | G40: 6.6 | K40: =(E40*G40)+(F40*H40) -> 99 | L40: =K40*D40 -> 99
A43: =BM_06!A24 -> 1.6 | B43: =BM_06!B24 -> Remoção de caixão de madeira (aduela) | L43: =SUM(L45:L69) -> 36 | M43: M2
B45: PEQUENOS PROCEDIMENTOS | D45: 1 | E45: 2 | L45: =E45*D45 -> 2
B46: SALA DE COLETA | D46: 1 | E46: 1 | L46: =E46*D46 -> 1
...

Sheet MEM_05
C1: MEMÓRIA DE CÁLCULO - QUANTIDADES
C2: Obra: | H2: Proprietário:
C3: CENTRO DE ONCOLOGIA DE SOUSA | H3: Prefeitura Municipal de Sousa
C4: Local: | H4: Responsável Técnico:
C5: RUA LUIZ PEREIRA DA SILVA, S/N, CENTRO, SOUSA-PB
A7: Item | B7: Descrição | D7: Vez | E7: Dados | K7: Resultado | M7: Un.
E8: X1 | F8: X2 | G8: Y1 | H8: Y2 | I8: Z1 | J8: Z2 | K8: Parcial | L8: Total
B10: SERVIÇOS PRELIMINARES
A12: 1.3 | B12: =#REF! -> #REF! | M12: M2
F13: BANHEIRO | H13: BANHEIRO | K13: TOTAL= | L13: =SUM(L16:L40) -> 736.73
K14: ACUMULADO | L14: 608.61
K15: BM06= | L15: =L13-L14 -> 128.12
B16: PEQUENOS PROCEDIMENTO | D16: 1 | E16: 5.2 | G16: 5.6 | K16: =(E16*G16)+(F16*H16) -> 29.12 | L16: =K16*D16 -> 29.12
B17: SALA DE COLETA | D17: 1 | E17: 5.2 | G17: 5.6 | K17: =(E17*G17)+(F17*H17) -> 29.12 | L17: =K17*D17 -> 29.12
B18: SALA DE OBSERVAÇÃO | D18: 1 | E18: 5.2 | G18: 5.6 | K18: =(E18*G18)+(F18*H18) -> 29.12 | L18: =K18*D18 -> 29.12
B19: SALA DE OBSERVAÇÃO | D19: 1 | E19: 5.2 | G19: 5.6 | K19: =(E19*G19)+(F19*H19) -> 29.12 | L19: =K19*D19 -> 29.12
B20: CIRCULAÇÃO ESQUEDA | D20: 1 | E20: 2 | G20: 20 | K20: =(E20*G20)+(F20*H20) -> 40 | L20: =K20*D20 -> 40
B21: CIRCULAÇÃO ATRAS | D21: 1 | E21: 2 | G21: 34.7 | K21: =(E21*G21)+(F21*H21) -> 69.4 | L21: =K21*D21 -> 69.4
K22: =(E22*G22)+(F22*H22) -> 0 | L22: =K22*D22 -> 0
B23: SALA DE TELEMEDICINA | D23: 1 | E23: 4.3 | G23: 3 | K23: =(E23*G23)+(F23*H23) -> 12.9 | L23: =K23*D23 -> 12.9
B24: SALA DE QUIMIOTERAPIA | D24: 1 | E24: 8.7 | G24: 6 | K24: =(E24*G24)+(F24*H24) -> 52.2 | L24: =K24*D24 -> 52.2
B25: SALA FISIOTERAPIA | D25: 1 | E25: 7.5 | G25: 4 | K25: =(E25*G25)+(F25*H25) -> 30 | L25: =K25*D25 -> 30
B26: CIRCULAÇÃO CENTRAL | D26: 1 | E26: 14.6 | G26: 2.7 | K26: =(E26*G26)+(F26*H26) -> 39.42 | L26: =K26*D26 -> 39.42
B27: CONSULTÓRIO MÉDICO 01 | D27: 1 | E27: 6.3 | F27: 3.9 | G27: 3.9 | H27: 1.4 | K27: =(E27*G27)+(F27*H27) -> 30.03 | L27: =K27*D27 -> 30.03
B28: CONSULTÓRIO MÉDICO 02 | D28: 1 | E28: 6.3 | G28: 3.9 | K28: =(E28*G28)+(F28*H28) -> 24.57 | L28: =K28*D28 -> 24.57
B29: SALA FINANCEIRO | D29: 1 | E29: 3.2 | G29: 3.5 | K29: =(E29*G29)+(F29*H29) -> 11.2 | L29: =K29*D29 -> 11.2
B30: DEPÓSITO | D30: 1 | E30: 5 | G30: 4.2 | K30: =(E30*G30)+(F30*H30) -> 21 | L30: =K30*D30 -> 21
B31: SALA DIRETORIA | D31: 1 | E31: 3.5 | F31: 1.5 | G31: 3 | H31: 1.6 | K31: =(E31*G31)+(F31*H31) -> 12.9 | L31: =K31*D31 -> 12.9
B32: LAVANDERIA | D32: 1 | E32: 4.2 | G32: 3.1 | K32: =(E32*G32)+(F32*H32) -> 13.02 | L32: =K32*D32 -> 13.02
B33: LAVAGEM,ROTULAÇÃO,BARREIRA | D33: 1 | E33: 7 | G33: 4.6 | K33: =(E33*G33)+(F33*H33) -> 32.2 | L33: =K33*D33 -> 32.2
B34: REFEITÓRIO | D34: 1 | E34: 3.7 | G34: 4.2 | K34: =(E34*G34)+(F34*H34) -> 15.54 | L34: =K34*D34 -> 15.54
B35: CIRCULAÇÃO LADO DIREITO | D35: 1 | E35: 34.7 | G35: 1.9 | K35: =(E35*G35)+(F35*H35) -> 65.93 | L35: =K35*D35 -> 65.93
B36: BANHEIRO LADO DIREITO | D36: 1 | E36: 3.5 | G36: 2.7 | K36: =(E36*G36)+(F36*H36) -> 9.45 | L36: =K36*D36 -> 9.45
B37: ASSISTENCIA SOCIAL | D37: 1 | E37: 3.4 | F37: 2.2 | G37: 3.1 | H37: 1 | K37: =(E37*G37)+(F37*H37) -> 12.74 | L37: =K37*D37 -> 12.74
B38: BANHEIRO RECEPÇÃO | D38: 1 | E38: 2.2 | G38: 1 | K38: =(E38*G38)+(F38*H38) -> 2.2 | L38: =K38*D38 -> 2.2
B39: BANHEIRO RECEPÇÃO | D39: 1 | E39: 5.9 | G39: 4.5 | K39: =(E39*G39)+(F39*H39) -> 26.55 | L39: =K39*D39 -> 26.55
B40: RECEPÇÃO | D40: 1 | E40: 15 | G40: 6.6 | K40: =(E40*G40)+(F40*H40) -> 99 | L40: =K40*D40 -> 99
A44: =#REF! -> #REF! | B44: =#REF! -> #REF!
A46: =#REF! -> #REF! | B46: =#REF! -> #REF!
K47: BM06= | L47: =SUM(L48:L51) -> 150.03
...
