Workbook

Sheet ORÇAMENTO
A2: PREFEITURA MUNICIPAL DE SOUSA
A3: PLANILHA ORÇAMENTÁRIA SINTÉTICA
A4: OBRA : CENTRO DE ONCOLOGIA DE SOUSA
A5: ENDEREÇO: RUA LUIZ PEREIRA DA SILVA, S/N, CENTRO, SOUSA-PB
A6: REFERÊNCIA: ORSE, SEINFRA-CE E SINAPI-PB(FEVEREIRO/2022) C/DESONERAÇÃO - ENCARGOS SOCIAIS : 86,59% (HORA) - 48,16 % (MÊS) | H6: BDI = 26,63%
A7: Empresa: COMPACTO CONSTRUÇÕES E SERVIÇOS - EIRELE - CNPJ: 09.545.520/0001-54 - Telefone: (83) 9 9117-7810 - Email: compactoconstrucoes1@gmail.com
A8: Responsável Técnico: LÚCIO LAURO BARBOSA - CREA/PB Nº 160.594.868-3
A9: ITEM | B9: FONTE | C9: CÓDIGO | D9: DISCRIMINAÇÃO DO SERVIÇOS | E9: UNID. | F9: QUANT. | G9: VALOR UNIT. (R$) | H9: VALOR TOTAL (R$)
A11: 1 | B11: SERVIÇOS PRELIMINARES | H11: =SUM(H12:H16) -> 18776.64 | J11: 0.965
A12: 1.1 | B12: ORSE | C12: 51 | D12: Placa de Obra em chapa de aço galvanizado, instalada - Rev 02 01/2022 | E12: m² | F12: 4.5 | G12: =L12 -> 334.14 | H12: =ROUND(F12*G12,2) -> 1503.63 | K12: 346.26 | L12: =ROUND(K12*$J$11,2) -> 334.14
A13: 1.2 | B13: SINAPI | C13: 97622 | D13: DEMOLIÇÃO DE ALVENARIA DE BLOCOFURADO, DE FORMA MANUAL, SEM REAPROVEITAMENTO | E13: m³ | F13: 63.41 | G13: =L13 -> 36.7 | H13: =ROUND(F13*G13,2) -> 2327.15 | K13: 38.03 | L13: =ROUND(K13*$J$11,2) -> 36.7
A14: 1.3 | B14: ORSE | C14: 3240 | D14: Demolição de piso de alta resistência | E14: m² | F14: 774.83 | G14: =L14 -> 16.44 | H14: =ROUND(F14*G14,2) -> 12738.21 | K14: 17.04 | L14: =ROUND(K14*$J$11,2) -> 16.44
A15: 1.4 | B15: SINAPI | C15: 97650 | D15: REMOÇÃO DE TRAMA DE MADEIRA PARA COBERTURA, DE FORMA MANUAL, SEM REAPROVEITAMENTO. AF 12/2017 | E15: m² | F15: 309.93 | G15: =L15 -> 4.75 | H15: =ROUND(F15*G15,2) -> 1472.17 | K15: 4.92 | L15: =ROUND(K15*$J$11,2) -> 4.75
A16: 1.5 | B16: SINAPI | C16: 100981 | D16: CARGA, MANOBRA E DESCARGA DE ENTULHO EM CAMINHÃO BASCULANTE 6 M³ - CARGA COM ESCAVADEIRA HIDRÁULICA (CAÇAMBA DE 0,80 M³/111 HP) E DESCARGA LIVRE (UNIDADE: M³). AF 07/2020 | E16: m³ | F16: 102.15 | G16: =L16 -> 7.2 | H16: =ROUND(F16*G16,2) -> 735.48 | K16: 7.46 | L16: =ROUND(K16*$J$11,2) -> 7.2
L17: =ROUND(K17*$J$11,2) -> 0
A18: 2 | B18: INFRA ESTRUTURA E SUPERESTRUTURA | H18: =SUM(H19:H34) -> 92960.22 | L18: =ROUND(K18*$J$11,2) -> 0
A19: 2.1 | B19: SINAPI | C19: 96523 | D19: ESCAVAÇÃO MANUAL PARA BLOCO DE COROAMENTO OU SAPATA (INCLUINDO ESCAVAÇÃO PARA COLOCAÇÃO DE FÔRMAS). AF_06/2017 | E19: m³ | F19: 28.86 | G19: =L19 -> 63.86 | H19: =ROUND(F19*G19,2) -> 1843 | K19: 66.18 | L19: =ROUND(K19*$J$11,2) -> 63.86
A20: 2.2 | B20: SINAPI | C20: 101964 | D20: LAJE PRÉ-MOLDADA UNIDIRECIONAL, BIAPOIADA, PARA FORRO, ENCHIMENTO EM CERÂMICA, VIGOTA CONVENCIONAL, ALTURA TOTAL DA LAJE (ENCHIMENTO+CAPA) = (8+3). AF_11/2020 | E20: m² | F20: 57.88 | G20: =L20 -> 141.66 | H20: =ROUND(F20*G20,2) -> 8199.28 | K20: 146.8 | L20: =ROUND(K20*$J$11,2) -> 141.66
A21: 2.3 | B21: SINAPI | C21: 96619 | D21: LASTRO DE CONCRETO MAGRO, APLICADO EM BLOCOS DE COROAMENTO OU SAPATAS, ESPESSURA DE 5 CM. AF_08/2017 | E21: m² | F21: 19.24 | G21: =L21 -> 22.75 | H21: =ROUND(F21*G21,2) -> 437.71 | K21: 23.57 | L21: =ROUND(K21*$J$11,2) -> 22.75
A22: 2.4 | B22: SINAPI | C22: 94971 | D22: CONCRETO FCK = 25MPA, TRAÇO 1:2,3:2,7 (EM MASSA SECA DE CIMENTO/ AREIA MÉDIA/ BRITA 1) - PREPARO MECÂNICO COM BETONEIRA 600 L. AF_05/2021 | E22: m³ | F22: 5.8 | G22: =L22 -> 353.29 | H22: =ROUND(F22*G22,2) -> 2049.08 | K22: 366.1 | L22: =ROUND(K22*$J$11,2) -> 353.29
A23: 2.5 | B23: SINAPI | C23: 94972 | D23: CONCRETO FCK = 30MPA, TRAÇO 1:2,1:2,5 (EM MASSA SECA DE CIMENTO/ AREIA MÉDIA/ BRITA 1) - PREPARO MECÂNICO COM BETONEIRA 600 L. AF_05/2021 | E23: m³ | F23: 30.1 | G23: =L23 -> 364.81 | H23: =ROUND(F23*G23,2) -> 10980.78 | K23: 378.04 | L23: =ROUND(K23*$J$11,2) -> 364.81
A24: 2.6 | B24: SINAPI | C24: 92873 | D24: LANÇAMENTO COM USO DE BALDES, ADENSAMENTO E ACABAMENTO DE CONCRETO EM ESTRUTURAS. AF_12/2015 | E24: m³ | F24: 35.9 | G24: =L24 -> 191.33 | H24: =ROUND(F24*G24,2) -> 6868.75 | K24: 198.27 | L24: =ROUND(K24*$J$11,2) -> 191.33
A25: 2.7 | B25: ORSE | C25: 90 | D25: Forma plana para fundações, em tábua de pinho, 07 usos. | E25: m² | F25: 19.3 | G25: =L25 -> 65.36 | H25: =ROUND(F25*G25,2) -> 1261.45 | K25: 67.73 | L25: =ROUND(K25*$J$11,2) -> 65.36
A26: 2.8 | B26: ORSE | C26: 3366 | D26: Forma plana para estruturas, em compensado plastificado de 12mm, 07 usos. | E26: m² | F26: 421.3 | G26: =L26 -> 55.18 | H26: =ROUND(F26*G26,2) -> 23247.33 | K26: 57.18 | L26: =ROUND(K26*$J$11,2) -> 55.18
A27: 2.9 | B27: SINAPI | C27: 92763 | D27: ARMAÇÃO DE PILAR OU VIGA DE UMA ESTRUTURA CONVENCIONAL DE CONCRETO ARMADO EM UM EDIFÍCIO DE MÚLTIPLOS PAVIMENTOS UTILIZANDO AÇO CA-50 DE 12,5 MM - MONTAGEM. AF_12/2015 | E27: kg | F27: 480.3 | G27: =L27 -> 10.32 | H27: =ROUND(F27*G27,2) -> 4956.7 | K27: 10.69 | L27: =ROUND(K27*$J$11,2) -> 10.32
A28: 2.10 | B28: SINAPI | C28: 92762 | D28: ARMAÇÃO DE PILAR OU VIGA DE UMA ESTRUTURA CONVENCIONAL DE CONCRETO ARMADO EM UM EDIFÍCIO DE MÚLTIPLOS PAVIMENTOS UTILIZANDO AÇO CA-50 DE 10,0 MM - MONTAGEM. AF_12/2015 | E28: kg | F28: 1608.2 | G28: =L28 -> 12.09 | H28: =ROUND(F28*G28,2) -> 19443.14 | K28: 12.53 | L28: =ROUND(K28*$J$11,2) -> 12.09
A29: 2.11 | B29: SINAPI | C29: 92764 | D29: ARMAÇÃO DE PILAR OU VIGA DE UMA ESTRUTURA CONVENCIONAL DE CONCRETO ARMADO EM UM EDIFÍCIO DE MÚLTIPLOS PAVIMENTOS UTILIZANDO AÇO CA-50 DE 16,0 MM - MONTAGEM. AF_12/2015 | E29: kg | F29: 63.1 | G29: =L29 -> 9.97 | H29: =ROUND(F29*G29,2) -> 629.11 | K29: 10.33 | L29: =ROUND(K29*$J$11,2) -> 9.97
A30: 2.12 | B30: SINAPI | C30: 92759 | D30: ARMAÇÃO DE PILAR OU VIGA DE UMA ESTRUTURA CONVENCIONAL DE CONCRETO ARMADO EM UM EDIFÍCIO DE MÚLTIPLOS PAVIMENTOS UTILIZANDO AÇO CA-60 DE 5,0 MM - MONTAGEM. AF_12/2015 | E30: kg | F30: 651.9 | G30: =L30 -> 13.99 | H30: =ROUND(F30*G30,2) -> 9120.08 | K30: 14.5 | L30: =ROUND(K30*$J$11,2) -> 13.99
... A34: 2.16 | B34: SINAPI | C34: 93194 | D34: CONTRAVERGA PRÉ-MOLDADA PARA VÃOS DE ATÉ 1,5 M DE COMPRIMENTO. AF_03/2016 | E34: m | F34: 16.9 | G34: =L34 -> 39.74 | H34: =ROUND(F34*G34,2) -> 671.61 | K34: 41.18 | L34: =ROUND(K34*$J$11,2) -> 39.74
L35: =ROUND(K35*$J$11,2) -> 0
A36: 3 | B36: ALVENARIA E VEDAÇÕES | H36: =SUM(H37:H38) -> 43303.58 | L36: =ROUND(K36*$J$11,2) -> 0
A37: 3.1 | B37: SINAPI | C37: 103326 | D37: ALVENARIA DE VEDAÇÃO DE BLOCOS CERÂMICOS FURADOS NA VERTICAL DE 19X19X39 CM (ESPESSURA 19 CM) E ARGAMASSA DE ASSENTAMENTO COM PREPARO EM BETONEIRA. AF_12/2021 | E37: m² | F37: 209.45 | G37: =L37 -> 61.96 | H37: =ROUND(F37*G37,2) -> 12977.52 | K37: 64.21 | L37: =ROUND(K37*$J$11,2) -> 61.96
A38: 3.2 | B38: ORSE | C38: 191 | D38: Divisória em granito cinza andorinha polido, e=2cm, inclusive com montagem em ferragem - Rev 02. | E38: m² | F38: 53.89 | G38: =L38 -> 562.74 | H38: =ROUND(F38*G38,2) -> 30326.06 | K38: 583.15 | L38: =ROUND(K38*$J$11,2) -> 562.74
L39: =ROUND(K39*$J$11,2) -> 0
A40: 4 | B40: IMPERMEABILIZAÇÕES | H40: =SUM(H41:H42) -> 6503.26 | L40: =ROUND(K40*$J$11,2) -> 0
A41: 4.1 | B41: SINAPI | C41: 98557 | D41: IMPERMEABILIZAÇÃO DE SUPERFÍCIE COM EMULSÃO ASFÁLTICA, 2 DEMÃOS AF_06/2018 | E41: m² | F41: 25.12 | G41: =L41 -> 38.52 | H41: =ROUND(F41*G41,2) -> 967.62 | K41: 39.92 | L41: =ROUND(K41*$J$11,2) -> 38.52
A42: 4.2 | B42: SINAPI | C42: 98546 | D42: IMPERMEABILIZAÇÃO DE SUPERFÍCIE COM MANTA ASFÁLTICA, UMA CAMADA, INCLUSIVE APLICAÇÃO DE PRIMER ASFÁLTICO, E=3MM. AF_06/2018 | E42: m² | F42: 57.88 | G42: =L42 -> 95.64 | H42: =ROUND(F42*G42,2) -> 5535.64 | K42: 99.11 | L42: =ROUND(K42*$J$11,2) -> 95.64
L43: =ROUND(K43*$J$11,2) -> 0
A44: 5 | B44: COBERTURAS E PROTEÇÕES | H44: =SUM(H45:H47) -> 51264.13 | L44: =ROUND(K44*$J$11,2) -> 0
A45: 5.1 | B45: SINAPI | C45: 92539 | D45: TRAMA DE MADEIRA COMPOSTA POR RIPAS, CAIBROS E TERÇAS PARA TELHADOS DE ATÉ 2 ÁGUAS PARA TELHA DE ENCAIXE DE CERÂMICA OU DE CONCRETO, INCLUSO TRANSPORTE VERTICAL. AF_07/2019 | E45: m² | F45: 309.93 | G45: =L45 -> 60.47 | H45: =ROUND(F45*G45,2) -> 18741.47 | K45: 62.66 | L45: =ROUND(K45*$J$11,2) -> 60.47
...

Sheet REPROGRAMAÇÃO
A1: ESTADO DA PARAÍBA
A2: PREFEITURA MUNICIPAL DE SOUSA
A3: TOMADA DE PREÇO - CONTRATO Nº
A4: OBRA : CENTRO DE ONCOLOGIA DE SOUSA
A6: REPROGRAMAÇÃO
A7: ITEM | B7: REFERÊNCIA | C7: DESCRIÇÃO DOS SERVIÇOS | D7: ORIGEM | E7: UND. | F7: QUANTIDADES | J7: PREÇO UNITÁRIO COM BDI | K7: PREÇO TOTAL R$
F8: LICITADA | G8: ACRESCIDO | H8: SUPRIMIDO | I8: REPROGRAMADA | K8: LICITADO | L8: ACRESCIDO | M8: SUPRIMIDO | N8: REPROGRAMADO
C9: =[2]ORÇAMENTO!B11 -> SERVIÇOS PRELIMINARES
A10: =[2]ORÇAMENTO!A12 -> 1.1 | B10: =[2]ORÇAMENTO!C12 -> 51 | C10: =[2]ORÇAMENTO!D12 -> Placa de Obra em chapa de aço galvanizado, instalada - Rev 02 01/2022 | D10: =[2]ORÇAMENTO!B12 -> ORSE | E10: =[2]ORÇAMENTO!E12 -> m² | F10: =[2]ORÇAMENTO!F12 -> 4.5 | J10: =[2]ORÇAMENTO!G12*26.63%+[2]ORÇAMENTO!G12 -> 423.12148 | K10: =ROUND(F10*J10,2) -> 1904.05
A11: =[2]ORÇAMENTO!A13 -> 1.2 | B11: =[2]ORÇAMENTO!C13 -> 97622 | C11: =[2]ORÇAMENTO!D13 -> DEMOLIÇÃO DE ALVENARIA DE BLOCOFURADO, DE FORMA MANUAL, SEM REAPROVEITAMENTO | D11: =[2]ORÇAMENTO!B13 -> SINAPI | E11: =[2]ORÇAMENTO!E13 -> m³ | F11: =[2]ORÇAMENTO!F13 -> 63.41 | J11: =[2]ORÇAMENTO!G13*26.63%+[2]ORÇAMENTO!G13 -> 46.47321 | K11: =ROUND(F11*J11,2) -> 2946.87
A12: =[2]ORÇAMENTO!A14 -> 1.3 | B12: =[2]ORÇAMENTO!C14 -> 3240 | C12: =[2]ORÇAMENTO!D14 -> Demolição de piso de alta resistência | D12: =[2]ORÇAMENTO!B14 -> ORSE | E12: =[2]ORÇAMENTO!E14 -> m² | F12: =[2]ORÇAMENTO!F14 -> 774.83 | J12: =[2]ORÇAMENTO!G14*26.63%+[2]ORÇAMENTO!G14 -> 20.817972 | K12: =ROUND(F12*J12,2) -> 16130.39
A13: =[2]ORÇAMENTO!A15 -> 1.4 | B13: =[2]ORÇAMENTO!C15 -> 97650 | C13: =[2]ORÇAMENTO!D15 -> REMOÇÃO DE TRAMA DE MADEIRA PARA COBERTURA, DE FORMA MANUAL, SEM REAPROVEITAMENTO. AF 12/2017 | D13: =[2]ORÇAMENTO!B15 -> SINAPI | E13: =[2]ORÇAMENTO!E15 -> m² | F13: =[2]ORÇAMENTO!F15 -> 309.93 | J13: =[2]ORÇAMENTO!G15*26.63%+[2]ORÇAMENTO!G15 -> 6.014925 | K13: =ROUND(F13*J13,2) -> 1864.21
A14: =[2]ORÇAMENTO!A16 -> 1.5 | B14: =[2]ORÇAMENTO!C16 -> 100981 | C14: =[2]ORÇAMENTO!D16 -> CARGA, MANOBRA E DESCARGA DE ENTULHO EM CAMINHÃO BASCULANTE 6 M³ - CARGA COM ESCAVADEIRA HIDRÁULICA (CAÇAMBA DE 0,80 M³/111 HP) E DESCARGA LIVRE (UNIDADE: M³). AF 07/2020 | D14: =[2]ORÇAMENTO!B16 -> SINAPI | E14: =[2]ORÇAMENTO!E16 -> m³ | F14: =[2]ORÇAMENTO!F16 -> 102.15 | J14: =[2]ORÇAMENTO!G16*26.63%+[2]ORÇAMENTO!G16 -> 9.11736 | K14: =ROUND(F14*J14,2) -> 931.34
A15: 1.6 | B15: 7725 | C15: Remoção de pintura látex (raspagem e/ou lixamento e/ou escovação) | D15: ORSE | E15: m2 | G15: =[2]MEM!L12 -> 1218.784 | I15: 2115 | J15: ='[2]ITENS NOVOS'!I7 -> 7.46 | L15: =G15*J15 -> 9092.1286 | N15: =I15*J15 -> 15777.9
A16: 1.7 | B16: 90447 | C16: RASGO EM ALVENARIA PARA ELETRODUTOS COM DIAMETROS MENORES OU IGUAIS A 40 MM. AF_05/2015 | D16: SINAPI | E16: M | G16: =[2]MEM!L43 -> 247.3 | I16: =G16 -> 247.3 | J16: ='[2]ITENS NOVOS'!I8 -> 5.45 | L16: =G16*J16 -> 1347.785 | N16: =I16*J16 -> 1347.785
A17: 1.8 | B17: 3141 | C17: Remoção de caixão de madeira (aduela) | D17: ORSE | E17: un | G17: =[2]MEM!L74 -> 36 | I17: =G17 -> 36 | J17: ='[2]ITENS NOVOS'!I9 -> 8.09 | L17: =G17*J17 -> 291.24 | N17: =I17*J17 -> 291.24
A18: 1.9 | B18: 97645 | C18: REMOÇÃO DE JANELAS, DE FORMA MANUAL, SEM REAPROVEITAMENTO. AF_12/2017 | D18: SINAPI | E18: M2 | G18: =[2]MEM!L103 -> 14 | I18: =G18 -> 14 | J18: ='[2]ITENS NOVOS'!I10 -> 29.92 | L18: =G18*J18 -> 418.88 | N18: =I18*J18 -> 418.88
A19: 1.10 | B19: 97641 | C19: REMOÇÃO DE FORRO DE GESSO, DE FORMA MANUAL, SEM REAPROVEITAMENTO. AF_12/2017 | D19: SINAPI | E19: M2 | G19: =[2]MEM!L125 -> 396.84 | I19: =G19 -> 396.84 | J19: ='[2]ITENS NOVOS'!I11 -> 4.06 | L19: =G19*J19 -> 1611.1704 | N19: =I19*J19 -> 1611.1704
A20: 1.11 | B20: 97628 | C20: DEMOLIÇÃO DE LAJES, DE FORMA MANUAL, SEM REAPROVEITAMENTO. AF_12/2017 | D20: SINAPI | E20: M3 | G20: =[2]MEM!L137 -> 35.364 | I20: =G20 -> 35.364 | J20: ='[2]ITENS NOVOS'!I12 -> 229.97 | L20: =G20*J20 -> 8132.6591 | N20: =I20*J20 -> 8132.6591
A21: 1.14 | B21: 97647 | C21: REMOÇÃO DE TELHAS, DE FIBROCIMENTO, METÁLICA E CERÂMICA, DE FORMA MANUAL, SEM REAPROVEITAMENTO. AF_12/2017 | D21: SINAPI | E21: M2 | G21: =[2]MEM!L164 -> 636.84 | I21: =G21 -> 636.84 | J21: ='[2]ITENS NOVOS'!I15 -> 2.79 | L21: =G21*J21 -> 1776.7836 | N21: =I21*J21 -> 1776.7836
A22: 1.16 | B22: 26 | C22: Coleta e carga manuais de entulho | D22: ORSE | E22: M3 | G22: =[2]MEM!L172 -> 165.3964 | I22: =G22 -> 165.3964 | J22: ='[2]ITENS NOVOS'!I35 -> 18.65 | L22: =G22*J22 -> 3084.6429 | N22: =I22*J22 -> 3084.6429
A24: =[2]ORÇAMENTO!A18 -> 2 | C24: =[2]ORÇAMENTO!B18 -> INFRA ESTRUTURA E SUPERESTRUTURA
A25: =[2]ORÇAMENTO!A19 -> 2.1 | B25: =[2]ORÇAMENTO!C19 -> 96523 | C25: =[2]ORÇAMENTO!D19 -> ESCAVAÇÃO MANUAL PARA BLOCO DE COROAMENTO OU SAPATA (INCLUINDO ESCAVAÇÃO PARA COLOCAÇÃO DE FÔRMAS). AF_06/2017 | D25: =[2]ORÇAMENTO!B19 -> SINAPI | E25: =[2]ORÇAMENTO!E19 -> m³ | F25: =[2]ORÇAMENTO!F19 -> 28.86 | J25: =[2]ORÇAMENTO!G19*26.63%+[2]ORÇAMENTO!G19 -> 80.865918 | K25: =ROUND(F25*J25,2) -> 2333.79
A26: =[2]ORÇAMENTO!A20 -> 2.2 | B26: =[2]ORÇAMENTO!C20 -> 101964 | C26: =[2]ORÇAMENTO!D20 -> LAJE PRÉ-MOLDADA UNIDIRECIONAL, BIAPOIADA, PARA FORRO, ENCHIMENTO EM CERÂMICA, VIGOTA CONVENCIONAL, ALTURA TOTAL DA LAJE (ENCHIMENTO+CAPA) = (8+3). AF_11/2020 | D26: =[2]ORÇAMENTO!B20 -> SINAPI | E26: =[2]ORÇAMENTO!E20 -> m² | F26: =[2]ORÇAMENTO!F20 -> 57.88 | J26: =[2]ORÇAMENTO!G20*26.63%+[2]ORÇAMENTO!G20 -> 179.38406 | K26: =ROUND(F26*J26,2) -> 10382.75
A27: =[2]ORÇAMENTO!A21 -> 2.3 | B27: =[2]ORÇAMENTO!C21 -> 96619 | C27: =[2]ORÇAMENTO!D21 -> LASTRO DE CONCRETO MAGRO, APLICADO EM BLOCOS DE COROAMENTO OU SAPATAS, ESPESSURA DE 5 CM. AF_08/2017 | D27: =[2]ORÇAMENTO!B21 -> SINAPI | E27: =[2]ORÇAMENTO!E21 -> m² | F27: =[2]ORÇAMENTO!F21 -> 19.24 | J27: =[2]ORÇAMENTO!G21*26.63%+[2]ORÇAMENTO!G21 -> 28.808325 | K27: =ROUND(F27*J27,2) -> 554.27
A28: =[2]ORÇAMENTO!A22 -> 2.4 | B28: =[2]ORÇAMENTO!C22 -> 94971 | C28: =[2]ORÇAMENTO!D22 -> CONCRETO FCK = 25MPA, TRAÇO 1:2,3:2,7 (EM MASSA SECA DE CIMENTO/ AREIA MÉDIA/ BRITA 1) - PREPARO MECÂNICO COM BETONEIRA 600 L. AF_05/2021 | D28: =[2]ORÇAMENTO!B22 -> SINAPI | E28: =[2]ORÇAMENTO!E22 -> m³ | F28: =[2]ORÇAMENTO!F22 -> 5.8 | J28: =[2]ORÇAMENTO!G22*26.63%+[2]ORÇAMENTO!G22 -> 447.37113 | K28: =ROUND(F28*J28,2) -> 2594.75
A29: =[2]ORÇAMENTO!A23 -> 2.5 | B29: =[2]ORÇAMENTO!C23 -> 94972 | C29: =[2]ORÇAMENTO!D23 -> CONCRETO FCK = 30MPA, TRAÇO 1:2,1:2,5 (EM MASSA SECA DE CIMENTO/ AREIA MÉDIA/ BRITA 1) - PREPARO MECÂNICO COM BETONEIRA 600 L. AF_05/2021 | D29: =[2]ORÇAMENTO!B23 -> SINAPI | E29: =[2]ORÇAMENTO!E23 -> m³ | F29: =[2]ORÇAMENTO!F23 -> 30.1 | G29: =[2]MEM!L221 -> 12.2958 | I29: =F29+G29 -> 42.3958 | J29: =[2]ORÇAMENTO!G23*26.63%+[2]ORÇAMENTO!G23 -> 461.9589 | K29: =ROUND(F29*J29,2) -> 13904.96 | L29: =G29*J29 -> 5680.1543 | N29: =I29*J29 -> 19585.117
A30: =[2]ORÇAMENTO!A24 -> 2.6 | B30: =[2]ORÇAMENTO!C24 -> 92873 | C30: =[2]ORÇAMENTO!D24 -> LANÇAMENTO COM USO DE BALDES, ADENSAMENTO E ACABAMENTO DE CONCRETO EM ESTRUTURAS. AF_12/2015 | D30: =[2]ORÇAMENTO!B24 -> SINAPI | E30: =[2]ORÇAMENTO!E24 -> m³ | F30: =[2]ORÇAMENTO!F24 -> 35.9 | J30: =[2]ORÇAMENTO!G24*26.63%+[2]ORÇAMENTO!G24 -> 242.28118 | K30: =ROUND(F30*J30,2) -> 8697.89
A31: =[2]ORÇAMENTO!A25 -> 2.7 | B31: =[2]ORÇAMENTO!C25 -> 90 | C31: =[2]ORÇAMENTO!D25 -> Forma plana para fundações, em tábua de pinho, 07 usos. | D31: =[2]ORÇAMENTO!B25 -> ORSE | E31: =[2]ORÇAMENTO!E25 -> m² | F31: =[2]ORÇAMENTO!F25 -> 19.3 | J31: =[2]ORÇAMENTO!G25*26.63%+[2]ORÇAMENTO!G25 -> 82.765368 | K31: =ROUND(F31*J31,2) -> 1597.37
A32: =[2]ORÇAMENTO!A26 -> 2.8 | B32: =[2]ORÇAMENTO!C26 -> 3366 | C32: =[2]ORÇAMENTO!D26 -> Forma plana para estruturas, em compensado plastificado de 12mm, 07 usos. | D32: =[2]ORÇAMENTO!B26 -> ORSE | E32: =[2]ORÇAMENTO!E26 -> m² | F32: =[2]ORÇAMENTO!F26 -> 421.3 | J32: =[2]ORÇAMENTO!G26*26.63%+[2]ORÇAMENTO!G26 -> 69.874434 | K32: =ROUND(F32*J32,2) -> 29438.1
A33: =[2]ORÇAMENTO!A27 -> 2.9 | B33: =[2]ORÇAMENTO!C27 -> 92763 | C33: =[2]ORÇAMENTO!D27 -> ARMAÇÃO DE PILAR OU VIGA DE UMA ESTRUTURA CONVENCIONAL DE CONCRETO ARMADO EM UM EDIFÍCIO DE MÚLTIPLOS PAVIMENTOS UTILIZANDO AÇO CA-50 DE 12,5 MM - MONTAGEM. AF_12/2015 | D33: =[2]ORÇAMENTO!B27 -> SINAPI | E33: =[2]ORÇAMENTO!E27 -> kg | F33: =[2]ORÇAMENTO!F27 -> 480.3 | G33: =[2]MEM!L249 -> 99.05 | I33: =F33+G33 -> 579.35 | J33: =[2]ORÇAMENTO!G27*26.63%+[2]ORÇAMENTO!G27 -> 13.068216 | K33: =ROUND(F33*J33,2) -> 6276.66 | L33: =G33*J33 -> 1294.4068 | N33: =I33*J33 -> 7571.0709
A34: =[2]ORÇAMENTO!A28 -> 2.10 | B34: =[2]ORÇAMENTO!C28 -> 92762 | C34: =[2]ORÇAMENTO!D28 -> ARMAÇÃO DE PILAR OU VIGA DE UMA ESTRUTURA CONVENCIONAL DE CONCRETO ARMADO EM UM EDIFÍCIO DE MÚLTIPLOS PAVIMENTOS UTILIZANDO AÇO CA-50 DE 10,0 MM - MONTAGEM. AF_12/2015 | D34: =[2]ORÇAMENTO!B28 -> SINAPI | E34: =[2]ORÇAMENTO!E28 -> kg | F34: =[2]ORÇAMENTO!F28 -> 1608.2 | G34: =[2]MEM!L259 -> 446.57226 | I34: =F34+G34 -> 2054.7723 | J34: =[2]ORÇAMENTO!G28*26.63%+[2]ORÇAMENTO!G28 -> 15.309567 | K34: =ROUND(F34*J34,2) -> 24620.85 | L34: =G34*J34 -> 6836.8279 | N34: =I34*J34 -> 31457.674
A35: =[2]ORÇAMENTO!A29 -> 2.11 | B35: =[2]ORÇAMENTO!C29 -> 92764 | C35: =[2]ORÇAMENTO!D29 -> ARMAÇÃO DE PILAR OU VIGA DE UMA ESTRUTURA CONVENCIONAL DE CONCRETO ARMADO EM UM EDIFÍCIO DE MÚLTIPLOS PAVIMENTOS UTILIZANDO AÇO CA-50 DE 16,0 MM - MONTAGEM. AF_12/2015 | D35: =[2]ORÇAMENTO!B29 -> SINAPI | E35: =[2]ORÇAMENTO!E29 -> kg | F35: =[2]ORÇAMENTO!F29 -> 63.1 | J35: =[2]ORÇAMENTO!G29*26.63%+[2]ORÇAMENTO!G29 -> 12.625011 | K35: =ROUND(F35*J35,2) -> 796.64
A36: =[2]ORÇAMENTO!A30 -> 2.12 | B36: =[2]ORÇAMENTO!C30 -> 92759 | C36: =[2]ORÇAMENTO!D30 -> ARMAÇÃO DE PILAR OU VIGA DE UMA ESTRUTURA CONVENCIONAL DE CONCRETO ARMADO EM UM EDIFÍCIO DE MÚLTIPLOS PAVIMENTOS UTILIZANDO AÇO CA-60 DE 5,0 MM - MONTAGEM. AF_12/2015 | D36: =[2]ORÇAMENTO!B30 -> SINAPI | E36: =[2]ORÇAMENTO!E30 -> kg | F36: =[2]ORÇAMENTO!F30 -> 651.9 | J36: =[2]ORÇAMENTO!G30*26.63%+[2]ORÇAMENTO!G30 -> 17.715537 | K36: =ROUND(F36*J36,2) -> 11548.76
A37: =[2]ORÇAMENTO!A31 -> 2.13 | B37: =[2]ORÇAMENTO!C31 -> 96995 | C37: =[2]ORÇAMENTO!D31 -> REATERRO MANUAL APILOADO COM SOQUETE. AF_10/2017 | D37: =[2]ORÇAMENTO!B31 -> SINAPI | E37: =[2]ORÇAMENTO!E31 -> m³ | F37: =[2]ORÇAMENTO!F31 -> 24.3 | J37: =[2]ORÇAMENTO!G31*26.63%+[2]ORÇAMENTO!G31 -> 42.775614 | K37: =ROUND(F37*J37,2) -> 1039.45
A38: =[2]ORÇAMENTO!A32 -> 2.14 | B38: =[2]ORÇAMENTO!C32 -> 93184 | C38: =[2]ORÇAMENTO!D32 -> VERGA PRÉ-MOLDADA PARA PORTAS COM ATÉ 1,5 M DE VÃO. AF_03/2016 | D38: =[2]ORÇAMENTO!B32 -> SINAPI | E38: =[2]ORÇAMENTO!E32 -> m | F38: =[2]ORÇAMENTO!F32 -> 58.14 | J38: =[2]ORÇAMENTO!G32*26.63%+[2]ORÇAMENTO!G32 -> 37.786392 | K38: =ROUND(F38*J38,2) -> 2196.9
A39: =[2]ORÇAMENTO!A33 -> 2.15 | B39: =[2]ORÇAMENTO!C33 -> 93182 | C39: =[2]ORÇAMENTO!D33 -> VERGA PRÉ-MOLDADA PARA JANELAS COM ATÉ 1,5 M DE VÃO. AF_03/2016 | D39: =[2]ORÇAMENTO!B33 -> SINAPI | E39: =[2]ORÇAMENTO!E33 -> m | F39: =[2]ORÇAMENTO!F33 -> 16.9 | J39: =[2]ORÇAMENTO!G33*26.63%+[2]ORÇAMENTO!G33 -> 52.184223 | K39: =ROUND(F39*J39,2) -> 881.91
A40: =[2]ORÇAMENTO!A34 -> 2.16 | B40: =[2]ORÇAMENTO!C34 -> 93194 | C40: =[2]ORÇAMENTO!D34 -> CONTRAVERGA PRÉ-MOLDADA PARA VÃOS DE ATÉ 1,5 M DE COMPRIMENTO. AF_03/2016 | D40: =[2]ORÇAMENTO!B34 -> SINAPI | E40: =[2]ORÇAMENTO!E34 -> m | F40: =[2]ORÇAMENTO!F34 -> 16.9 | J40: =[2]ORÇAMENTO!G34*26.63%+[2]ORÇAMENTO!G34 -> 50.322762 | K40: =ROUND(F40*J40,2) -> 850.45
A41: 2.17 | B41: 101616 | C41: PREPARO DE FUNDO DE VALA COM LARGURA MENOR QUE 1,5 M (ACERTO DO SOLO NATURAL). AF_08/2020 | D41: SINAPI | E41: M2 | G41: =[2]MEM!L274 -> 29.88 | I41: =G41 -> 29.88 | J41: ='[2]ITENS NOVOS'!I36 -> 5.18 | L41: =G41*J41 -> 154.7784 | N41: =I41*J41 -> 154.7784
A43: =[2]ORÇAMENTO!A36 -> 3 | C43: =[2]ORÇAMENTO!B36 -> ALVENARIA E VEDAÇÕES
...

Sheet BM_15
C1: BM 15 - Boletim de Medição
B4: ESTADO DA PARAÍBA
B5: PREFEITURA MUNICIPAL DE SOUSA - PB
A6: Objetivo | G6: Agente Promotor | K6: Data de Emissão | L6: Nº BM
A7: CENTRO DE ONCOLOGIA DE SOUSA | G7: PREFEITURA MUNICIPAL DE SOUSA - PB | K7: 44600 | L7: 15
A9: Localização | G9: Contratada | K9: Início da Obra | L9: Termino da Obra
A10: RUA LUIZ PEREIRA DA SILVA, S/N, CENTRO, SOUSA-PB | G10: COMPACTO CONSTRUÇÕES EIRELI - EPP | K10: 44854 | L10: 45219
A12: Modalidade | C12: Nº de Contrato e Data de assinatura | G12: Valor do Contrato / PMS | I12: Valor da medição - R$ | K12: Período de medição
A13: CONCORRÊNCIA 06/2022 | C13: Nº 0701/2022 - 20/10/2022 | G13: =I246 -> 1166128.2 | I13: =J246 -> 85345.09
A16: Itens | B16: Discriminação dos serviços do orçamento | C16: Unid. | D16: Custo Unitário | F16: Quantidade | I16: Financeiro | L16: Desvio (%)
E17: Custo Unitário | F17: Prevista | G17: Medida no período | H17: Acumulada incluindo o período | I17: Prevista | J17: Medida no período | K17: Acumulada incluindo o período
A18: 1 | B18: ='PLANILHA PÓS ADITIVO'!C9 -> SERVIÇOS PRELIMINARES
A19: ='PLANILHA PÓS ADITIVO'!A10 -> 1.1 | B19: ='PLANILHA PÓS ADITIVO'!C10 -> Placa de Obra em chapa de aço galvanizado, instalada - Rev 02 01/2022 | C19: ='PLANILHA PÓS ADITIVO'!E10 -> m² | E19: ='PLANILHA PÓS ADITIVO'!G10 -> 423.12148 | F19: ='PLANILHA PÓS ADITIVO'!F10 -> 4.5 | H19: =G19+[1]BM_14!H19 -> 4.46 | I19: =ROUND(E19*F19,2) -> 1904.05 | J19: =ROUND(E19*G19,2) -> 0 | K19: =ROUND(E19*H19,2) -> 1887.12 | L19: =K19/I19 -> 0.99110843
A20: ='PLANILHA PÓS ADITIVO'!A11 -> 1.2 | B20: ='PLANILHA PÓS ADITIVO'!C11 -> DEMOLIÇÃO DE ALVENARIA DE BLOCOFURADO, DE FORMA MANUAL, SEM REAPROVEITAMENTO | C20: ='PLANILHA PÓS ADITIVO'!E11 -> m³ | E20: ='PLANILHA PÓS ADITIVO'!G11 -> 46.47321 | F20: ='PLANILHA PÓS ADITIVO'!F11 -> 63.41 | H20: =G20+[1]BM_14!H20 -> 49.87 | I20: =ROUND(E20*F20,2) -> 2946.87 | J20: =ROUND(E20*G20,2) -> 0 | K20: =ROUND(E20*H20,2) -> 2317.62 | L20: =K20/I20 -> 0.78646835
A21: ='PLANILHA PÓS ADITIVO'!A12 -> 1.3 | B21: ='PLANILHA PÓS ADITIVO'!C12 -> Demolição de piso de alta resistência | C21: ='PLANILHA PÓS ADITIVO'!E12 -> m² | E21: ='PLANILHA PÓS ADITIVO'!G12 -> 20.817972 | F21: ='PLANILHA PÓS ADITIVO'!F12 -> 774.83 | H21: =G21+[1]BM_14!H21 -> 716.73 | I21: =ROUND(E21*F21,2) -> 16130.39 | J21: =ROUND(E21*G21,2) -> 0 | K21: =ROUND(E21*H21,2) -> 14920.87 | L21: =K21/I21 -> 0.92501607
A22: ='PLANILHA PÓS ADITIVO'!A13 -> 1.4 | B22: ='PLANILHA PÓS ADITIVO'!C13 -> REMOÇÃO DE TRAMA DE MADEIRA PARA COBERTURA, DE FORMA MANUAL, SEM REAPROVEITAMENTO. AF 12/2017 | C22: ='PLANILHA PÓS ADITIVO'!E13 -> m² | E22: ='PLANILHA PÓS ADITIVO'!G13 -> 6.014925 | F22: ='PLANILHA PÓS ADITIVO'!F13 -> 309.93 | H22: =G22+[1]BM_14!H22 -> 175.86 | I22: =ROUND(E22*F22,2) -> 1864.21 | J22: =ROUND(E22*G22,2) -> 0 | K22: =ROUND(E22*H22,2) -> 1057.78 | L22: =K22/I22 -> 0.56741462
A23: ='PLANILHA PÓS ADITIVO'!A14 -> 1.5 | B23: ='PLANILHA PÓS ADITIVO'!C14 -> CARGA, MANOBRA E DESCARGA DE ENTULHO EM CAMINHÃO BASCULANTE 6 M³ - CARGA COM ESCAVADEIRA HIDRÁULICA (CAÇAMBA DE 0,80 M³/111 HP) E DESCARGA LIVRE (UNIDADE: M³). AF 07/2020 | C23: ='PLANILHA PÓS ADITIVO'!E14 -> m³ | E23: ='PLANILHA PÓS ADITIVO'!G14 -> 9.11736 | F23: ='PLANILHA PÓS ADITIVO'!F14 -> 102.15 | H23: =G23+[1]BM_14!H23 -> 102.15 | I23: =ROUND(E23*F23,2) -> 931.34 | J23: =ROUND(E23*G23,2) -> 0 | K23: =ROUND(E23*H23,2) -> 931.34 | L23: =K23/I23 -> 1
A24: ='PLANILHA PÓS ADITIVO'!A15 -> 1.6 | B24: ='PLANILHA PÓS ADITIVO'!C15 -> Remoção de caixão de madeira (aduela) | C24: ='PLANILHA PÓS ADITIVO'!E15 -> un | E24: ='PLANILHA PÓS ADITIVO'!G15 -> 8.09 | F24: ='PLANILHA PÓS ADITIVO'!F15 -> 34 | H24: =G24+[1]BM_14!H24 -> 32 | I24: =ROUND(E24*F24,2) -> 275.06 | J24: =ROUND(E24*G24,2) -> 0 | K24: =ROUND(E24*H24,2) -> 258.88 | L24: =K24/I24 -> 0.94117647
A25: ='PLANILHA PÓS ADITIVO'!A16 -> 1.7 | B25: ='PLANILHA PÓS ADITIVO'!C16 -> REMOÇÃO DE JANELAS, DE FORMA MANUAL, SEM REAPROVEITAMENTO. AF_12/2017 | C25: ='PLANILHA PÓS ADITIVO'!E16 -> M2 | E25: ='PLANILHA PÓS ADITIVO'!G16 -> 29.92 | F25: ='PLANILHA PÓS ADITIVO'!F16 -> 14 | H25: =G25+[1]BM_14!H25 -> 14 | I25: =ROUND(E25*F25,2) -> 418.88 | J25: =ROUND(E25*G25,2) -> 0 | K25: =ROUND(E25*H25,2) -> 418.88 | L25: =K25/I25 -> 1
A26: ='PLANILHA PÓS ADITIVO'!A17 -> 1.8 | B26: ='PLANILHA PÓS ADITIVO'!C17 -> REMOÇÃO DE FORRO DE GESSO, DE FORMA MANUAL, SEM REAPROVEITAMENTO. AF_12/2017 | C26: ='PLANILHA PÓS ADITIVO'!E17 -> M2 | E26: ='PLANILHA PÓS ADITIVO'!G17 -> 4.06 | F26: ='PLANILHA PÓS ADITIVO'!F17 -> 263.82 | H26: =G26+[1]BM_14!H26 -> 130.8 | I26: =ROUND(E26*F26,2) -> 1071.11 | J26: =ROUND(E26*G26,2) -> 0 | K26: =ROUND(E26*H26,2) -> 531.05 | L26: =K26/I26 -> 0.49579408
A27: ='PLANILHA PÓS ADITIVO'!A18 -> 1.9 | B27: ='PLANILHA PÓS ADITIVO'!C18 -> DEMOLIÇÃO DE LAJES, DE FORMA MANUAL, SEM REAPROVEITAMENTO. AF_12/2017 | C27: ='PLANILHA PÓS ADITIVO'!E18 -> M3 | E27: ='PLANILHA PÓS ADITIVO'!G18 -> 229.97 | F27: ='PLANILHA PÓS ADITIVO'!F18 -> 35.364 | H27: =G27+[1]BM_14!H27 -> 28.95 | I27: =ROUND(E27*F27,2) -> 8132.66 | J27: =ROUND(E27*G27,2) -> 0 | K27: =ROUND(E27*H27,2) -> 6657.63 | L27: =K27/I27 -> 0.81862884
A28: ='PLANILHA PÓS ADITIVO'!A19 -> 1.10 | B28: ='PLANILHA PÓS ADITIVO'!C19 -> REMOÇÃO DE TELHAS, DE FIBROCIMENTO, METÁLICA E CERÂMICA, DE FORMA MANUAL, SEM REAPROVEITAMENTO. AF_12/2017 | C28: ='PLANILHA PÓS ADITIVO'!E19 -> M2 | E28: ='PLANILHA PÓS ADITIVO'!G19 -> 2.79 | F28: ='PLANILHA PÓS ADITIVO'!F19 -> 636.84 | H28: =G28+[1]BM_14!H28 -> 636.84 | I28: =ROUND(E28*F28,2) -> 1776.78 | J28: =ROUND(E28*G28,2) -> 0 | K28: =ROUND(E28*H28,2) -> 1776.78 | L28: =K28/I28 -> 1
H29: =G29+[1]BM_14!H29 -> 0
A30: ='PLANILHA PÓS ADITIVO'!A21 -> 2 | B30: ='PLANILHA PÓS ADITIVO'!C21 -> INFRA ESTRUTURA E SUPERESTRUTURA | H30: =G30+[1]BM_14!H30 -> 0
A31: ='PLANILHA PÓS ADITIVO'!A22 -> 2.1 | B31: ='PLANILHA PÓS ADITIVO'!C22 -> ESCAVAÇÃO MANUAL PARA BLOCO DE COROAMENTO OU SAPATA (INCLUINDO ESCAVAÇÃO PARA COLOCAÇÃO DE FÔRMAS). AF_06/2017 | C31: ='PLANILHA PÓS ADITIVO'!E22 -> m³ | E31: ='PLANILHA PÓS ADITIVO'!G22 -> 80.865918 | F31: ='PLANILHA PÓS ADITIVO'!F22 -> 28.86 | H31: =G31+[1]BM_14!H31 -> 28.86 | I31: =ROUND(E31*F31,2) -> 2333.79 | J31: =ROUND(E31*G31,2) -> 0 | K31: =ROUND(E31*H31,2) -> 2333.79 | L31: =K31/I31 -> 1
A32: ='PLANILHA PÓS ADITIVO'!A23 -> 2.2 | B32: ='PLANILHA PÓS ADITIVO'!C23 -> LAJE PRÉ-MOLDADA UNIDIRECIONAL, BIAPOIADA, PARA FORRO, ENCHIMENTO EM CERÂMICA, VIGOTA CONVENCIONAL, ALTURA TOTAL DA LAJE (ENCHIMENTO+CAPA) = (8+3). AF_11/2020 | C32: ='PLANILHA PÓS ADITIVO'!E23 -> m² | E32: ='PLANILHA PÓS ADITIVO'!G23 -> 179.38406 | F32: ='PLANILHA PÓS ADITIVO'!F23 -> 57.88 | H32: =G32+[1]BM_14!H32 -> 55.16 | I32: =ROUND(E32*F32,2) -> 10382.75 | J32: =ROUND(E32*G32,2) -> 0 | K32: =ROUND(E32*H32,2) -> 9894.82 | L32: =K32/I32 -> 0.95300571
A33: ='PLANILHA PÓS ADITIVO'!A24 -> 2.3 | B33: ='PLANILHA PÓS ADITIVO'!C24 -> LASTRO DE CONCRETO MAGRO, APLICADO EM BLOCOS DE COROAMENTO OU SAPATAS, ESPESSURA DE 5 CM. AF_08/2017 | C33: ='PLANILHA PÓS ADITIVO'!E24 -> m² | E33: ='PLANILHA PÓS ADITIVO'!G24 -> 28.808325 | F33: ='PLANILHA PÓS ADITIVO'!F24 -> 19.24 | H33: =G33+[1]BM_14!H33 -> 19.24 | I33: =ROUND(E33*F33,2) -> 554.27 | J33: =ROUND(E33*G33,2) -> 0 | K33: =ROUND(E33*H33,2) -> 554.27 | L33: =K33/I33 -> 1
A34: ='PLANILHA PÓS ADITIVO'!A25 -> 2.4 | B34: ='PLANILHA PÓS ADITIVO'!C25 -> CONCRETO FCK = 25MPA, TRAÇO 1:2,3:2,7 (EM MASSA SECA DE CIMENTO/ AREIA MÉDIA/ BRITA 1) - PREPARO MECÂNICO COM BETONEIRA 600 L. AF_05/2021 | C34: ='PLANILHA PÓS ADITIVO'!E25 -> m³ | E34: ='PLANILHA PÓS ADITIVO'!G25 -> 447.37113 | F34: ='PLANILHA PÓS ADITIVO'!F25 -> 5.8 | H34: =G34+[1]BM_14!H34 -> 5.8 | I34: =ROUND(E34*F34,2) -> 2594.75 | J34: =ROUND(E34*G34,2) -> 0 | K34: =ROUND(E34*H34,2) -> 2594.75 | L34: =K34/I34 -> 1
A35: ='PLANILHA PÓS ADITIVO'!A26 -> 2.5 | B35: ='PLANILHA PÓS ADITIVO'!C26 -> CONCRETO FCK = 30MPA, TRAÇO 1:2,1:2,5 (EM MASSA SECA DE CIMENTO/ AREIA MÉDIA/ BRITA 1) - PREPARO MECÂNICO COM BETONEIRA 600 L. AF_05/2021 | C35: ='PLANILHA PÓS ADITIVO'!E26 -> m³ | E35: ='PLANILHA PÓS ADITIVO'!G26 -> 461.9589 | F35: ='PLANILHA PÓS ADITIVO'!F26 -> 42.3958 | H35: =G35+[1]BM_14!H35 -> 42.2 | I35: =ROUND(E35*F35,2) -> 19585.12 | J35: =ROUND(E35*G35,2) -> 0 | K35: =ROUND(E35*H35,2) -> 19494.67 | L35: =K35/I35 -> 0.9953817
A36: ='PLANILHA PÓS ADITIVO'!A27 -> 2.6 | B36: ='PLANILHA PÓS ADITIVO'!C27 -> LANÇAMENTO COM USO DE BALDES, ADENSAMENTO E ACABAMENTO DE CONCRETO EM ESTRUTURAS. AF_12/2015 | C36: ='PLANILHA PÓS ADITIVO'!E27 -> m³ | E36: ='PLANILHA PÓS ADITIVO'!G27 -> 242.28118 | F36: ='PLANILHA PÓS ADITIVO'!F27 -> 35.9 | H36: =G36+[1]BM_14!H36 -> 35.9 | I36: =ROUND(E36*F36,2) -> 8697.89 | J36: =ROUND(E36*G36,2) -> 0 | K36: =ROUND(E36*H36,2) -> 8697.89 | L36: =K36/I36 -> 1
A37: ='PLANILHA PÓS ADITIVO'!A28 -> 2.7 | B37: ='PLANILHA PÓS ADITIVO'!C28 -> Forma plana para fundações, em tábua de pinho, 07 usos. | C37: ='PLANILHA PÓS ADITIVO'!E28 -> m² | E37: ='PLANILHA PÓS ADITIVO'!G28 -> 82.765368 | F37: ='PLANILHA PÓS ADITIVO'!F28 -> 19.3 | H37: =G37+[1]BM_14!H37 -> 19.3 | I37: =ROUND(E37*F37,2) -> 1597.37 | J37: =ROUND(E37*G37,2) -> 0 | K37: =ROUND(E37*H37,2) -> 1597.37 | L37: =K37/I37 -> 1
A38: ='PLANILHA PÓS ADITIVO'!A29 -> 2.8 | B38: ='PLANILHA PÓS ADITIVO'!C29 -> Forma plana para estruturas, em compensado plastificado de 12mm, 07 usos. | C38: ='PLANILHA PÓS ADITIVO'!E29 -> m² | E38: ='PLANILHA PÓS ADITIVO'!G29 -> 69.874434 | F38: ='PLANILHA PÓS ADITIVO'!F29 -> 421.3 | H38: =G38+[1]BM_14!H38 -> 421.3 | I38: =ROUND(E38*F38,2) -> 29438.1 | J38: =ROUND(E38*G38,2) -> 0 | K38: =ROUND(E38*H38,2) -> 29438.1 | L38: =K38/I38 -> 1
A39: ='PLANILHA PÓS ADITIVO'!A30 -> 2.9 | B39: ='PLANILHA PÓS ADITIVO'!C30 -> ARMAÇÃO DE PILAR OU VIGA DE UMA ESTRUTURA CONVENCIONAL DE CONCRETO ARMADO EM UM EDIFÍCIO DE MÚLTIPLOS PAVIMENTOS UTILIZANDO AÇO CA-50 DE 12,5 MM - MONTAGEM. AF_12/2015 | C39: ='PLANILHA PÓS ADITIVO'!E30 -> kg | E39: ='PLANILHA PÓS ADITIVO'!G30 -> 13.068216 | F39: ='PLANILHA PÓS ADITIVO'!F30 -> 579.35 | H39: =G39+[1]BM_14!H39 -> 579.35 | I39: =ROUND(E39*F39,2) -> 7571.07 | J39: =ROUND(E39*G39,2) -> 0 | K39: =ROUND(E39*H39,2) -> 7571.07 | L39: =K39/I39 -> 1
A40: ='PLANILHA PÓS ADITIVO'!A31 -> 2.10 | B40: ='PLANILHA PÓS ADITIVO'!C31 -> ARMAÇÃO DE PILAR OU VIGA DE UMA ESTRUTURA CONVENCIONAL DE CONCRETO ARMADO EM UM EDIFÍCIO DE MÚLTIPLOS PAVIMENTOS UTILIZANDO AÇO CA-50 DE 10,0 MM - MONTAGEM. AF_12/2015 | C40: ='PLANILHA PÓS ADITIVO'!E31 -> kg | E40: ='PLANILHA PÓS ADITIVO'!G31 -> 15.309567 | F40: ='PLANILHA PÓS ADITIVO'!F31 -> 2054.7723 | H40: =G40+[1]BM_14!H40 -> 2054.77 | I40: =ROUND(E40*F40,2) -> 31457.67 | J40: =ROUND(E40*G40,2) -> 0 | K40: =ROUND(E40*H40,2) -> 31457.64 | L40: =K40/I40 -> 0.99999905
A41: ='PLANILHA PÓS ADITIVO'!A32 -> 2.11 | B41: ='PLANILHA PÓS ADITIVO'!C32 -> ARMAÇÃO DE PILAR OU VIGA DE UMA ESTRUTURA CONVENCIONAL DE CONCRETO ARMADO EM UM EDIFÍCIO DE MÚLTIPLOS PAVIMENTOS UTILIZANDO AÇO CA-50 DE 16,0 MM - MONTAGEM. AF_12/2015 | C41: ='PLANILHA PÓS ADITIVO'!E32 -> kg | E41: ='PLANILHA PÓS ADITIVO'!G32 -> 12.625011 | F41: ='PLANILHA PÓS ADITIVO'!F32 -> 63.1 | H41: =G41+[1]BM_14!H41 -> 0 | I41: =ROUND(E41*F41,2) -> 796.64 | J41: =ROUND(E41*G41,2) -> 0 | K41: =ROUND(E41*H41,2) -> 0 | L41: =K41/I41 -> 0
A42: ='PLANILHA PÓS ADITIVO'!A33 -> 2.12 | B42: ='PLANILHA PÓS ADITIVO'!C33 -> ARMAÇÃO DE PILAR OU VIGA DE UMA ESTRUTURA CONVENCIONAL DE CONCRETO ARMADO EM UM EDIFÍCIO DE MÚLTIPLOS PAVIMENTOS UTILIZANDO AÇO CA-60 DE 5,0 MM - MONTAGEM. AF_12/2015 | C42: ='PLANILHA PÓS ADITIVO'!E33 -> kg | E42: ='PLANILHA PÓS ADITIVO'!G33 -> 17.715537 | F42: ='PLANILHA PÓS ADITIVO'!F33 -> 651.9 | H42: =G42+[1]BM_14!H42 -> 651.9 | I42: =ROUND(E42*F42,2) -> 11548.76 | J42: =ROUND(E42*G42,2) -> 0 | K42: =ROUND(E42*H42,2) -> 11548.76 | L42: =K42/I42 -> 1
... A45: ='PLANILHA PÓS ADITIVO'!A36 -> 2.15 | B45: ='PLANILHA PÓS ADITIVO'!C36 -> VERGA PRÉ-MOLDADA PARA JANELAS COM ATÉ 1,5 M DE VÃO. AF_03/2016 | C45: ='PLANILHA PÓS ADITIVO'!E36 -> m | E45: ='PLANILHA PÓS ADITIVO'!G36 -> 52.184223 | F45: ='PLANILHA PÓS ADITIVO'!F36 -> 16.9 | H45: =G45+[1]BM_14!H45 -> 3.85 | I45: =ROUND(E45*F45,2) -> 881.91 | J45: =ROUND(E45*G45,2) -> 0 | K45: =ROUND(E45*H45,2) -> 200.91 | L45: =K45/I45 -> 0.22781236
A46: ='PLANILHA PÓS ADITIVO'!A37 -> 2.16 | B46: ='PLANILHA PÓS ADITIVO'!C37 -> CONTRAVERGA PRÉ-MOLDADA PARA VÃOS DE ATÉ 1,5 M DE COMPRIMENTO. AF_03/2016 | C46: ='PLANILHA PÓS ADITIVO'!E37 -> m | E46: ='PLANILHA PÓS ADITIVO'!G37 -> 50.322762 | F46: ='PLANILHA PÓS ADITIVO'!F37 -> 16.9 | H46: =G46+[1]BM_14!H46 -> 3.85 | I46: =ROUND(E46*F46,2) -> 850.45 | K46: =ROUND(E46*H46,2) -> 193.74 | L46: =K46/I46 -> 0.22780881
H47: =G47+[1]BM_14!H47 -> 0
A48: ='PLANILHA PÓS ADITIVO'!A39 -> 3 | B48: ='PLANILHA PÓS ADITIVO'!C39 -> ALVENARIA E VEDAÇÕES | H48: =G48+[1]BM_14!H48 -> 0
...

Sheet MEMORIA DE CALCULO
C1: MEMÓRIA DE CÁLCULO - QUANTIDADES
C2: Obra: | H2: Proprietário:
C3: CENTRO DE ONCOLOGIA DE SOUSA | H3: Prefeitura Municipal de Sousa
C4: Local: | H4: Responsável Técnico:
C5: RUA LUIZ PEREIRA DA SILVA, S/N, CENTRO, SOUSA-PB
A7: Item | B7: Descrição | D7: Vez | E7: Dados | K7: Resultado | M7: Un.
E8: X1 | F8: X2 | G8: Y1 | H8: Y2 | I8: Z1 | J8: Z2 | K8: Parcial | L8: Total
N9: OBSERVAÇÕES
A10: 1.0 | B10: =[2]REPROGRAMAÇÃO!C9 -> SERVIÇOS PRELIMINARES
A12: 1.2 | B12: =[4]BM_10!B20 -> DEMOLIÇÃO DE ALVENARIA DE BLOCOFURADO, DE FORMA MANUAL, SEM REAPROVEITAMENTO | L12: =SUM(L14:L24) -> 18.462 | M12: M3
D14: 1 | E14: 0.3 | G14: 0.5 | I14: 0.5 | K14: =E14*G14*I14 -> 0.075 | L14: =K14*D14 -> 0.075
D15: 1 | E15: 0.3 | G15: 0.5 | I15: 0.5 | K15: =E15*G15*I15 -> 0.075 | L15: =K15*D15 -> 0.075
D16: 1 | E16: 0.3 | G16: 0.5 | I16: 0.5 | K16: =E16*G16*I16 -> 0.075 | L16: =K16*D16 -> 0.075
D17: 1 | E17: 2 | G17: 0.5 | I17: 0.3 | K17: =E17*G17*I17 -> 0.3 | L17: =K17*D17 -> 0.3
B18: ENTRADA | D18: 1 | E18: 11.7 | G18: 4.2 | I18: 0.3 | K18: =E18*G18*I18 -> 14.742 | L18: =K18*D18 -> 14.742
D19: 1 | E19: 13 | G19: 0.3 | I19: 0.3 | K19: =E19*G19*I19 -> 1.17 | L19: =K19*D19 -> 1.17
D20: 1 | E20: 9.2 | G20: 0.3 | I20: 0.3 | K20: =E20*G20*I20 -> 0.828 | L20: =K20*D20 -> 0.828
D21: 1 | E21: 0.7 | G21: 0.7 | I21: 0.3 | K21: =E21*G21*I21 -> 0.147 | L21: =K21*D21 -> 0.147
D22: 1 | E22: 0.5 | G22: 0.5 | I22: 0.3 | K22: =E22*G22*I22 -> 0.075 | L22: =K22*D22 -> 0.075
D23: 1 | E23: 0.5 | G23: 0.5 | I23: 0.3 | K23: =E23*G23*I23 -> 0.075 | L23: =K23*D23 -> 0.075
D24: 1 | E24: 2 | G24: 0.3 | I24: 1.5 | K24: =E24*G24*I24 -> 0.9 | L24: =K24*D24 -> 0.9
A26: 2.0 | B26: =[2]REPROGRAMAÇÃO!C25 -> INFRA ESTRUTURA E SUPERESTRUTURA
A28: 2.1 | B28: =[4]BM_10!B31 -> ESCAVAÇÃO MANUAL PARA BLOCO DE COROAMENTO OU SAPATA (INCLUINDO ESCAVAÇÃO PARA COLOCAÇÃO DE FÔRMAS). AF_06/2017 | L28: =SUM(L31:L39) -> 18.1935 | M28: M3
B30: PILAR FACHADA
B31: S53 | D31: 1 | E31: 0.6 | G31: 0.85 | I31: 1.8 | K31: =E31*G31*I31 -> 0.918 | L31: =D31*K31 -> 0.918
B32: S54 | D32: 1 | E32: 0.9 | G32: 1 | I32: 1.8 | K32: =E32*G32*I32 -> 1.62 | L32: =D32*K32 -> 1.62
B33: S55 | D33: 1 | E33: 1.2 | G33: 0.9 | I33: 1.8 | K33: =E33*G33*I33 -> 1.944 | L33: =D33*K33 -> 1.944
B34: S56 | D34: 1 | E34: 1.15 | G34: 1 | I34: 1.8 | K34: =E34*G34*I34 -> 2.07 | L34: =D34*K34 -> 2.07
B35: S57 | D35: 1 | E35: 1.1 | G35: 1.25 | I35: 1.8 | K35: =E35*G35*I35 -> 2.475 | L35: =D35*K35 -> 2.475
B36: S58 | D36: 1 | E36: 0.6 | G36: 0.85 | I36: 1.8 | K36: =E36*G36*I36 -> 0.918 | L36: =D36*K36 -> 0.918
B37: S59 | D37: 1 | E37: 1.5 | G37: 1.3 | I37: 1.8 | K37: =E37*G37*I37 -> 3.51 | L37: =D37*K37 -> 3.51
B38: S60 | D38: 1 | E38: 1.15 | G38: 1.35 | I38: 1.8 | K38: =E38*G38*I38 -> 2.7945 | L38: =D38*K38 -> 2.7945
B39: S64 | D39: 1 | E39: 1.2 | G39: 0.9 | I39: 1.8 | K39: =E39*G39*I39 -> 1.944 | L39: =D39*K39 -> 1.944
A41: 2.2 | B41: =[4]BM_10!B32 -> LAJE PRÉ-MOLDADA UNIDIRECIONAL, BIAPOIADA, PARA FORRO, ENCHIMENTO EM CERÂMICA, VIGOTA CONVENCIONAL, ALTURA TOTAL DA LAJE (ENCHIMENTO+CAPA) = (8+3). AF_11/2020 | L41: =SUM(L43) -> 55.16 | M41: M3
B43: FACHADA | D43: 1 | E43: 39.4 | G43: 1.4 | K43: =E43*G43 -> 55.16 | L43: =K43*D43 -> 55.16
A45: 2.3 | B45: =[4]BM_10!B33 -> LASTRO DE CONCRETO MAGRO, APLICADO EM BLOCOS DE COROAMENTO OU SAPATAS, ESPESSURA DE 5 CM. AF_08/2017 | L45: =SUM(L48:L56) -> 10.1075 | M45: M2
B47: PILAR FACHADA
B48: S53 | D48: 1 | E48: 0.6 | G48: 0.85 | K48: =E48*G48 -> 0.51 | L48: =D48*K48 -> 0.51
B49: S54 | D49: 1 | E49: 0.9 | G49: 1 | K49: =E49*G49 -> 0.9 | L49: =D49*K49 -> 0.9
B50: S55 | D50: 1 | E50: 1.2 | G50: 0.9 | K50: =E50*G50 -> 1.08 | L50: =D50*K50 -> 1.08
...

Sheet RELATORIO FOTO
A1: ESTADO DA PARAÍBA | C1: BM 15 - RELATÓRIO FOTOGRÁFICO
A6: Objetivo | G6: Agente Promotor | K6: Data de Emissão | L6: Nº BM
A7: CENTRO DE ONCOLOGIA DE SOUSA | G7: PREFEITURA MUNICIPAL DE SOUSA - PB | K7: 44600 | L7: 15

Sheet RELATÓRIO FOTOGRÁFICO
A1: ESTADO DA PARAÍBA | C1: BM 10 - RELATÓRIO FOTOGRÁFICO
A6: Objetivo | G6: Agente Promotor | K6: Data de Emissão | L6: Nº BM
A7: CENTRO DE ONCOLOGIA DE SOUSA | G7: PREFEITURA MUNICIPAL DE SOUSA - PB | K7: 44600 | L7: 10
A9: Localização | G9: Contratada | K9: Início da Obra | L9: Termino da Obra
A10: RUA LUIZ PEREIRA DA SILVA, S/N, CENTRO, SOUSA-PB | G10: COMPACTO CONSTRUÇÕES EIRELI - EPP | K10: 44854 | L10: 45219
A12: Modalidade | C12: Nº de Contrato e Data de assinatura
A13: CONCORRÊNCIA 06/2022 | C13: Nº 0701/2022 - 20/10/2022

Sheet MEM
C1: MEMÓRIA DE CÁLCULO - QUANTIDADES
C2: Obra: | H2: Proprietário:
C3: CENTRO DE ONCOLOGIA DE SOUSA | H3: Prefeitura Municipal de Sousa
C4: Local: | H4: Responsável Técnico:
C5: RUA LUIZ PEREIRA DA SILVA, S/N, CENTRO, SOUSA-PB
A7: Item | B7: Descrição | D7: Vez | E7: Dados | K7: Resultado | M7: Un.
E8: X1 | F8: X2 | G8: Y1 | H8: Y2 | I8: Z1 | J8: Z2 | K8: Parcial | L8: Total
A10: 1.0 | B10: =[2]REPROGRAMAÇÃO!C9 -> SERVIÇOS PRELIMINARES
A12: 1.2 | B12: =BM_15!B20 -> DEMOLIÇÃO DE ALVENARIA DE BLOCOFURADO, DE FORMA MANUAL, SEM REAPROVEITAMENTO | L12: =SUM(L14:L24) -> 18.462 | M12: M3
D14: 1 | E14: 0.3 | G14: 0.5 | I14: 0.5 | K14: =E14*G14*I14 -> 0.075 | L14: =K14*D14 -> 0.075
D15: 1 | E15: 0.3 | G15: 0.5 | I15: 0.5 | K15: =E15*G15*I15 -> 0.075 | L15: =K15*D15 -> 0.075
D16: 1 | E16: 0.3 | G16: 0.5 | I16: 0.5 | K16: =E16*G16*I16 -> 0.075 | L16: =K16*D16 -> 0.075
D17: 1 | E17: 2 | G17: 0.5 | I17: 0.3 | K17: =E17*G17*I17 -> 0.3 | L17: =K17*D17 -> 0.3
B18: ENTRADA | D18: 1 | E18: 11.7 | G18: 4.2 | I18: 0.3 | K18: =E18*G18*I18 -> 14.742 | L18: =K18*D18 -> 14.742
D19: 1 | E19: 13 | G19: 0.3 | I19: 0.3 | K19: =E19*G19*I19 -> 1.17 | L19: =K19*D19 -> 1.17
D20: 1 | E20: 9.2 | G20: 0.3 | I20: 0.3 | K20: =E20*G20*I20 -> 0.828 | L20: =K20*D20 -> 0.828
D21: 1 | E21: 0.7 | G21: 0.7 | I21: 0.3 | K21: =E21*G21*I21 -> 0.147 | L21: =K21*D21 -> 0.147
D22: 1 | E22: 0.5 | G22: 0.5 | I22: 0.3 | K22: =E22*G22*I22 -> 0.075 | L22: =K22*D22 -> 0.075
D23: 1 | E23: 0.5 | G23: 0.5 | I23: 0.3 | K23: =E23*G23*I23 -> 0.075 | L23: =K23*D23 -> 0.075
D24: 1 | E24: 2 | G24: 0.3 | I24: 1.5 | K24: =E24*G24*I24 -> 0.9 | L24: =K24*D24 -> 0.9
A26: 2.0 | B26: =[2]REPROGRAMAÇÃO!C25 -> INFRA ESTRUTURA E SUPERESTRUTURA
A28: 2.1 | B28: =BM_15!B31 -> ESCAVAÇÃO MANUAL PARA BLOCO DE COROAMENTO OU SAPATA (INCLUINDO ESCAVAÇÃO PARA COLOCAÇÃO DE FÔRMAS). AF_06/2017 | L28: =SUM(L31:L39) -> 18.1935 | M28: M3
B30: PILAR FACHADA
B31: S53 | D31: 1 | E31: 0.6 | G31: 0.85 | I31: 1.8 | K31: =E31*G31*I31 -> 0.918 | L31: =D31*K31 -> 0.918
B32: S54 | D32: 1 | E32: 0.9 | G32: 1 | I32: 1.8 | K32: =E32*G32*I32 -> 1.62 | L32: =D32*K32 -> 1.62
B33: S55 | D33: 1 | E33: 1.2 | G33: 0.9 | I33: 1.8 | K33: =E33*G33*I33 -> 1.944 | L33: =D33*K33 -> 1.944
B34: S56 | D34: 1 | E34: 1.15 | G34: 1 | I34: 1.8 | K34: =E34*G34*I34 -> 2.07 | L34: =D34*K34 -> 2.07
B35: S57 | D35: 1 | E35: 1.1 | G35: 1.25 | I35: 1.8 | K35: =E35*G35*I35 -> 2.475 | L35: =D35*K35 -> 2.475
B36: S58 | D36: 1 | E36: 0.6 | G36: 0.85 | I36: 1.8 | K36: =E36*G36*I36 -> 0.918 | L36: =D36*K36 -> 0.918
B37: S59 | D37: 1 | E37: 1.5 | G37: 1.3 | I37: 1.8 | K37: =E37*G37*I37 -> 3.51 | L37: =D37*K37 -> 3.51
B38: S60 | D38: 1 | E38: 1.15 | G38: 1.35 | I38: 1.8 | K38: =E38*G38*I38 -> 2.7945 | L38: =D38*K38 -> 2.7945
B39: S64 | D39: 1 | E39: 1.2 | G39: 0.9 | I39: 1.8 | K39: =E39*G39*I39 -> 1.944 | L39: =D39*K39 -> 1.944
A41: 2.2 | B41: =BM_15!B32 -> LAJE PRÉ-MOLDADA UNIDIRECIONAL, BIAPOIADA, PARA FORRO, ENCHIMENTO EM CERÂMICA, VIGOTA CONVENCIONAL, ALTURA TOTAL DA LAJE (ENCHIMENTO+CAPA) = (8+3). AF_11/2020 | L41: =SUM(L43) -> 55.16 | M41: M3
B43: FACHADA | D43: 1 | E43: 39.4 | G43: 1.4 | K43: =E43*G43 -> 55.16 | L43: =K43*D43 -> 55.16
A45: 2.3 | B45: =BM_15!B33 -> LASTRO DE CONCRETO MAGRO, APLICADO EM BLOCOS DE COROAMENTO OU SAPATAS, ESPESSURA DE 5 CM. AF_08/2017 | L45: =SUM(L48:L56) -> 10.1075 | M45: M2
B47: PILAR FACHADA
B48: S53 | D48: 1 | E48: 0.6 | G48: 0.85 | K48: =E48*G48 -> 0.51 | L48: =D48*K48 -> 0.51
B49: S54 | D49: 1 | E49: 0.9 | G49: 1 | K49: =E49*G49 -> 0.9 | L49: =D49*K49 -> 0.9
B50: S55 | D50: 1 | E50: 1.2 | G50: 0.9 | K50: =E50*G50 -> 1.08 | L50: =D50*K50 -> 1.08
B51: S56 | D51: 1 | E51: 1.15 | G51: 1 | K51: =E51*G51 -> 1.15 | L51: =D51*K51 -> 1.15
...

Sheet BM10
A1: BM 10
A3: VIDROS | G3: PINTURA E EMASSAMENTO EXTERNO
A5: JANELAS BOCA DE LOBO | B5: 0.5 | C5: 0.5 | D5: 16 | E5: =B5*C5*D5 -> 4 | G5: PERGOLADO | H5: 19.9 | I5: 4.3 | J5: =I5*H5 -> 85.57
A6: PERGOLADO CORREDOR ESQ | B6: 5.75 | E6: =B6 -> 5.75 | G6: CAIXA DAGUA | H6: 12.2 | I6: 2 | J6: =I6*H6 -> 24.4
A7: PERGOLADO CX DAGUA | B7: 6.78 | E7: =B7 -> 6.78 | G7: CAIXA DAGUA | H7: 7.6 | I7: 1.7 | J7: =I7*H7 -> 12.92
A8: PERGOLADO FIXO | B8: 7.22 | E8: =B8 -> 7.22 | G8: CAIXA DAGUA | H8: 9.6 | I8: 2 | J8: =I8*H8 -> 19.2
G9: ENTRADA CENTRAL AR | H9: 15 | I9: 4.1 | J9: =I9*H9 -> 61.5
A10: FORRO | G10: ENTRADA CENTRAL AR | H10: 1.6 | I10: 2.8 | J10: =I10*H10 -> 4.48
G11: ENTRADA CENTRAL AR | H11: 5.1 | I11: 2.8 | J11: =I11*H11 -> 14.28
A12: SALA OBSERVAÇÃO | B12: 4.2 | C12: 3.9 | E12: =B12*C12 -> 16.38 | G12: LATERAL CENTRO OFTALMO | H12: 16 | I12: 3.4 | J12: =I12*H12 -> 54.4
A13: WC | B13: 4.2 | C13: 1.6 | E13: =C13*B13 -> 6.72 | G13: LATERAL CENTRO OFTALMO | H13: 11.8 | I13: 5.8 | J13: =I13*H13 -> 68.44
A14: SALA OBSERVAÇÃO | B14: 5.25 | C14: 3.9 | E14: =C14*B14 -> 20.475 | G14: LATERAL ESCOLA | H14: 8 | I14: 4.8 | J14: =I14*H14 -> 38.4
A15: WC | B15: 5.25 | C15: 1.55 | E15: =C15*B15 -> 8.1375 | G15: LATERAL ESCOLA | H15: 15.1 | I15: 4.8 | J15: =I15*H15 -> 72.48
A16: COLETA SANGUE | B16: 5.2 | C16: 3.5 | E16: =C16*B16 -> 18.2 | G16: SAPATA | H16: 10.5 | I16: 0.5 | J16: =I16*H16 -> 5.25
A17: PEQUENOS PROCEDIMENTOS | B17: 5.7 | C17: 7.4 | E17: =C17*B17 -> 42.18 | G17: ESCADA LATER DIREITA | H17: 4.5 | I17: 0.6 | J17: =I17*H17 -> 2.7
A18: WC FEM | B18: 2 | C18: 2.3 | E18: =C18*B18 -> 4.6 | G18: ESCADA LATER ESQUERDA | H18: 4.5 | I18: 0.6 | J18: =I18*H18 -> 2.7
A19: WC MASC | B19: 2 | C19: 2.55 | E19: =C19*B19 -> 5.1 | G19: CANTEIRO DIREITO | H19: 8 | I19: 0.6 | J19: =I19*H19 -> 4.8
A20: RADIOLOGIA | B20: 4.5 | C20: 5.2 | E20: =C20*B20 -> 23.4 | G20: CANTEIRO DIREITO | H20: 8 | I20: 0.8 | J20: =I20*H20 -> 6.4
A21: TROCADOR | B21: 1.9 | C21: 1 | E21: =C21*B21 -> 1.9 | G21: CANTEIRO DIREITO | H21: 3 | I21: 0.2 | J21: =I21*H21 -> 0.6
A22: SALA COMANDO | B22: 4.4 | C22: 1.5 | E22: =C22*B22 -> 6.6 | G22: CANTEIRO PE CAJARANA | H22: 0.85 | I22: 5.8 | J22: =I22*H22 -> 4.93
A23: CORREDOR EM FRENTE PEQ PROCEDIMENTOS | B23: 17 | C23: 2.1 | E23: =C23*B23 -> 35.7 | G23: CANTEIRO ESQUERDO | H23: 10.4 | I23: 0.72 | J23: =I23*H23 -> 7.488
A24: POSTO ENFERMAGEM | B24: 4.6 | C24: 2.9 | E24: =C24*B24 -> 13.34 | G24: CANTEIRO ESQUERDO | H24: 10.4 | I24: 0.8 | J24: =I24*H24 -> 8.32
A25: FARMACIA | B25: 3.3 | C25: 1.8 | E25: =C25*B25 -> 5.94 | G25: CANTEIRO ESQUERDO | H25: 7 | I25: 0.6 | J25: =I25*H25 -> 4.2
A26: SALA UTILIDADES | B26: 1.45 | C26: 2.1 | E26: =C26*B26 -> 3.045 | J26: =SUM(J5:J25) -> 503.458
A27: WC FEM | B27: 1.8 | C27: 1.45 | E27: =C27*B27 -> 2.61
A28: WC MASC | B28: 1 | C28: 1.96 | E28: =C28*B28 -> 1.96
A29: QUARTO EMBAIXO CAIXA DAGUA | B29: 4.4 | C29: 3.2 | E29: =C29*B29 -> 14.08
A30: LAVAGEM CARROS | B30: 7 | C30: 3.3 | E30: =C30*B30 -> 23.1 | G30: EMASSAMENTO INTERNO
E31: =SUM(E12:E30) -> 253.4675
G32: RECEPÇÃO PRINCIPAL | H32: 46 | I32: 2.7 | J32: =I32*H32 -> 124.2
A33: REVESTIMENTO EXTERNO | G33: RECEPÇÃO PRINCIPAL | H33: 10 | I33: 1 | J33: =I33*H33 -> 10
G34: PERGOLADO | H34: 3.7 | I34: 1 | J34: =I34*H34 -> 3.7
A35: PAREDE FRONTAL | B35: 5 | C35: 10.5 | D35: =C35*B35 -> 52.5 | G35: PAREDE VIZINHA RECEP -PERGOLADO | H35: 12.9 | I35: 2.7 | J35: =I35*H35 -> 34.83
A36: PAREDE FRONTAL | B36: 4.2 | C36: 0.81 | D36: =C36*B36 -> 3.402 | G36: ASSISTENTE SOCIAL | H36: 11.75 | I36: 2.7 | J36: =I36*H36 -> 31.725
A37: PAREDE FRONTAL | B37: 4.2 | C37: 2.42 | D37: =C37*B37 -> 10.164 | G37: CORREDOR DIR RECEP | H37: 26.4 | I37: 2.7 | J37: =I37*H37 -> 71.28
A38: PAREDE FRONTAL | B38: 1.7 | C38: 2.72 | D38: =C38*B38 -> 4.624 | G38: RADIOLOGIA E TROCADOR | H38: 26.8 | I38: 2.7 | J38: =I38*H38 -> 72.36
A39: PAREDE FRONTAL | B39: 1.5 | C39: 5.85 | D39: =C39*B39 -> 8.775 | G39: SALA DE COMANDO | H39: 10.9 | I39: 2.7 | J39: =I39*H39 -> 29.43
A40: PAREDE FRONTAL | B40: 4.2 | C40: 2.78 | D40: =C40*B40 -> 11.676 | G40: PEQUENOS PROCEDIM | H40: 24.7 | I40: 2.7 | J40: =I40*H40 -> 66.69
A41: PAREDE FRONTAL | B41: 3.48 | C41: 6 | D41: =C41*B41 -> 20.88 | G41: SALA EM FRENTE A PEQUENOS PROCED | H41: 31 | I41: 2.7 | J41: =I41*H41 -> 83.7
D42: =SUM(D35:D41) -> 112.021 | G42: COLETA SANGUE | H42: 16.1 | I42: 2.7 | J42: =I42*H42 -> 43.47
...

Sheet BM09
A1: BM 09 ONCOLOGIA
I2: TELHA DE FIBROCIMENTO | L2: ok
C3: 17.4 | D3: CORRIMAO ESQUERDO | F3: ok | I3: 23 | J3: 7.5 | K3: =J3*I3 -> 172.5 | L3: PARTE ESQUERDA
C4: 21.9 | D4: CORRIMAO DIREITO | I4: 8.9 | J4: 2.4 | K4: =J4*I4 -> 21.36 | L4: AO LADO PARTE ESQUERDA
C5: =SUM(C3:C4) -> 39.3 | I5: 1.3 | J5: 2.5 | K5: =J5*I5 -> 3.25 | L5: AO LADO PARTE ESQUERDA
K6: =SUM(K3:K5) -> 197.11
C8: 4.9 | D8: CALHA DE ZINCO | E8: ok | I8: TRAMA DE MADEIRA P FIBROCIMENTO | M8: ok
C9: 9.6 | D9: CALHA DE ZINCO | E9: parede anterior ao corredor
C10: 4.6 | D10: CALHA DE ZINCO | E10: ao lado do corrdedor | I10: 23 | J10: 7.5 | K10: =J10*I10 -> 172.5 | L10: PARTE ESQUERDA
C11: 28.8 | D11: CALHA DE ZINCO GRANDE | I11: 8.9 | J11: 2.4 | K11: =J11*I11 -> 21.36 | L11: AO LADO PARTE ESQUERDA
C12: 8.9 | D12: CALHA LATERAL | I12: 1.3 | J12: 2.5 | K12: =J12*I12 -> 3.25 | L12: AO LADO PARTE ESQUERDA
C13: 5 | D13: CALHA ESTRUTURA ACM | K13: =SUM(K10:K12) -> 197.11
C14: 2.5 | D14: CALHA DE ZINCO PEQUENA
C15: =SUM(C8:C14) -> 64.3 | I15: TELHA CANAL
I17: 28.8 | J17: 7 | K17: =J17*I17 -> 201.6 | L17: TELHA RECEPÇÃO NOVO
B18: REVESTIMENTO | D18: ok
I19: TRAMA MADEIRA P TELHA CANAL
A20: 2.7 | B20: =SUM(5.6,0.8) -> 6.4 | C20: =B20*A20 -> 17.28 | D20: WC RECEPÇÃO PRINCIPAL
A21: 2.7 | B21: =7.42+0.8 -> 8.22 | C21: =B21*A21 -> 22.194 | D21: WC PNE | I21: 28.8 | J21: 7 | K21: =J21*I21 -> 201.6 | L21: TELHA RECEPÇÃO NOVO
A22: 2.7 | B22: =8.1+0.8 -> 8.9 | C22: =B22*A22 -> 24.03 | D22: WC FEM
A23: 2.7 | B23: 8.8 | C23: =B23*A23 -> 23.76 | D23: WC MASC | I23: ACM
A24: 2.7 | B24: 6.6 | C24: =B24*A24 -> 17.82 | D24: WC ASSIST. SOCIAL
A25: 2.7 | B25: 5.9 | C25: =B25*A25 -> 15.93 | D25: WC DIRETORIA | J25: 13.63 | K25: 5.5 | L25: =K25*J25 -> 74.965 | M25: ESTRUTURA METALICA
A26: 2.7 | B26: =8.55+0.8 -> 9.35 | C26: =B26*A26 -> 25.245 | D26: WC VEST FEM | I26: 0.3 | J26: 6 | K26: 6 | L26: =K26*J26*I26 -> 10.8 | M26: PILARES
A27: 2.7 | B27: =8.35+0.8 -> 9.15 | C27: =B27*A27 -> 24.705 | D27: WC VEST MASC | L27: =SUM(L25:L26) -> 85.765
A28: 2.7 | B28: 8.92 | C28: =B28*A28 -> 24.084 | D28: WC QUIMIOTERAPIA
A29: 2.7 | B29: 8.8 | C29: =B29*A29 -> 23.76 | D29: WC FISIOTERAPIA | I29: TELHADO ZINCADO
A30: 2.7 | B30: =7.52+0.8 -> 8.32 | C30: =B30*A30 -> 22.464 | D30: WC FEM- UTILIDADES
A31: 2.7 | B31: =7.52+0.8 -> 8.32 | C31: =B31*A31 -> 22.464 | D31: WC MASC- UTILIDADES | I31: 12.63 | J31: 5 | K31: =J31*I31 -> 63.15 | L31: COBERTA ACM
A32: 2.7 | B32: =12.55+0.8 -> 13.35 | C32: =B32*A32 -> 36.045 | D32: WC SALA OBSERVAÇÃO
A33: 2.7 | B33: =12.53+0.8 -> 13.33 | C33: =B33*A33 -> 35.991 | D33: WC SALA OBSERVAÇÃO
A34: 2.7 | B34: =6.25+0.8 -> 7.05 | C34: =B34*A34 -> 19.035 | D34: SALA UTILIDADES | I34: FERRAGEM
A35: 2.7 | B35: =6.04+0.8 -> 6.84 | C35: =B35*A35 -> 18.468 | D35: WC FEM
A36: 2.7 | B36: =5.15+0.8 -> 5.95 | C36: =B36*A36 -> 16.065 | D36: WC MASC | I36: 0.5 | J36: 5 | K36: =J36*I36 -> 2.5 | L36: BORDA LATERAL
C37: =SUM(C20:C36) -> 389.34 | I37: 0.5 | J37: 5 | K37: =J37*I37 -> 2.5 | L37: BORDA LATERAL
I38: 12.63 | J38: 0.5 | K38: =J38*I38 -> 6.315 | L38: BORDA FRONTAL
B39: FORRO | C39: ok | I39: 12.63 | J39: 5 | K39: =J39*I39 -> 63.15 | L39: COBERTA
I40: 1.22 | J40: 6 | K40: =J40*I40 -> 7.32 | L40: PILARES
A41: 4.47 | B41: 4.1 | C41: =B41*A41 -> 18.327 | D41: RECEPÇÃO PRINCIPAL | I41: 1.22 | J41: 6 | K41: =J41*I41 -> 7.32 | L41: PILARES
A42: 2.5 | B42: 2 | C42: =B42*A42 -> 5 | D42: RECEPÇÃO PRINCIPAL | I42: 1.22 | J42: 6 | K42: =J42*I42 -> 7.32 | L42: PILARES
...

Sheet PLANILHA PÓS ADITIVO
A1: ESTADO DA PARAÍBA
A2: PREFEITURA MUNICIPAL DE SOUSA
A3: TOMADA DE PREÇO - CONTRATO Nº
A4: OBRA : CENTRO DE ONCOLOGIA DE SOUSA
A6: PLANILHA ORÇAMENTÁRIA
A7: ITEM | B7: REFERÊNCIA | C7: DESCRIÇÃO DOS SERVIÇOS | D7: ORIGEM | E7: UND. | F7: QUANTIDADES | G7: PREÇO UNITÁRIO COM BDI | H7: PREÇO TOTAL R$
I8: %
C9: =[5]ORÇAMENTO!B11 -> SERVIÇOS PRELIMINARES
A10: =[5]ORÇAMENTO!A12 -> 1.1 | B10: =[5]ORÇAMENTO!C12 -> 51 | C10: =[5]ORÇAMENTO!D12 -> Placa de Obra em chapa de aço galvanizado, instalada - Rev 02 01/2022 | D10: =[5]ORÇAMENTO!B12 -> ORSE | E10: =[5]ORÇAMENTO!E12 -> m² | F10: 4.5 | G10: 423.12148 | H10: =F10*G10 -> 1904.0467 | I10: =H10/$H$237 -> 0.0016327936
A11: =[5]ORÇAMENTO!A13 -> 1.2 | B11: =[5]ORÇAMENTO!C13 -> 97622 | C11: =[5]ORÇAMENTO!D13 -> DEMOLIÇÃO DE ALVENARIA DE BLOCOFURADO, DE FORMA MANUAL, SEM REAPROVEITAMENTO | D11: =[5]ORÇAMENTO!B13 -> SINAPI | E11: =[5]ORÇAMENTO!E13 -> m³ | F11: 63.41 | G11: 46.47321 | H11: =F11*G11 -> 2946.8662 | I11: =H11/$H$237 -> 0.0025270517
A12: =[5]ORÇAMENTO!A14 -> 1.3 | B12: =[5]ORÇAMENTO!C14 -> 3240 | C12: =[5]ORÇAMENTO!D14 -> Demolição de piso de alta resistência | D12: =[5]ORÇAMENTO!B14 -> ORSE | E12: =[5]ORÇAMENTO!E14 -> m² | F12: 774.83 | G12: 20.817972 | H12: =F12*G12 -> 16130.389 | I12: =H12/$H$237 -> 0.013832432
A13: =[5]ORÇAMENTO!A15 -> 1.4 | B13: =[5]ORÇAMENTO!C15 -> 97650 | C13: =[5]ORÇAMENTO!D15 -> REMOÇÃO DE TRAMA DE MADEIRA PARA COBERTURA, DE FORMA MANUAL, SEM REAPROVEITAMENTO. AF 12/2017 | D13: =[5]ORÇAMENTO!B15 -> SINAPI | E13: =[5]ORÇAMENTO!E15 -> m² | F13: 309.93 | G13: 6.014925 | H13: =F13*G13 -> 1864.2057 | I13: =H13/$H$237 -> 0.0015986284
A14: =[5]ORÇAMENTO!A16 -> 1.5 | B14: =[5]ORÇAMENTO!C16 -> 100981 | C14: =[5]ORÇAMENTO!D16 -> CARGA, MANOBRA E DESCARGA DE ENTULHO EM CAMINHÃO BASCULANTE 6 M³ - CARGA COM ESCAVADEIRA HIDRÁULICA (CAÇAMBA DE 0,80 M³/111 HP) E DESCARGA LIVRE (UNIDADE: M³). AF 07/2020 | D14: =[5]ORÇAMENTO!B16 -> SINAPI | E14: =[5]ORÇAMENTO!E16 -> m³ | F14: 102.15 | G14: 9.11736 | H14: =F14*G14 -> 931.33832 | I14: =H14/$H$237 -> 0.00079865859
A15: 1.6 | B15: 3141 | C15: Remoção de caixão de madeira (aduela) | D15: ORSE | E15: un | F15: 34 | G15: ='[5]ITENS NOVOS'!I9 -> 8.09 | H15: =F15*G15 -> 275.06 | I15: =H15/$H$237 -> 0.00023587458
A16: 1.7 | B16: 97645 | C16: REMOÇÃO DE JANELAS, DE FORMA MANUAL, SEM REAPROVEITAMENTO. AF_12/2017 | D16: SINAPI | E16: M2 | F16: 14 | G16: ='[5]ITENS NOVOS'!I10 -> 29.92 | H16: =F16*G16 -> 418.88 | I16: =H16/$H$237 -> 0.00035920578
A17: 1.8 | B17: 97641 | C17: REMOÇÃO DE FORRO DE GESSO, DE FORMA MANUAL, SEM REAPROVEITAMENTO. AF_12/2017 | D17: SINAPI | E17: M2 | F17: 263.82 | G17: ='[5]ITENS NOVOS'!I11 -> 4.06 | H17: =F17*G17 -> 1071.1092 | I17: =H17/$H$237 -> 0.00091851752
A18: 1.9 | B18: 97628 | C18: DEMOLIÇÃO DE LAJES, DE FORMA MANUAL, SEM REAPROVEITAMENTO. AF_12/2017 | D18: SINAPI | E18: M3 | F18: 35.364 | G18: ='[5]ITENS NOVOS'!I12 -> 229.97 | H18: =F18*G18 -> 8132.6591 | I18: =H18/$H$237 -> 0.0069740694
A19: 1.10 | B19: 97647 | C19: REMOÇÃO DE TELHAS, DE FIBROCIMENTO, METÁLICA E CERÂMICA, DE FORMA MANUAL, SEM REAPROVEITAMENTO. AF_12/2017 | D19: SINAPI | E19: M2 | F19: 636.84 | G19: ='[5]ITENS NOVOS'!I15 -> 2.79 | H19: =F19*G19 -> 1776.7836 | I19: =H19/$H$237 -> 0.0015236606
F20: 0 | H20: =F20*G20 -> 0 | I20: =H20/$H$237 -> 0
A21: =[5]ORÇAMENTO!A18 -> 2 | C21: =[5]ORÇAMENTO!B18 -> INFRA ESTRUTURA E SUPERESTRUTURA | F21: 0 | H21: =F21*G21 -> 0 | I21: =H21/$H$237 -> 0
A22: =[5]ORÇAMENTO!A19 -> 2.1 | B22: =[5]ORÇAMENTO!C19 -> 96523 | C22: =[5]ORÇAMENTO!D19 -> ESCAVAÇÃO MANUAL PARA BLOCO DE COROAMENTO OU SAPATA (INCLUINDO ESCAVAÇÃO PARA COLOCAÇÃO DE FÔRMAS). AF_06/2017 | D22: =[5]ORÇAMENTO!B19 -> SINAPI | E22: =[5]ORÇAMENTO!E19 -> m³ | F22: 28.86 | G22: 80.865918 | H22: =F22*G22 -> 2333.7904 | I22: =H22/$H$237 -> 0.0020013154
A23: =[5]ORÇAMENTO!A20 -> 2.2 | B23: =[5]ORÇAMENTO!C20 -> 101964 | C23: =[5]ORÇAMENTO!D20 -> LAJE PRÉ-MOLDADA UNIDIRECIONAL, BIAPOIADA, PARA FORRO, ENCHIMENTO EM CERÂMICA, VIGOTA CONVENCIONAL, ALTURA TOTAL DA LAJE (ENCHIMENTO+CAPA) = (8+3). AF_11/2020 | D23: =[5]ORÇAMENTO!B20 -> SINAPI | E23: =[5]ORÇAMENTO!E20 -> m² | F23: 57.88 | G23: 179.38406 | H23: =F23*G23 -> 10382.749 | I23: =H23/$H$237 -> 0.0089036086
A24: =[5]ORÇAMENTO!A21 -> 2.3 | B24: =[5]ORÇAMENTO!C21 -> 96619 | C24: =[5]ORÇAMENTO!D21 -> LASTRO DE CONCRETO MAGRO, APLICADO EM BLOCOS DE COROAMENTO OU SAPATAS, ESPESSURA DE 5 CM. AF_08/2017 | D24: =[5]ORÇAMENTO!B21 -> SINAPI | E24: =[5]ORÇAMENTO!E21 -> m² | F24: 19.24 | G24: 28.808325 | H24: =F24*G24 -> 554.27217 | I24: =H24/$H$237 -> 0.0004753098
A25: =[5]ORÇAMENTO!A22 -> 2.4 | B25: =[5]ORÇAMENTO!C22 -> 94971 | C25: =[5]ORÇAMENTO!D22 -> CONCRETO FCK = 25MPA, TRAÇO 1:2,3:2,7 (EM MASSA SECA DE CIMENTO/ AREIA MÉDIA/ BRITA 1) - PREPARO MECÂNICO COM BETONEIRA 600 L. AF_05/2021 | D25: =[5]ORÇAMENTO!B22 -> SINAPI | E25: =[5]ORÇAMENTO!E22 -> m³ | F25: 5.8 | G25: 447.37113 | H25: =F25*G25 -> 2594.7525 | I25: =H25/$H$237 -> 0.0022251005
A26: =[5]ORÇAMENTO!A23 -> 2.5 | B26: =[5]ORÇAMENTO!C23 -> 94972 | C26: =[5]ORÇAMENTO!D23 -> CONCRETO FCK = 30MPA, TRAÇO 1:2,1:2,5 (EM MASSA SECA DE CIMENTO/ AREIA MÉDIA/ BRITA 1) - PREPARO MECÂNICO COM BETONEIRA 600 L. AF_05/2021 | D26: =[5]ORÇAMENTO!B23 -> SINAPI | E26: =[5]ORÇAMENTO!E23 -> m³ | F26: 42.3958 | G26: 461.9589 | H26: =F26*G26 -> 19585.117 | I26: =H26/$H$237 -> 0.016794995
A27: =[5]ORÇAMENTO!A24 -> 2.6 | B27: =[5]ORÇAMENTO!C24 -> 92873 | C27: =[5]ORÇAMENTO!D24 -> LANÇAMENTO COM USO DE BALDES, ADENSAMENTO E ACABAMENTO DE CONCRETO EM ESTRUTURAS. AF_12/2015 | D27: =[5]ORÇAMENTO!B24 -> SINAPI | E27: =[5]ORÇAMENTO!E24 -> m³ | F27: 35.9 | G27: 242.28118 | H27: =F27*G27 -> 8697.8943 | I27: =H27/$H$237 -> 0.0074587804
A28: =[5]ORÇAMENTO!A25 -> 2.7 | B28: =[5]ORÇAMENTO!C25 -> 90 | C28: =[5]ORÇAMENTO!D25 -> Forma plana para fundações, em tábua de pinho, 07 usos. | D28: =[5]ORÇAMENTO!B25 -> ORSE | E28: =[5]ORÇAMENTO!E25 -> m² | F28: 19.3 | G28: 82.765368 | H28: =F28*G28 -> 1597.3716 | I28: =H28/$H$237 -> 0.0013698079
A29: =[5]ORÇAMENTO!A26 -> 2.8 | B29: =[5]ORÇAMENTO!C26 -> 3366 | C29: =[5]ORÇAMENTO!D26 -> Forma plana para estruturas, em compensado plastificado de 12mm, 07 usos. | D29: =[5]ORÇAMENTO!B26 -> ORSE | E29: =[5]ORÇAMENTO!E26 -> m² | F29: 421.3 | G29: 69.874434 | H29: =F29*G29 -> 29438.099 | I29: =H29/$H$237 -> 0.025244307
A30: =[5]ORÇAMENTO!A27 -> 2.9 | B30: =[5]ORÇAMENTO!C27 -> 92763 | C30: =[5]ORÇAMENTO!D27 -> ARMAÇÃO DE PILAR OU VIGA DE UMA ESTRUTURA CONVENCIONAL DE CONCRETO ARMADO EM UM EDIFÍCIO DE MÚLTIPLOS PAVIMENTOS UTILIZANDO AÇO CA-50 DE 12,5 MM - MONTAGEM. AF_12/2015 | D30: =[5]ORÇAMENTO!B27 -> SINAPI | E30: =[5]ORÇAMENTO!E27 -> kg | F30: 579.35 | G30: 13.068216 | H30: =F30*G30 -> 7571.0709 | I30: =H30/$H$237 -> 0.0064924858
A31: =[5]ORÇAMENTO!A28 -> 2.10 | B31: =[5]ORÇAMENTO!C28 -> 92762 | C31: =[5]ORÇAMENTO!D28 -> ARMAÇÃO DE PILAR OU VIGA DE UMA ESTRUTURA CONVENCIONAL DE CONCRETO ARMADO EM UM EDIFÍCIO DE MÚLTIPLOS PAVIMENTOS UTILIZANDO AÇO CA-50 DE 10,0 MM - MONTAGEM. AF_12/2015 | D31: =[5]ORÇAMENTO!B28 -> SINAPI | E31: =[5]ORÇAMENTO!E28 -> kg | F31: 2054.7723 | G31: 15.309567 | H31: =F31*G31 -> 31457.674 | I31: =H31/$H$237 -> 0.02697617
A32: =[5]ORÇAMENTO!A29 -> 2.11 | B32: =[5]ORÇAMENTO!C29 -> 92764 | C32: =[5]ORÇAMENTO!D29 -> ARMAÇÃO DE PILAR OU VIGA DE UMA ESTRUTURA CONVENCIONAL DE CONCRETO ARMADO EM UM EDIFÍCIO DE MÚLTIPLOS PAVIMENTOS UTILIZANDO AÇO CA-50 DE 16,0 MM - MONTAGEM. AF_12/2015 | D32: =[5]ORÇAMENTO!B29 -> SINAPI | E32: =[5]ORÇAMENTO!E29 -> kg | F32: 63.1 | G32: 12.625011 | H32: =F32*G32 -> 796.63819 | I32: =H32/$H$237 -> 0.00068314803
A33: =[5]ORÇAMENTO!A30 -> 2.12 | B33: =[5]ORÇAMENTO!C30 -> 92759 | C33: =[5]ORÇAMENTO!D30 -> ARMAÇÃO DE PILAR OU VIGA DE UMA ESTRUTURA CONVENCIONAL DE CONCRETO ARMADO EM UM EDIFÍCIO DE MÚLTIPLOS PAVIMENTOS UTILIZANDO AÇO CA-60 DE 5,0 MM - MONTAGEM. AF_12/2015 | D33: =[5]ORÇAMENTO!B30 -> SINAPI | E33: =[5]ORÇAMENTO!E30 -> kg | F33: 651.9 | G33: 17.715537 | H33: =F33*G33 -> 11548.759 | I33: =H33/$H$237 -> 0.0099035066
... A37: =[5]ORÇAMENTO!A34 -> 2.16 | B37: =[5]ORÇAMENTO!C34 -> 93194 | C37: =[5]ORÇAMENTO!D34 -> CONTRAVERGA PRÉ-MOLDADA PARA VÃOS DE ATÉ 1,5 M DE COMPRIMENTO. AF_03/2016 | D37: =[5]ORÇAMENTO!B34 -> SINAPI | E37: =[5]ORÇAMENTO!E34 -> m | F37: 16.9 | G37: 50.322762 | H37: =F37*G37 -> 850.45468 | I37: =H37/$H$237 -> 0.00072929774
F38: 0 | H38: =F38*G38 -> 0 | I38: =H38/$H$237 -> 0
A39: =[5]ORÇAMENTO!A36 -> 3 | C39: =[5]ORÇAMENTO!B36 -> ALVENARIA E VEDAÇÕES | F39: 0 | H39: =F39*G39 -> 0 | I39: =H39/$H$237 -> 0
A40: =[5]ORÇAMENTO!A37 -> 3.1 | B40: =[5]ORÇAMENTO!C37 -> 103326 | C40: =[3]ORÇAMENTO!$AD$36 -> ALVENARIA DE VEDAÇÃO DE BLOCOS CERÂMICOS FURADOS NA HORIZONTAL DE 9X19X19 CM (ESPESSURA 9 CM) E ARGAMASSA DE ASSENTAMENTO COM PREPARO EM BETONEIRA. | D40: =[5]ORÇAMENTO!B37 -> SINAPI | E40: =[5]ORÇAMENTO!E37 -> m² | F40: 448.75 | G40: 78.459948 | H40: =F40*G40 -> 35208.902 | I40: =H40/$H$237 -> 0.030192993
A41: =[5]ORÇAMENTO!A38 -> 3.2 | B41: =[5]ORÇAMENTO!C38 -> 191 | C41: =[5]ORÇAMENTO!D38 -> Divisória em granito cinza andorinha polido, e=2cm, inclusive com montagem em ferragem - Rev 02. | D41: =[5]ORÇAMENTO!B38 -> ORSE | E41: =[5]ORÇAMENTO!E38 -> m² | F41: 6.66 | G41: 712.59766 | H41: =F41*G41 -> 4745.9004 | I41: =H41/$H$237 -> 0.004069793
A42: 3.3 | B42: C0074 | C42: ALVENARIA DE TIJOLO CERÂMICO FURADO (9x19x19)cm C/ARGAMASSA MISTA DE CAL HIDRATADA ESP=20 cm | D42: SEINFRA | E42: M2 | F42: 81.843 | G42: ='[5]ITENS NOVOS'!I17 -> 128.24 | H42: =F42*G42 -> 10495.546 | I42: =H42/$H$237 -> 0.0090003365
F43: 0 | H43: =F43*G43 -> 0 | I43: =H43/$H$237 -> 0
A44: =[5]ORÇAMENTO!A40 -> 4 | C44: =[5]ORÇAMENTO!B40 -> IMPERMEABILIZAÇÕES | F44: 0 | H44: =F44*G44 -> 0 | I44: =H44/$H$237 -> 0
...

Sheet MEM_
C1: MEMÓRIA DE CÁLCULO - QUANTIDADES
C2: Obra: | H2: Proprietário:
C3: CENTRO DE ONCOLOGIA DE SOUSA | H3: Prefeitura Municipal de Sousa
C4: Local: | H4: Responsável Técnico:
C5: RUA LUIZ PEREIRA DA SILVA, S/N, CENTRO, SOUSA-PB
A7: Item | B7: Descrição | D7: Vez | E7: Dados | K7: Resultado | M7: Un.
E8: X1 | F8: X2 | G8: Y1 | H8: Y2 | I8: Z1 | J8: Z2 | K8: Parcial | L8: Total
B10: SERVIÇOS PRELIMINARES
A12: 1.3 | B12: =BM_15!B21 -> Demolição de piso de alta resistência | M12: M2
F13: BANHEIRO | H13: BANHEIRO | K13: TOTAL= | L13: =SUM(L16:L40) -> 736.73
K14: ACUMULADO | L14: 608.61
K15: BM06= | L15: =L13-L14 -> 128.12
B16: PEQUENOS PROCEDIMENTO | D16: 1 | E16: 5.2 | G16: 5.6 | K16: =(E16*G16)+(F16*H16) -> 29.12 | L16: =K16*D16 -> 29.12
B17: SALA DE COLETA | D17: 1 | E17: 5.2 | G17: 5.6 | K17: =(E17*G17)+(F17*H17) -> 29.12 | L17: =K17*D17 -> 29.12
B18: SALA DE OBSERVAÇÃO | D18: 1 | E18: 5.2 | G18: 5.6 | K18: =(E18*G18)+(F18*H18) -> 29.12 | L18: =K18*D18 -> 29.12
B19: SALA DE OBSERVAÇÃO | D19: 1 | E19: 5.2 | G19: 5.6 | K19: =(E19*G19)+(F19*H19) -> 29.12 | L19: =K19*D19 -> 29.12
B20: CIRCULAÇÃO ESQUEDA | D20: 1 | E20: 2 | G20: 20 | K20: =(E20*G20)+(F20*H20) -> 40 | L20: =K20*D20 -> 40
B21: CIRCULAÇÃO ATRAS | D21: 1 | E21: 2 | G21: 34.7 | K21: =(E21*G21)+(F21*H21) -> 69.4 | L21: =K21*D21 -> 69.4
K22: =(E22*G22)+(F22*H22) -> 0 | L22: =K22*D22 -> 0
B23: SALA DE TELEMEDICINA | D23: 1 | E23: 4.3 | G23: 3 | K23: =(E23*G23)+(F23*H23) -> 12.9 | L23: =K23*D23 -> 12.9
B24: SALA DE QUIMIOTERAPIA | D24: 1 | E24: 8.7 | G24: 6 | K24: =(E24*G24)+(F24*H24) -> 52.2 | L24: =K24*D24 -> 52.2
B25: SALA FISIOTERAPIA | D25: 1 | E25: 7.5 | G25: 4 | K25: =(E25*G25)+(F25*H25) -> 30 | L25: =K25*D25 -> 30
